BEGIN:VCALENDAR
VERSION:2.0
PRODID:-//Epworth UMC - ECPv6.15.20//NONSGML v1.0//EN
CALSCALE:GREGORIAN
METHOD:PUBLISH
X-ORIGINAL-URL:https://epworth.faith
X-WR-CALDESC:Events for Epworth UMC
REFRESH-INTERVAL;VALUE=DURATION:PT1H
X-Robots-Tag:noindex
X-PUBLISHED-TTL:PT1H
BEGIN:VTIMEZONE
TZID:America/New_York
BEGIN:DAYLIGHT
TZOFFSETFROM:-0500
TZOFFSETTO:-0400
TZNAME:EDT
DTSTART:20230312T070000
END:DAYLIGHT
BEGIN:STANDARD
TZOFFSETFROM:-0400
TZOFFSETTO:-0500
TZNAME:EST
DTSTART:20231105T060000
END:STANDARD
BEGIN:DAYLIGHT
TZOFFSETFROM:-0500
TZOFFSETTO:-0400
TZNAME:EDT
DTSTART:20240310T070000
END:DAYLIGHT
BEGIN:STANDARD
TZOFFSETFROM:-0400
TZOFFSETTO:-0500
TZNAME:EST
DTSTART:20241103T060000
END:STANDARD
BEGIN:DAYLIGHT
TZOFFSETFROM:-0500
TZOFFSETTO:-0400
TZNAME:EDT
DTSTART:20250309T070000
END:DAYLIGHT
BEGIN:STANDARD
TZOFFSETFROM:-0400
TZOFFSETTO:-0500
TZNAME:EST
DTSTART:20251102T060000
END:STANDARD
END:VTIMEZONE
BEGIN:VEVENT
DTSTART;TZID=America/New_York:20241030T100000
DTEND;TZID=America/New_York:20241030T120000
DTSTAMP:20260426T003016
CREATED:20240509T205948Z
LAST-MODIFIED:20240509T205948Z
UID:10013423-1730282400-1730289600@epworth.faith
SUMMARY:Sisters in Christ Bible Study (Starnes Room)
DESCRIPTION:
URL:https://epworth.faith/event/sisters-in-christ-bible-study-starnes-room/2024-10-30/
LOCATION:Epworth United Methodist Church\, 19285 Holland Glade Road\, Rehoboth Beach\, DE\, 19971\, United States
CATEGORIES:Church,Groups
ORGANIZER;CN="Susan Jimenez":MAILTO:saj19971@gmail.com
END:VEVENT
BEGIN:VEVENT
DTSTART;TZID=America/New_York:20241030T180000
DTEND;TZID=America/New_York:20241030T190000
DTSTAMP:20260426T003016
CREATED:20231211T213445Z
LAST-MODIFIED:20231211T213445Z
UID:10011442-1730311200-1730314800@epworth.faith
SUMMARY:OA (Branford Lounge)
DESCRIPTION:
URL:https://epworth.faith/event/oa-branford-lounge/2024-10-30/
LOCATION:Epworth United Methodist Church\, 19285 Holland Glade Road\, Rehoboth Beach\, DE\, 19971\, United States
CATEGORIES:Facility Rentals,Neighborhood/Community Groups
ORGANIZER;CN="Gail Tarlecky":MAILTO:gr8fulgail@comcast.net
END:VEVENT
BEGIN:VEVENT
DTSTART;TZID=America/New_York:20241030T180000
DTEND;TZID=America/New_York:20241030T190000
DTSTAMP:20260426T003016
CREATED:20231212T170539Z
LAST-MODIFIED:20231212T170539Z
UID:10011866-1730311200-1730314800@epworth.faith
SUMMARY:Memorial Bells Practice (Music Wing)
DESCRIPTION:
URL:https://epworth.faith/event/memorial-bells-practice-music-wing-2/2024-10-30/
LOCATION:Epworth United Methodist Church\, 19285 Holland Glade Road\, Rehoboth Beach\, DE\, 19971\, United States
CATEGORIES:Church,Music
ORGANIZER;CN="Doug Yetter":MAILTO:dyetter@epworth.faith
END:VEVENT
BEGIN:VEVENT
DTSTART;TZID=America/New_York:20241030T190000
DTEND;TZID=America/New_York:20241030T200000
DTSTAMP:20260426T003016
CREATED:20231212T170718Z
LAST-MODIFIED:20231212T170718Z
UID:10011917-1730314800-1730318400@epworth.faith
SUMMARY:Chancel Choir Practice (Music Wing)
DESCRIPTION:
URL:https://epworth.faith/event/chancel-choir-practice-music-wing-2/2024-10-30/
LOCATION:DE
CATEGORIES:Church,Music
END:VEVENT
BEGIN:VEVENT
DTSTART;TZID=America/New_York:20241030T190000
DTEND;TZID=America/New_York:20241030T203000
DTSTAMP:20260426T003016
CREATED:20240509T210555Z
LAST-MODIFIED:20241003T202427Z
UID:10013459-1730314800-1730320200@epworth.faith
SUMMARY:Duer Small Group Book Study (Starnes Room)
DESCRIPTION:
URL:https://epworth.faith/event/duer-small-group-book-study-starnes-room/2024-10-30/
LOCATION:Epworth United Methodist Church\, 19285 Holland Glade Road\, Rehoboth Beach\, DE\, 19971\, United States
CATEGORIES:Church,Groups
ORGANIZER;CN="Robin Duer":MAILTO:beachrobin12@aol.com
END:VEVENT
END:VCALENDAR