BEGIN:VCALENDAR
VERSION:2.0
PRODID:-//Epworth UMC - ECPv6.15.20//NONSGML v1.0//EN
CALSCALE:GREGORIAN
METHOD:PUBLISH
X-WR-CALNAME:Epworth UMC
X-ORIGINAL-URL:https://epworth.faith
X-WR-CALDESC:Events for Epworth UMC
REFRESH-INTERVAL;VALUE=DURATION:PT1H
X-Robots-Tag:noindex
X-PUBLISHED-TTL:PT1H
BEGIN:VTIMEZONE
TZID:America/New_York
BEGIN:DAYLIGHT
TZOFFSETFROM:-0500
TZOFFSETTO:-0400
TZNAME:EDT
DTSTART:20230312T070000
END:DAYLIGHT
BEGIN:STANDARD
TZOFFSETFROM:-0400
TZOFFSETTO:-0500
TZNAME:EST
DTSTART:20231105T060000
END:STANDARD
BEGIN:DAYLIGHT
TZOFFSETFROM:-0500
TZOFFSETTO:-0400
TZNAME:EDT
DTSTART:20240310T070000
END:DAYLIGHT
BEGIN:STANDARD
TZOFFSETFROM:-0400
TZOFFSETTO:-0500
TZNAME:EST
DTSTART:20241103T060000
END:STANDARD
BEGIN:DAYLIGHT
TZOFFSETFROM:-0500
TZOFFSETTO:-0400
TZNAME:EDT
DTSTART:20250309T070000
END:DAYLIGHT
BEGIN:STANDARD
TZOFFSETFROM:-0400
TZOFFSETTO:-0500
TZNAME:EST
DTSTART:20251102T060000
END:STANDARD
END:VTIMEZONE
BEGIN:VEVENT
DTSTART;TZID=America/New_York:20241111T130000
DTEND;TZID=America/New_York:20241111T150000
DTSTAMP:20260425T225505
CREATED:20240108T164955Z
LAST-MODIFIED:20240108T164955Z
UID:10012124-1731330000-1731337200@epworth.faith
SUMMARY:WINGS (Baker Lounge)
DESCRIPTION:
URL:https://epworth.faith/event/wings-baker-lounge-5/2024-11-11/
LOCATION:Epworth United Methodist Church\, 19285 Holland Glade Road\, Rehoboth Beach\, DE\, 19971\, United States
CATEGORIES:Church,Groups
ORGANIZER;CN="Nancy Almacy":MAILTO:nalmacy@gmail.com
END:VEVENT
BEGIN:VEVENT
DTSTART;TZID=America/New_York:20241111T170000
DTEND;TZID=America/New_York:20241111T180000
DTSTAMP:20260425T225505
CREATED:20231211T172903Z
LAST-MODIFIED:20231211T172903Z
UID:10011237-1731344400-1731348000@epworth.faith
SUMMARY:ALANON Newcomers (Bakers Lounge)
DESCRIPTION:
URL:https://epworth.faith/event/alanon-newcomers-bakers-lounge/2024-11-11/
LOCATION:Epworth United Methodist Church\, 19285 Holland Glade Road\, Rehoboth Beach\, DE\, 19971\, United States
CATEGORIES:Facility Rentals,Neighborhood/Community Groups
END:VEVENT
BEGIN:VEVENT
DTSTART;TZID=America/New_York:20241111T170000
DTEND;TZID=America/New_York:20241111T193000
DTSTAMP:20260425T225505
CREATED:20240610T131354Z
LAST-MODIFIED:20241016T165502Z
UID:10013566-1731344400-1731353400@epworth.faith
SUMMARY:Kiva Club (Youth Room)
DESCRIPTION:
URL:https://epworth.faith/event/kiva-club-youth-room-4/
LOCATION:Epworth United Methodist Church\, 19285 Holland Glade Road\, Rehoboth Beach\, DE\, 19971\, United States
CATEGORIES:Church,Groups
ORGANIZER;CN="Jackie Shockley":MAILTO:jacshock@aol.com
END:VEVENT
BEGIN:VEVENT
DTSTART;TZID=America/New_York:20241111T180000
DTEND;TZID=America/New_York:20241111T180000
DTSTAMP:20260425T225505
CREATED:20231211T223614Z
LAST-MODIFIED:20231211T223614Z
UID:10011699-1731348000-1731348000@epworth.faith
SUMMARY:ALANON (Branford Lounge)
DESCRIPTION:
URL:https://epworth.faith/event/alanon-branford-lounge-3/2024-11-11/
LOCATION:Epworth United Methodist Church\, 19285 Holland Glade Road\, Rehoboth Beach\, DE\, 19971\, United States
CATEGORIES:Facility Rentals,Neighborhood/Community Groups
END:VEVENT
END:VCALENDAR