BEGIN:VCALENDAR
VERSION:2.0
PRODID:-//Epworth UMC - ECPv6.15.20//NONSGML v1.0//EN
CALSCALE:GREGORIAN
METHOD:PUBLISH
X-WR-CALNAME:Epworth UMC
X-ORIGINAL-URL:https://epworth.faith
X-WR-CALDESC:Events for Epworth UMC
REFRESH-INTERVAL;VALUE=DURATION:PT1H
X-Robots-Tag:noindex
X-PUBLISHED-TTL:PT1H
BEGIN:VTIMEZONE
TZID:America/New_York
BEGIN:DAYLIGHT
TZOFFSETFROM:-0500
TZOFFSETTO:-0400
TZNAME:EDT
DTSTART:20230312T070000
END:DAYLIGHT
BEGIN:STANDARD
TZOFFSETFROM:-0400
TZOFFSETTO:-0500
TZNAME:EST
DTSTART:20231105T060000
END:STANDARD
BEGIN:DAYLIGHT
TZOFFSETFROM:-0500
TZOFFSETTO:-0400
TZNAME:EDT
DTSTART:20240310T070000
END:DAYLIGHT
BEGIN:STANDARD
TZOFFSETFROM:-0400
TZOFFSETTO:-0500
TZNAME:EST
DTSTART:20241103T060000
END:STANDARD
BEGIN:DAYLIGHT
TZOFFSETFROM:-0500
TZOFFSETTO:-0400
TZNAME:EDT
DTSTART:20250309T070000
END:DAYLIGHT
BEGIN:STANDARD
TZOFFSETFROM:-0400
TZOFFSETTO:-0500
TZNAME:EST
DTSTART:20251102T060000
END:STANDARD
END:VTIMEZONE
BEGIN:VEVENT
DTSTART;TZID=America/New_York:20241212T100000
DTEND;TZID=America/New_York:20241212T113000
DTSTAMP:20260425T211400
CREATED:20240807T181916Z
LAST-MODIFIED:20240918T142911Z
UID:10014639-1733997600-1734003000@epworth.faith
SUMMARY:Parkinson Voice Project Choir (Music Room)
DESCRIPTION:
URL:https://epworth.faith/event/parkinson-voice-project-choir-music-room/2024-12-12/
LOCATION:Epworth United Methodist Church\, 19285 Holland Glade Road\, Rehoboth Beach\, DE\, 19971\, United States
CATEGORIES:Church,Groups
ORGANIZER;CN="Doug Yetter":MAILTO:dyetter@epworth.faith
END:VEVENT
BEGIN:VEVENT
DTSTART;TZID=America/New_York:20241212T100000
DTEND;TZID=America/New_York:20241212T140000
DTSTAMP:20260425T211400
CREATED:20240725T162505Z
LAST-MODIFIED:20240725T162505Z
UID:10013991-1733997600-1734012000@epworth.faith
SUMMARY:Sussex Technical High School Winter Concert Rehearsal (Sanctuary)
DESCRIPTION:
URL:https://epworth.faith/event/sussex-technical-high-school-winter-concert-rehearsal-sanctuary/
LOCATION:Epworth United Methodist Church\, 19285 Holland Glade Road\, Rehoboth Beach\, DE\, 19971\, United States
CATEGORIES:Church,Concerts,Facility Rentals
ORGANIZER;CN="Sarah Rose":MAILTO:Sarah.Rose@sussexvt.k12.de.us
END:VEVENT
BEGIN:VEVENT
DTSTART;TZID=America/New_York:20241212T120000
DTEND;TZID=America/New_York:20241212T130000
DTSTAMP:20260425T211400
CREATED:20231211T214627Z
LAST-MODIFIED:20231211T214627Z
UID:10011499-1734004800-1734008400@epworth.faith
SUMMARY:ALANON (Branford Lounge)
DESCRIPTION:
URL:https://epworth.faith/event/alanon-branford-lounge-2/2024-12-12/
LOCATION:Epworth United Methodist Church\, 19285 Holland Glade Road\, Rehoboth Beach\, DE\, 19971\, United States
CATEGORIES:Facility Rentals,Neighborhood/Community Groups
END:VEVENT
BEGIN:VEVENT
DTSTART;TZID=America/New_York:20241212T183000
DTEND;TZID=America/New_York:20241212T193000
DTSTAMP:20260425T211400
CREATED:20231212T171029Z
LAST-MODIFIED:20231212T171029Z
UID:10011979-1734028200-1734031800@epworth.faith
SUMMARY:Praise Team Practice (Sanctuary)
DESCRIPTION:
URL:https://epworth.faith/event/praise-team-practice-sanctuary-4/2024-12-12/
LOCATION:Epworth United Methodist Church\, 19285 Holland Glade Road\, Rehoboth Beach\, DE\, 19971\, United States
CATEGORIES:Church,Music
ORGANIZER;CN="Doug Yetter":MAILTO:dyetter@epworth.faith
END:VEVENT
BEGIN:VEVENT
DTSTART;TZID=America/New_York:20241212T193000
DTEND;TZID=America/New_York:20241212T203000
DTSTAMP:20260425T211400
CREATED:20231214T170139Z
LAST-MODIFIED:20231214T170223Z
UID:10012032-1734031800-1734035400@epworth.faith
SUMMARY:AA Meeting (Baker Lounge)
DESCRIPTION:
URL:https://epworth.faith/event/aa-meeting-baker-lounge/2024-12-12/
LOCATION:Epworth United Methodist Church\, 19285 Holland Glade Road\, Rehoboth Beach\, DE\, 19971\, United States
CATEGORIES:Church,Facility Rentals
ORGANIZER;CN="Chip Seale":MAILTO:prftbdy4ever@gmail.com
END:VEVENT
END:VCALENDAR