BEGIN:VCALENDAR
VERSION:2.0
PRODID:-//Epworth UMC - ECPv6.15.20//NONSGML v1.0//EN
CALSCALE:GREGORIAN
METHOD:PUBLISH
X-ORIGINAL-URL:https://epworth.faith
X-WR-CALDESC:Events for Epworth UMC
REFRESH-INTERVAL;VALUE=DURATION:PT1H
X-Robots-Tag:noindex
X-PUBLISHED-TTL:PT1H
BEGIN:VTIMEZONE
TZID:America/New_York
BEGIN:DAYLIGHT
TZOFFSETFROM:-0500
TZOFFSETTO:-0400
TZNAME:EDT
DTSTART:20240310T070000
END:DAYLIGHT
BEGIN:STANDARD
TZOFFSETFROM:-0400
TZOFFSETTO:-0500
TZNAME:EST
DTSTART:20241103T060000
END:STANDARD
BEGIN:DAYLIGHT
TZOFFSETFROM:-0500
TZOFFSETTO:-0400
TZNAME:EDT
DTSTART:20250309T070000
END:DAYLIGHT
BEGIN:STANDARD
TZOFFSETFROM:-0400
TZOFFSETTO:-0500
TZNAME:EST
DTSTART:20251102T060000
END:STANDARD
BEGIN:DAYLIGHT
TZOFFSETFROM:-0500
TZOFFSETTO:-0400
TZNAME:EDT
DTSTART:20260308T070000
END:DAYLIGHT
BEGIN:STANDARD
TZOFFSETFROM:-0400
TZOFFSETTO:-0500
TZNAME:EST
DTSTART:20261101T060000
END:STANDARD
END:VTIMEZONE
BEGIN:VEVENT
DTSTART;TZID=America/New_York:20250122T090000
DTEND;TZID=America/New_York:20250122T160000
DTSTAMP:20260425T174944
CREATED:20250115T173731Z
LAST-MODIFIED:20250115T173731Z
UID:10015361-1737536400-1737561600@epworth.faith
SUMMARY:MSA Installation (Sanctuary)
DESCRIPTION:
URL:https://epworth.faith/event/msa-installation-sanctuary/2025-01-22/
LOCATION:DE
CATEGORIES:Church
END:VEVENT
BEGIN:VEVENT
DTSTART;TZID=America/New_York:20250122T100000
DTEND;TZID=America/New_York:20250122T120000
DTSTAMP:20260425T174944
CREATED:20240509T205948Z
LAST-MODIFIED:20240509T205948Z
UID:10013435-1737540000-1737547200@epworth.faith
SUMMARY:Sisters in Christ Bible Study (Starnes Room)
DESCRIPTION:
URL:https://epworth.faith/event/sisters-in-christ-bible-study-starnes-room/2025-01-22/
LOCATION:Epworth United Methodist Church\, 19285 Holland Glade Road\, Rehoboth Beach\, DE\, 19971\, United States
CATEGORIES:Church,Groups
ORGANIZER;CN="Susan Jimenez":MAILTO:saj19971@gmail.com
END:VEVENT
BEGIN:VEVENT
DTSTART;TZID=America/New_York:20250122T130000
DTEND;TZID=America/New_York:20250122T150000
DTSTAMP:20260425T174944
CREATED:20240228T155528Z
LAST-MODIFIED:20240228T155528Z
UID:10012344-1737550800-1737558000@epworth.faith
SUMMARY:Card Making Group (Branford Lounge)
DESCRIPTION:
URL:https://epworth.faith/event/card-making-group-branford-lounge-21/
LOCATION:Epworth United Methodist Church\, 19285 Holland Glade Road\, Rehoboth Beach\, DE\, 19971\, United States
CATEGORIES:Church,Groups
ORGANIZER;CN="Mickie McManamon":MAILTO:mmcmanamon@epworth.faith
END:VEVENT
BEGIN:VEVENT
DTSTART;TZID=America/New_York:20250122T130000
DTEND;TZID=America/New_York:20250122T150000
DTSTAMP:20260425T174944
CREATED:20250109T161156Z
LAST-MODIFIED:20250109T161156Z
UID:10015333-1737550800-1737558000@epworth.faith
SUMMARY:Moms Demand Action (Starnes Room)
DESCRIPTION:
URL:https://epworth.faith/event/moms-demand-action-starnes-room-9/
LOCATION:Epworth United Methodist Church\, 19285 Holland Glade Road\, Rehoboth Beach\, DE\, 19971\, United States
CATEGORIES:Church,Groups
END:VEVENT
BEGIN:VEVENT
DTSTART;TZID=America/New_York:20250122T173000
DTEND;TZID=America/New_York:20250122T183000
DTSTAMP:20260425T174944
CREATED:20250116T215324Z
LAST-MODIFIED:20250528T122635Z
UID:10016577-1737567000-1737570600@epworth.faith
SUMMARY:Memorial Bells Practice (Music Room)
DESCRIPTION:
URL:https://epworth.faith/event/memorial-bells-practice-music-room/2025-01-22/
LOCATION:Epworth United Methodist Church\, 19285 Holland Glade Road\, Rehoboth Beach\, DE\, 19971\, United States
CATEGORIES:Church,Music
ORGANIZER;CN="Doug Yetter":MAILTO:dyetter@epworth.faith
END:VEVENT
BEGIN:VEVENT
DTSTART;TZID=America/New_York:20250122T190000
DTEND;TZID=America/New_York:20250122T200000
DTSTAMP:20260425T174944
CREATED:20231212T170718Z
LAST-MODIFIED:20231212T170718Z
UID:10011929-1737572400-1737576000@epworth.faith
SUMMARY:Chancel Choir Practice (Music Wing)
DESCRIPTION:
URL:https://epworth.faith/event/chancel-choir-practice-music-wing-2/2025-01-22/
LOCATION:DE
CATEGORIES:Church,Music
END:VEVENT
END:VCALENDAR