BEGIN:VCALENDAR
VERSION:2.0
PRODID:-//Epworth UMC - ECPv6.15.20//NONSGML v1.0//EN
CALSCALE:GREGORIAN
METHOD:PUBLISH
X-WR-CALNAME:Epworth UMC
X-ORIGINAL-URL:https://epworth.faith
X-WR-CALDESC:Events for Epworth UMC
REFRESH-INTERVAL;VALUE=DURATION:PT1H
X-Robots-Tag:noindex
X-PUBLISHED-TTL:PT1H
BEGIN:VTIMEZONE
TZID:America/New_York
BEGIN:DAYLIGHT
TZOFFSETFROM:-0500
TZOFFSETTO:-0400
TZNAME:EDT
DTSTART:20240310T070000
END:DAYLIGHT
BEGIN:STANDARD
TZOFFSETFROM:-0400
TZOFFSETTO:-0500
TZNAME:EST
DTSTART:20241103T060000
END:STANDARD
BEGIN:DAYLIGHT
TZOFFSETFROM:-0500
TZOFFSETTO:-0400
TZNAME:EDT
DTSTART:20250309T070000
END:DAYLIGHT
BEGIN:STANDARD
TZOFFSETFROM:-0400
TZOFFSETTO:-0500
TZNAME:EST
DTSTART:20251102T060000
END:STANDARD
BEGIN:DAYLIGHT
TZOFFSETFROM:-0500
TZOFFSETTO:-0400
TZNAME:EDT
DTSTART:20260308T070000
END:DAYLIGHT
BEGIN:STANDARD
TZOFFSETFROM:-0400
TZOFFSETTO:-0500
TZNAME:EST
DTSTART:20261101T060000
END:STANDARD
END:VTIMEZONE
BEGIN:VEVENT
DTSTART;TZID=America/New_York:20250426T090000
DTEND;TZID=America/New_York:20250426T100000
DTSTAMP:20260425T174755
CREATED:20240905T122704Z
LAST-MODIFIED:20251023T150523Z
UID:10014489-1745658000-1745661600@epworth.faith
SUMMARY:ACA Meeting (Baker Room)
DESCRIPTION:
URL:https://epworth.faith/event/aca-meeting-baker-room/2025-04-26/
LOCATION:Epworth United Methodist Church\, 19285 Holland Glade Road\, Rehoboth Beach\, DE\, 19971\, United States
CATEGORIES:Church,Groups
END:VEVENT
BEGIN:VEVENT
DTSTART;TZID=America/New_York:20250426T153000
DTEND;TZID=America/New_York:20250426T220000
DTSTAMP:20260425T174755
CREATED:20240408T131437Z
LAST-MODIFIED:20240408T131437Z
UID:10012646-1745681400-1745704800@epworth.faith
SUMMARY:SODELO Concert (Sanctuary and Music Room)
DESCRIPTION:
URL:https://epworth.faith/event/sodelo-concert-sanctuary-and-music-room/
LOCATION:Epworth United Methodist Church\, 19285 Holland Glade Road\, Rehoboth Beach\, DE\, 19971\, United States
CATEGORIES:Church,Concerts,Facility Rentals
ORGANIZER;CN="Eva DelGallo":MAILTO:delgalloviolin@gmail.com
END:VEVENT
BEGIN:VEVENT
DTSTART;TZID=America/New_York:20250426T180000
DTEND;TZID=America/New_York:20250426T190000
DTSTAMP:20260425T174755
CREATED:20240905T122918Z
LAST-MODIFIED:20251023T150738Z
UID:10014541-1745690400-1745694000@epworth.faith
SUMMARY:Alanon Meeting (Baker Room)
DESCRIPTION:
URL:https://epworth.faith/event/alanon-meeting-baker-room-2/2025-04-26/
LOCATION:Epworth United Methodist Church\, 19285 Holland Glade Road\, Rehoboth Beach\, DE\, 19971\, United States
CATEGORIES:Church,Groups
END:VEVENT
BEGIN:VEVENT
DTSTART;TZID=America/New_York:20250426T180000
DTEND;TZID=America/New_York:20250426T190000
DTSTAMP:20260425T174755
CREATED:20240905T123154Z
LAST-MODIFIED:20251023T152520Z
UID:10014593-1745690400-1745694000@epworth.faith
SUMMARY:AA Meeting (Branford Room)
DESCRIPTION:
URL:https://epworth.faith/event/aa-meeting-branford-room/2025-04-26/
LOCATION:Epworth United Methodist Church\, 19285 Holland Glade Road\, Rehoboth Beach\, DE\, 19971\, United States
CATEGORIES:Church,Groups
END:VEVENT
END:VCALENDAR