BEGIN:VCALENDAR
VERSION:2.0
PRODID:-//Epworth UMC - ECPv6.15.20//NONSGML v1.0//EN
CALSCALE:GREGORIAN
METHOD:PUBLISH
X-ORIGINAL-URL:https://epworth.faith
X-WR-CALDESC:Events for Epworth UMC
REFRESH-INTERVAL;VALUE=DURATION:PT1H
X-Robots-Tag:noindex
X-PUBLISHED-TTL:PT1H
BEGIN:VTIMEZONE
TZID:America/New_York
BEGIN:DAYLIGHT
TZOFFSETFROM:-0500
TZOFFSETTO:-0400
TZNAME:EDT
DTSTART:20240310T070000
END:DAYLIGHT
BEGIN:STANDARD
TZOFFSETFROM:-0400
TZOFFSETTO:-0500
TZNAME:EST
DTSTART:20241103T060000
END:STANDARD
BEGIN:DAYLIGHT
TZOFFSETFROM:-0500
TZOFFSETTO:-0400
TZNAME:EDT
DTSTART:20250309T070000
END:DAYLIGHT
BEGIN:STANDARD
TZOFFSETFROM:-0400
TZOFFSETTO:-0500
TZNAME:EST
DTSTART:20251102T060000
END:STANDARD
BEGIN:DAYLIGHT
TZOFFSETFROM:-0500
TZOFFSETTO:-0400
TZNAME:EDT
DTSTART:20260308T070000
END:DAYLIGHT
BEGIN:STANDARD
TZOFFSETFROM:-0400
TZOFFSETTO:-0500
TZNAME:EST
DTSTART:20261101T060000
END:STANDARD
END:VTIMEZONE
BEGIN:VEVENT
DTSTART;VALUE=DATE:20251204
DTEND;VALUE=DATE:20251205
DTSTAMP:20260424T114058
CREATED:20251204T180915Z
LAST-MODIFIED:20251204T180915Z
UID:10020926-1764806400-1764892799@epworth.faith
SUMMARY:Day 5 Devotional
DESCRIPTION:
URL:https://epworth.faith/event/day-5-devotional/
LOCATION:DE
END:VEVENT
BEGIN:VEVENT
DTSTART;TZID=America/New_York:20251204T093000
DTEND;TZID=America/New_York:20251204T103000
DTSTAMP:20260424T114058
CREATED:20250521T185021Z
LAST-MODIFIED:20260205T141334Z
UID:10016573-1764840600-1764844200@epworth.faith
SUMMARY:Alzheimer/Dementia Support Group (Baker Room)
DESCRIPTION:
URL:https://epworth.faith/event/alzheimer-dementia-support-group-baker-room/2025-12-04/
LOCATION:Epworth United Methodist Church\, 19285 Holland Glade Road\, Rehoboth Beach\, DE\, 19971\, United States
CATEGORIES:Church,Groups
ORGANIZER;CN="Harry Martens":MAILTO:HMartensiii@gmail.com
END:VEVENT
BEGIN:VEVENT
DTSTART;TZID=America/New_York:20251204T100000
DTEND;TZID=America/New_York:20251204T113000
DTSTAMP:20260424T114058
CREATED:20250821T135925Z
LAST-MODIFIED:20250911T133045Z
UID:10017058-1764842400-1764847800@epworth.faith
SUMMARY:Parkinson's Voice Project Choir (Music Room)
DESCRIPTION:
URL:https://epworth.faith/event/parkinsons-voice-project-choir-music-room-2/2025-12-04/
LOCATION:Epworth United Methodist Church\, 19285 Holland Glade Road\, Rehoboth Beach\, DE\, 19971\, United States
CATEGORIES:Church,Groups
ORGANIZER;CN="Doug Yetter":MAILTO:dyetter@epworth.faith
END:VEVENT
BEGIN:VEVENT
DTSTART;TZID=America/New_York:20251204T100000
DTEND;TZID=America/New_York:20251204T130000
DTSTAMP:20260424T114058
CREATED:20251110T212028Z
LAST-MODIFIED:20251110T212028Z
UID:10020839-1764842400-1764853200@epworth.faith
SUMMARY:Epworth Church Mailing by WINGS Group (Office Conference Room)
DESCRIPTION:
URL:https://epworth.faith/event/epworth-church-mailing-by-wings-group-office-conference-room/
LOCATION:Epworth United Methodist Church\, 19285 Holland Glade Road\, Rehoboth Beach\, DE\, 19971\, United States
CATEGORIES:Church,Groups
END:VEVENT
BEGIN:VEVENT
DTSTART;TZID=America/New_York:20251204T100000
DTEND;TZID=America/New_York:20251204T130000
DTSTAMP:20260424T114058
CREATED:20251118T204812Z
LAST-MODIFIED:20251118T204812Z
UID:10020903-1764842400-1764853200@epworth.faith
SUMMARY:Baking Cookies for Cookie Walk (Kitchen)
DESCRIPTION:
URL:https://epworth.faith/event/baking-cookies-for-cookie-walk-kitchen-2/
LOCATION:Epworth United Methodist Church\, 19285 Holland Glade Road\, Rehoboth Beach\, DE\, 19971\, United States
CATEGORIES:Church,Groups
END:VEVENT
BEGIN:VEVENT
DTSTART;TZID=America/New_York:20251204T110000
DTEND;TZID=America/New_York:20251204T120000
DTSTAMP:20260424T114058
CREATED:20250513T184931Z
LAST-MODIFIED:20260129T210925Z
UID:10016460-1764846000-1764849600@epworth.faith
SUMMARY:Grief Group (Baker Room)
DESCRIPTION:
URL:https://epworth.faith/event/grief-group-baker-room/2025-12-04/
LOCATION:Epworth United Methodist Church\, 19285 Holland Glade Road\, Rehoboth Beach\, DE\, 19971\, United States
ORGANIZER;CN="Vicki Gordy-Stith":MAILTO:vgordy-stith@epworth.faith
END:VEVENT
BEGIN:VEVENT
DTSTART;TZID=America/New_York:20251204T120000
DTEND;TZID=America/New_York:20251204T130000
DTSTAMP:20260424T114058
CREATED:20240905T122329Z
LAST-MODIFIED:20251023T150055Z
UID:10014417-1764849600-1764853200@epworth.faith
SUMMARY:Alanon Meeting (Branford Room)
DESCRIPTION:
URL:https://epworth.faith/event/alanon-meeting-branford-room-3/2025-12-04/
LOCATION:Epworth United Methodist Church\, 19285 Holland Glade Road\, Rehoboth Beach\, DE\, 19971\, United States
CATEGORIES:Church,Groups
END:VEVENT
BEGIN:VEVENT
DTSTART;TZID=America/New_York:20251204T170000
DTEND;TZID=America/New_York:20251204T190000
DTSTAMP:20260424T114058
CREATED:20251113T151602Z
LAST-MODIFIED:20251113T151602Z
UID:10020843-1764867600-1764874800@epworth.faith
SUMMARY:Boys & Girls Club Family Bingo Night (Fellowship Hall)
DESCRIPTION:
URL:https://epworth.faith/event/boys-girls-club-family-bingo-night-fellowship-hall/
LOCATION:Epworth United Methodist Church\, 19285 Holland Glade Road\, Rehoboth Beach\, DE\, 19971\, United States
CATEGORIES:Church,Groups
ORGANIZER;CN="Avara Brown":MAILTO:AvBrown@bgclubs.org
END:VEVENT
BEGIN:VEVENT
DTSTART;TZID=America/New_York:20251204T193000
DTEND;TZID=America/New_York:20251204T203000
DTSTAMP:20260424T114058
CREATED:20240905T122521Z
LAST-MODIFIED:20251023T150301Z
UID:10014469-1764876600-1764880200@epworth.faith
SUMMARY:AA Meeting (Baker Room)
DESCRIPTION:
URL:https://epworth.faith/event/aa-meeting-baker-room/2025-12-04/
LOCATION:Epworth United Methodist Church\, 19285 Holland Glade Road\, Rehoboth Beach\, DE\, 19971\, United States
CATEGORIES:Church,Groups
END:VEVENT
END:VCALENDAR