BEGIN:VCALENDAR
VERSION:2.0
PRODID:-//Epworth UMC - ECPv6.15.20//NONSGML v1.0//EN
CALSCALE:GREGORIAN
METHOD:PUBLISH
X-ORIGINAL-URL:https://epworth.faith
X-WR-CALDESC:Events for Epworth UMC
REFRESH-INTERVAL;VALUE=DURATION:PT1H
X-Robots-Tag:noindex
X-PUBLISHED-TTL:PT1H
BEGIN:VTIMEZONE
TZID:America/New_York
BEGIN:DAYLIGHT
TZOFFSETFROM:-0500
TZOFFSETTO:-0400
TZNAME:EDT
DTSTART:20240310T070000
END:DAYLIGHT
BEGIN:STANDARD
TZOFFSETFROM:-0400
TZOFFSETTO:-0500
TZNAME:EST
DTSTART:20241103T060000
END:STANDARD
BEGIN:DAYLIGHT
TZOFFSETFROM:-0500
TZOFFSETTO:-0400
TZNAME:EDT
DTSTART:20250309T070000
END:DAYLIGHT
BEGIN:STANDARD
TZOFFSETFROM:-0400
TZOFFSETTO:-0500
TZNAME:EST
DTSTART:20251102T060000
END:STANDARD
BEGIN:DAYLIGHT
TZOFFSETFROM:-0500
TZOFFSETTO:-0400
TZNAME:EDT
DTSTART:20260308T070000
END:DAYLIGHT
BEGIN:STANDARD
TZOFFSETFROM:-0400
TZOFFSETTO:-0500
TZNAME:EST
DTSTART:20261101T060000
END:STANDARD
END:VTIMEZONE
BEGIN:VEVENT
DTSTART;VALUE=DATE:20251205
DTEND;VALUE=DATE:20251206
DTSTAMP:20260424T065520
CREATED:20251207T122208Z
LAST-MODIFIED:20251207T122316Z
UID:10020927-1764892800-1764979199@epworth.faith
SUMMARY:Day 6 Devotional
DESCRIPTION:Day 6 Devotional
URL:https://epworth.faith/event/day-6-devotional/
LOCATION:DE
END:VEVENT
BEGIN:VEVENT
DTSTART;TZID=America/New_York:20251205T100000
DTEND;TZID=America/New_York:20251205T130000
DTSTAMP:20260424T065520
CREATED:20251118T205640Z
LAST-MODIFIED:20251118T205640Z
UID:10020904-1764928800-1764939600@epworth.faith
SUMMARY:Baking Cookies for Cookie Walk (Kitchen)
DESCRIPTION:
URL:https://epworth.faith/event/baking-cookies-for-cookie-walk-kitchen-3/
LOCATION:Epworth United Methodist Church\, 19285 Holland Glade Road\, Rehoboth Beach\, DE\, 19971\, United States
CATEGORIES:Church,Groups
END:VEVENT
BEGIN:VEVENT
DTSTART;TZID=America/New_York:20251205T190000
DTEND;TZID=America/New_York:20251205T210000
DTSTAMP:20260424T065520
CREATED:20250619T122836Z
LAST-MODIFIED:20250619T122840Z
UID:10016826-1764961200-1764968400@epworth.faith
SUMMARY:Encore Creativity Concert (Sanctuary & Music Room) Concert Time:  7:00pm
DESCRIPTION:
URL:https://epworth.faith/event/encore-creativity-concert-sanctuary-music-room-concert-time-700pm/
LOCATION:Epworth United Methodist Church\, 19285 Holland Glade Road\, Rehoboth Beach\, DE\, 19971\, United States
CATEGORIES:Church,Concerts,Facility Rentals
ORGANIZER;CN="Ethan Lolley":MAILTO:ethan.lolley@encorecreativity.org
END:VEVENT
END:VCALENDAR