BEGIN:VCALENDAR
VERSION:2.0
PRODID:-//Epworth UMC - ECPv6.15.20//NONSGML v1.0//EN
CALSCALE:GREGORIAN
METHOD:PUBLISH
X-WR-CALNAME:Epworth UMC
X-ORIGINAL-URL:https://epworth.faith
X-WR-CALDESC:Events for Epworth UMC
REFRESH-INTERVAL;VALUE=DURATION:PT1H
X-Robots-Tag:noindex
X-PUBLISHED-TTL:PT1H
BEGIN:VTIMEZONE
TZID:America/New_York
BEGIN:DAYLIGHT
TZOFFSETFROM:-0500
TZOFFSETTO:-0400
TZNAME:EDT
DTSTART:20250309T070000
END:DAYLIGHT
BEGIN:STANDARD
TZOFFSETFROM:-0400
TZOFFSETTO:-0500
TZNAME:EST
DTSTART:20251102T060000
END:STANDARD
BEGIN:DAYLIGHT
TZOFFSETFROM:-0500
TZOFFSETTO:-0400
TZNAME:EDT
DTSTART:20260308T070000
END:DAYLIGHT
BEGIN:STANDARD
TZOFFSETFROM:-0400
TZOFFSETTO:-0500
TZNAME:EST
DTSTART:20261101T060000
END:STANDARD
BEGIN:DAYLIGHT
TZOFFSETFROM:-0500
TZOFFSETTO:-0400
TZNAME:EDT
DTSTART:20270314T070000
END:DAYLIGHT
BEGIN:STANDARD
TZOFFSETFROM:-0400
TZOFFSETTO:-0500
TZNAME:EST
DTSTART:20271107T060000
END:STANDARD
END:VTIMEZONE
BEGIN:VEVENT
DTSTART;TZID=America/New_York:20260328T090000
DTEND;TZID=America/New_York:20260328T100000
DTSTAMP:20260423T135018
CREATED:20240905T122704Z
LAST-MODIFIED:20251023T150523Z
UID:10020071-1774688400-1774692000@epworth.faith
SUMMARY:ACA Meeting (Baker Room)
DESCRIPTION:
URL:https://epworth.faith/event/aca-meeting-baker-room/2026-03-28/
LOCATION:Epworth United Methodist Church\, 19285 Holland Glade Road\, Rehoboth Beach\, DE\, 19971\, United States
CATEGORIES:Church,Groups
END:VEVENT
BEGIN:VEVENT
DTSTART;TZID=America/New_York:20260328T150000
DTEND;TZID=America/New_York:20260328T170000
DTSTAMP:20260423T135018
CREATED:20260112T153522Z
LAST-MODIFIED:20260112T153523Z
UID:10020974-1774710000-1774717200@epworth.faith
SUMMARY:Sodelo Concert - Old World & New World (Sanctuary & Music Room)
DESCRIPTION:
URL:https://epworth.faith/event/sodelo-concert-old-world-new-world-sanctuary-music-room/
LOCATION:Epworth United Methodist Church\, 19285 Holland Glade Road\, Rehoboth Beach\, DE\, 19971\, United States
CATEGORIES:Church,Concerts,Facility Rentals
ORGANIZER;CN="Emily Swett":MAILTO:emily@sodelomusic.org
END:VEVENT
BEGIN:VEVENT
DTSTART;TZID=America/New_York:20260328T180000
DTEND;TZID=America/New_York:20260328T190000
DTSTAMP:20260423T135018
CREATED:20240905T122918Z
LAST-MODIFIED:20251023T150738Z
UID:10020322-1774720800-1774724400@epworth.faith
SUMMARY:Alanon Meeting (Baker Room)
DESCRIPTION:
URL:https://epworth.faith/event/alanon-meeting-baker-room-2/2026-03-28/
LOCATION:Epworth United Methodist Church\, 19285 Holland Glade Road\, Rehoboth Beach\, DE\, 19971\, United States
CATEGORIES:Church,Groups
END:VEVENT
BEGIN:VEVENT
DTSTART;TZID=America/New_York:20260328T180000
DTEND;TZID=America/New_York:20260328T190000
DTSTAMP:20260423T135018
CREATED:20240905T123154Z
LAST-MODIFIED:20251023T152520Z
UID:10020573-1774720800-1774724400@epworth.faith
SUMMARY:AA Meeting (Branford Room)
DESCRIPTION:
URL:https://epworth.faith/event/aa-meeting-branford-room/2026-03-28/
LOCATION:Epworth United Methodist Church\, 19285 Holland Glade Road\, Rehoboth Beach\, DE\, 19971\, United States
CATEGORIES:Church,Groups
END:VEVENT
END:VCALENDAR