BEGIN:VCALENDAR
VERSION:2.0
PRODID:-//Epworth UMC - ECPv6.15.20//NONSGML v1.0//EN
CALSCALE:GREGORIAN
METHOD:PUBLISH
X-WR-CALNAME:Epworth UMC
X-ORIGINAL-URL:https://epworth.faith
X-WR-CALDESC:Events for Epworth UMC
REFRESH-INTERVAL;VALUE=DURATION:PT1H
X-Robots-Tag:noindex
X-PUBLISHED-TTL:PT1H
BEGIN:VTIMEZONE
TZID:America/New_York
BEGIN:DAYLIGHT
TZOFFSETFROM:-0500
TZOFFSETTO:-0400
TZNAME:EDT
DTSTART:20240310T070000
END:DAYLIGHT
BEGIN:STANDARD
TZOFFSETFROM:-0400
TZOFFSETTO:-0500
TZNAME:EST
DTSTART:20241103T060000
END:STANDARD
BEGIN:DAYLIGHT
TZOFFSETFROM:-0500
TZOFFSETTO:-0400
TZNAME:EDT
DTSTART:20250309T070000
END:DAYLIGHT
BEGIN:STANDARD
TZOFFSETFROM:-0400
TZOFFSETTO:-0500
TZNAME:EST
DTSTART:20251102T060000
END:STANDARD
BEGIN:DAYLIGHT
TZOFFSETFROM:-0500
TZOFFSETTO:-0400
TZNAME:EDT
DTSTART:20260308T070000
END:DAYLIGHT
BEGIN:STANDARD
TZOFFSETFROM:-0400
TZOFFSETTO:-0500
TZNAME:EST
DTSTART:20261101T060000
END:STANDARD
END:VTIMEZONE
BEGIN:VEVENT
DTSTART;TZID=America/New_York:20250916T120000
DTEND;TZID=America/New_York:20250916T140000
DTSTAMP:20260425T181818
CREATED:20231101T154604Z
LAST-MODIFIED:20231101T154604Z
UID:10010549-1758024000-1758031200@epworth.faith
SUMMARY:Staff Meeting (Conference Room)
DESCRIPTION:
URL:https://epworth.faith/event/staff-meeting-conference-room/2025-09-16/
LOCATION:Epworth United Methodist Church\, 19285 Holland Glade Road\, Rehoboth Beach\, DE\, 19971\, United States
CATEGORIES:Church,Staff
ORGANIZER;CN="Vicki Gordy-Stith":MAILTO:vgordy-stith@epworth.faith
END:VEVENT
BEGIN:VEVENT
DTSTART;TZID=America/New_York:20250916T140000
DTEND;TZID=America/New_York:20250916T170000
DTSTAMP:20260425T181818
CREATED:20250709T184523Z
LAST-MODIFIED:20250709T184523Z
UID:10016986-1758031200-1758042000@epworth.faith
SUMMARY:Stitching Group (Branford Room)
DESCRIPTION:
URL:https://epworth.faith/event/stitching-group-branford-room/2025-09-16/
LOCATION:Epworth United Methodist Church\, 19285 Holland Glade Road\, Rehoboth Beach\, DE\, 19971\, United States
CATEGORIES:Church,Groups
END:VEVENT
BEGIN:VEVENT
DTSTART;TZID=America/New_York:20250916T160000
DTEND;TZID=America/New_York:20250916T180000
DTSTAMP:20260425T181818
CREATED:20250709T125307Z
LAST-MODIFIED:20250709T125307Z
UID:10016919-1758038400-1758045600@epworth.faith
SUMMARY:Finance Committee Meeting (Zoom)
DESCRIPTION:
URL:https://epworth.faith/event/finance-committee-meeting-zoom/2025-09-16/
LOCATION:Epworth United Methodist Church\, 19285 Holland Glade Road\, Rehoboth Beach\, DE\, 19971\, United States
CATEGORIES:Church,Groups
END:VEVENT
BEGIN:VEVENT
DTSTART;TZID=America/New_York:20250916T180000
DTEND;TZID=America/New_York:20250916T190000
DTSTAMP:20260425T181818
CREATED:20240905T121346Z
LAST-MODIFIED:20251023T144445Z
UID:10014145-1758045600-1758049200@epworth.faith
SUMMARY:Alanon Meeting (Branford Room)
DESCRIPTION:
URL:https://epworth.faith/event/alanon-meeting-branford-room/2025-09-16/
LOCATION:Epworth United Methodist Church\, 19285 Holland Glade Road\, Rehoboth Beach\, DE\, 19971\, United States
CATEGORIES:Church,Groups
END:VEVENT
BEGIN:VEVENT
DTSTART;TZID=America/New_York:20250916T184500
DTEND;TZID=America/New_York:20250916T200000
DTSTAMP:20260425T181818
CREATED:20250821T173501Z
LAST-MODIFIED:20250821T173501Z
UID:10017181-1758048300-1758052800@epworth.faith
SUMMARY:Faith Friends & Issues Group (Zoom)
DESCRIPTION:
URL:https://epworth.faith/event/faith-friends-issues-group-zoom-2/2025-09-16/
LOCATION:Epworth United Methodist Church\, 19285 Holland Glade Road\, Rehoboth Beach\, DE\, 19971\, United States
CATEGORIES:Church,Groups
ORGANIZER;CN="Sandy Paulen":MAILTO:sandypaulen@gmail.com
END:VEVENT
BEGIN:VEVENT
DTSTART;TZID=America/New_York:20250916T190000
DTEND;TZID=America/New_York:20250916T200000
DTSTAMP:20260425T181818
CREATED:20240905T121615Z
LAST-MODIFIED:20251023T144756Z
UID:10014197-1758049200-1758052800@epworth.faith
SUMMARY:Alanon Meeting (Baker Room)
DESCRIPTION:
URL:https://epworth.faith/event/alanon-meeting-baker-room/2025-09-16/
LOCATION:Epworth United Methodist Church\, 19285 Holland Glade Road\, Rehoboth Beach\, DE\, 19971\, United States
CATEGORIES:Church,Groups
END:VEVENT
BEGIN:VEVENT
DTSTART;TZID=America/New_York:20250916T190000
DTEND;TZID=America/New_York:20250916T200000
DTSTAMP:20260425T181818
CREATED:20240905T121808Z
LAST-MODIFIED:20251023T145128Z
UID:10014249-1758049200-1758052800@epworth.faith
SUMMARY:AA Meeting (Music Room)
DESCRIPTION:
URL:https://epworth.faith/event/aa-meeting-music-room/2025-09-16/
LOCATION:Epworth United Methodist Church\, 19285 Holland Glade Road\, Rehoboth Beach\, DE\, 19971\, United States
CATEGORIES:Church,Groups
END:VEVENT
END:VCALENDAR