BEGIN:VCALENDAR
VERSION:2.0
PRODID:-//Epworth UMC - ECPv6.15.20//NONSGML v1.0//EN
CALSCALE:GREGORIAN
METHOD:PUBLISH
X-ORIGINAL-URL:https://epworth.faith
X-WR-CALDESC:Events for Epworth UMC
REFRESH-INTERVAL;VALUE=DURATION:PT1H
X-Robots-Tag:noindex
X-PUBLISHED-TTL:PT1H
BEGIN:VTIMEZONE
TZID:America/New_York
BEGIN:DAYLIGHT
TZOFFSETFROM:-0500
TZOFFSETTO:-0400
TZNAME:EDT
DTSTART:20200308T070000
END:DAYLIGHT
BEGIN:STANDARD
TZOFFSETFROM:-0400
TZOFFSETTO:-0500
TZNAME:EST
DTSTART:20201101T060000
END:STANDARD
BEGIN:DAYLIGHT
TZOFFSETFROM:-0500
TZOFFSETTO:-0400
TZNAME:EDT
DTSTART:20210314T070000
END:DAYLIGHT
BEGIN:STANDARD
TZOFFSETFROM:-0400
TZOFFSETTO:-0500
TZNAME:EST
DTSTART:20211107T060000
END:STANDARD
BEGIN:DAYLIGHT
TZOFFSETFROM:-0500
TZOFFSETTO:-0400
TZNAME:EDT
DTSTART:20220313T070000
END:DAYLIGHT
BEGIN:STANDARD
TZOFFSETFROM:-0400
TZOFFSETTO:-0500
TZNAME:EST
DTSTART:20221106T060000
END:STANDARD
BEGIN:DAYLIGHT
TZOFFSETFROM:-0500
TZOFFSETTO:-0400
TZNAME:EDT
DTSTART:20230312T070000
END:DAYLIGHT
BEGIN:STANDARD
TZOFFSETFROM:-0400
TZOFFSETTO:-0500
TZNAME:EST
DTSTART:20231105T060000
END:STANDARD
BEGIN:DAYLIGHT
TZOFFSETFROM:-0500
TZOFFSETTO:-0400
TZNAME:EDT
DTSTART:20240310T070000
END:DAYLIGHT
BEGIN:STANDARD
TZOFFSETFROM:-0400
TZOFFSETTO:-0500
TZNAME:EST
DTSTART:20241103T060000
END:STANDARD
BEGIN:DAYLIGHT
TZOFFSETFROM:-0500
TZOFFSETTO:-0400
TZNAME:EDT
DTSTART:20250309T070000
END:DAYLIGHT
BEGIN:STANDARD
TZOFFSETFROM:-0400
TZOFFSETTO:-0500
TZNAME:EST
DTSTART:20251102T060000
END:STANDARD
BEGIN:DAYLIGHT
TZOFFSETFROM:-0500
TZOFFSETTO:-0400
TZNAME:EDT
DTSTART:20260308T070000
END:DAYLIGHT
BEGIN:STANDARD
TZOFFSETFROM:-0400
TZOFFSETTO:-0500
TZNAME:EST
DTSTART:20261101T060000
END:STANDARD
END:VTIMEZONE
BEGIN:VEVENT
DTSTART;TZID=America/New_York:20250622T113000
DTEND;TZID=America/New_York:20250622T130000
DTSTAMP:20260423T230057
CREATED:20250318T193834Z
LAST-MODIFIED:20250611T193551Z
UID:10015907-1750591800-1750597200@epworth.faith
SUMMARY:New Member Brunch (Branford Room)
DESCRIPTION:
URL:https://epworth.faith/event/new-member-brunch-office-conference-room/
LOCATION:Epworth United Methodist Church\, 19285 Holland Glade Road\, Rehoboth Beach\, DE\, 19971\, United States
CATEGORIES:Church,Funerals
ORGANIZER;CN="Todd Popham":MAILTO:sakjstr@udel.edu
END:VEVENT
BEGIN:VEVENT
DTSTART;TZID=America/New_York:20241125T090000
DTEND;TZID=America/New_York:20241125T160000
DTSTAMP:20260423T230057
CREATED:20241003T155018Z
LAST-MODIFIED:20241003T155019Z
UID:10015030-1732525200-1732550400@epworth.faith
SUMMARY:Funeral Services for Bunny Maher (Sanctuary & Fellowship Hall)
DESCRIPTION:
URL:https://epworth.faith/event/funeral-services-for-bunny-maher-sanctuary-fellowship-hall/
LOCATION:Epworth United Methodist Church\, 19285 Holland Glade Road\, Rehoboth Beach\, DE\, 19971\, United States
CATEGORIES:Church,Funerals
END:VEVENT
BEGIN:VEVENT
DTSTART;TZID=America/New_York:20241124T130000
DTEND;TZID=America/New_York:20241124T150000
DTSTAMP:20260423T230057
CREATED:20241003T155221Z
LAST-MODIFIED:20241003T155221Z
UID:10015031-1732453200-1732460400@epworth.faith
SUMMARY:Set-Up for Funeral on Nov 25th (Fellowship Hall)
DESCRIPTION:
URL:https://epworth.faith/event/set-up-for-funeral-on-nov-25th-fellowship-hall/
LOCATION:Epworth United Methodist Church\, 19285 Holland Glade Road\, Rehoboth Beach\, DE\, 19971\, United States
CATEGORIES:Church,Funerals
END:VEVENT
BEGIN:VEVENT
DTSTART;TZID=America/New_York:20240921T103000
DTEND;TZID=America/New_York:20240921T150000
DTSTAMP:20260423T230057
CREATED:20240917T123618Z
LAST-MODIFIED:20240917T123618Z
UID:10014637-1726914600-1726930800@epworth.faith
SUMMARY:Funeral for Vicki Martina (Sanctuary & Fellowship Hall)
DESCRIPTION:
URL:https://epworth.faith/event/funeral-for-vicki-martina-sanctuary-fellowship-hall/
LOCATION:Epworth United Methodist Church\, 19285 Holland Glade Road\, Rehoboth Beach\, DE\, 19971\, United States
CATEGORIES:Church,Funerals
END:VEVENT
BEGIN:VEVENT
DTSTART;TZID=America/New_York:20240627T090000
DTEND;TZID=America/New_York:20240627T133000
DTSTAMP:20260423T230057
CREATED:20240618T195601Z
LAST-MODIFIED:20240624T145454Z
UID:10013573-1719478800-1719495000@epworth.faith
SUMMARY:Celebration of Life for Doris Walsh (Sanctuary & Fellowship Hall)
DESCRIPTION:
URL:https://epworth.faith/event/celebration-of-life-for-doris-walsh-sanctuary/
LOCATION:Epworth United Methodist Church\, 19285 Holland Glade Road\, Rehoboth Beach\, DE\, 19971\, United States
CATEGORIES:Church,Funerals
ORGANIZER;CN="Vicki Gordy-Stith":MAILTO:vgordy-stith@epworth.faith
END:VEVENT
BEGIN:VEVENT
DTSTART;TZID=America/New_York:20240414T143000
DTEND;TZID=America/New_York:20240414T180000
DTSTAMP:20260423T230057
CREATED:20240226T174222Z
LAST-MODIFIED:20240226T174222Z
UID:10012317-1713105000-1713117600@epworth.faith
SUMMARY:Celebration of Life for Pastor Shannon Harris (Sanctuary)
DESCRIPTION:
URL:https://epworth.faith/event/celebration-of-life-for-pastor-shannon-harris-sanctuary/
LOCATION:Epworth United Methodist Church\, 19285 Holland Glade Road\, Rehoboth Beach\, DE\, 19971\, United States
CATEGORIES:Church,Funerals
END:VEVENT
BEGIN:VEVENT
DTSTART;TZID=America/New_York:20240223T100000
DTEND;TZID=America/New_York:20240223T130000
DTSTAMP:20260423T230057
CREATED:20240119T171807Z
LAST-MODIFIED:20240119T171807Z
UID:10012264-1708682400-1708693200@epworth.faith
SUMMARY:Celebration of Life - Gwendolyn Lemly Summey (Sanctuary)
DESCRIPTION:“Gwen”\, mother of Dow Juliano.
URL:https://epworth.faith/event/celebration-of-life-gwendolyn-lemly-summey-sanctuary/
LOCATION:Epworth United Methodist Church\, 19285 Holland Glade Road\, Rehoboth Beach\, DE\, 19971\, United States
CATEGORIES:Church,Funerals
ORGANIZER;CN="Mickie McManamon":MAILTO:mmcmanamon@epworth.faith
END:VEVENT
BEGIN:VEVENT
DTSTART;TZID=America/New_York:20240106T100000
DTEND;TZID=America/New_York:20240106T123000
DTSTAMP:20260423T230057
CREATED:20231204T151849Z
LAST-MODIFIED:20231204T151920Z
UID:10011113-1704535200-1704544200@epworth.faith
SUMMARY:Celebration of Life - Donna Hitchens (Sanctuary)
DESCRIPTION:
URL:https://epworth.faith/event/celebration-of-life-donna-hitchens-sanctuary/
LOCATION:Epworth United Methodist Church\, 19285 Holland Glade Road\, Rehoboth Beach\, DE\, 19971\, United States
CATEGORIES:Church,Funerals
ORGANIZER;CN="Susan Jimenez":MAILTO:saj19971@gmail.com
END:VEVENT
BEGIN:VEVENT
DTSTART;TZID=America/New_York:20231213T100000
DTEND;TZID=America/New_York:20231213T140000
DTSTAMP:20260423T230057
CREATED:20231116T202501Z
LAST-MODIFIED:20231116T202501Z
UID:10011103-1702461600-1702476000@epworth.faith
SUMMARY:Celebration of Life - Barbara G. Rowe (Sanctuary & Fellowship Hall)
DESCRIPTION:
URL:https://epworth.faith/event/celebration-of-life-barbara-g-rowe-sanctuary-fellowship-hall/
LOCATION:Epworth United Methodist Church\, 19285 Holland Glade Road\, Rehoboth Beach\, DE\, 19971\, United States
CATEGORIES:Church,Funerals
ORGANIZER;CN="Mickie McManamon":MAILTO:mmcmanamon@epworth.faith
END:VEVENT
BEGIN:VEVENT
DTSTART;TZID=America/New_York:20231202T100000
DTEND;TZID=America/New_York:20231202T134500
DTSTAMP:20260423T230057
CREATED:20231109T235410Z
LAST-MODIFIED:20231109T235411Z
UID:10011096-1701511200-1701524700@epworth.faith
SUMMARY:Celebration of Life - John Fisher (Sanctuary)
DESCRIPTION:
URL:https://epworth.faith/event/celebration-of-life-john-fisher-sanctuary/
LOCATION:Epworth United Methodist Church\, 19285 Holland Glade Road\, Rehoboth Beach\, DE\, 19971\, United States
CATEGORIES:Church,Funerals
ORGANIZER;CN="Mickie McManamon":MAILTO:mmcmanamon@epworth.faith
END:VEVENT
BEGIN:VEVENT
DTSTART;TZID=America/New_York:20230620T110000
DTEND;TZID=America/New_York:20230620T120000
DTSTAMP:20260423T230057
CREATED:20230615T135617Z
LAST-MODIFIED:20230615T135617Z
UID:10008728-1687258800-1687262400@epworth.faith
SUMMARY:Mary Anne Fleetwood Celebration of Life (Sanctuary)
DESCRIPTION:
URL:https://epworth.faith/event/mary-anne-fleetwood-celebration-of-life-sanctuary/
LOCATION:Epworth United Methodist Church\, 19285 Holland Glade Road\, Rehoboth Beach\, DE\, 19971\, United States
CATEGORIES:Funerals
ORGANIZER;CN="Mickie McManamon":MAILTO:mmcmanamon@epworth.faith
END:VEVENT
BEGIN:VEVENT
DTSTART;TZID=America/New_York:20230318T130000
DTEND;TZID=America/New_York:20230318T160000
DTSTAMP:20260423T230057
CREATED:20230316T135909Z
LAST-MODIFIED:20230316T135909Z
UID:10008101-1679144400-1679155200@epworth.faith
SUMMARY:Sinclair Funeral (Sanctuary & Fellowship Hall)
DESCRIPTION:
URL:https://epworth.faith/event/sinclair-funeral-sanctuary-fellowship-hall/
LOCATION:Epworth United Methodist Church\, 19285 Holland Glade Road\, Rehoboth Beach\, DE\, 19971\, United States
CATEGORIES:Funerals
ORGANIZER;CN="Vicki Gordy-Stith":MAILTO:vgordy-stith@epworth.faith
END:VEVENT
BEGIN:VEVENT
DTSTART;TZID=America/New_York:20230217T110000
DTEND;TZID=America/New_York:20230217T120000
DTSTAMP:20260423T230057
CREATED:20230112T152903Z
LAST-MODIFIED:20230112T152903Z
UID:10008042-1676631600-1676635200@epworth.faith
SUMMARY:Janet Greenawalt-Capitan Celebration of Life (Sanctuary)
DESCRIPTION:There will be a viewing at 10:00 a.m.
URL:https://epworth.faith/event/janet-greenawalt-capitan-celebration-of-life-sanctuary/
LOCATION:Epworth United Methodist Church\, 19285 Holland Glade Road\, Rehoboth Beach\, DE\, 19971\, United States
CATEGORIES:Funerals
ORGANIZER;CN="Vicki Gordy-Stith":MAILTO:vgordy-stith@epworth.faith
END:VEVENT
BEGIN:VEVENT
DTSTART;TZID=America/New_York:20230121T110000
DTEND;TZID=America/New_York:20230121T120000
DTSTAMP:20260423T230057
CREATED:20221201T161235Z
LAST-MODIFIED:20221201T161235Z
UID:10006206-1674298800-1674302400@epworth.faith
SUMMARY:James Crowl Celebration of Life (Sanctuary)
DESCRIPTION:There will be a gathering in the Sanctuary starting at 10:00 a.m.
URL:https://epworth.faith/event/james-crowl-celebration-of-life-sanctuary/
LOCATION:Epworth United Methodist Church\, 19285 Holland Glade Road\, Rehoboth Beach\, DE\, 19971\, United States
CATEGORIES:Funerals
ORGANIZER;CN="Vicki Gordy-Stith":MAILTO:vgordy-stith@epworth.faith
END:VEVENT
BEGIN:VEVENT
DTSTART;TZID=America/New_York:20221118T110000
DTEND;TZID=America/New_York:20221118T120000
DTSTAMP:20260423T230057
CREATED:20221103T135559Z
LAST-MODIFIED:20221103T135559Z
UID:10007020-1668769200-1668772800@epworth.faith
SUMMARY:Robert Derrickson Celebration of Life (Sanctuary)
DESCRIPTION:
URL:https://epworth.faith/event/robert-derrickson-celebration-of-life-sanctuary/
LOCATION:Epworth United Methodist Church\, 19285 Holland Glade Road\, Rehoboth Beach\, DE\, 19971\, United States
CATEGORIES:Funerals
ORGANIZER;CN="Debbie Hunt":MAILTO:dhunt@epworth.faith
END:VEVENT
BEGIN:VEVENT
DTSTART;TZID=America/New_York:20221024T110000
DTEND;TZID=America/New_York:20221024T140000
DTSTAMP:20260423T230057
CREATED:20220915T141713Z
LAST-MODIFIED:20220915T141713Z
UID:10006867-1666609200-1666620000@epworth.faith
SUMMARY:Jerry Stansberry Celebration of Life (Sanctuary & Fellowship Hall)
DESCRIPTION:
URL:https://epworth.faith/event/jerry-stansberry-celebration-of-life-sanctuary-fellowship-hall/
LOCATION:Epworth United Methodist Church\, 19285 Holland Glade Road\, Rehoboth Beach\, DE\, 19971\, United States
CATEGORIES:Funerals
ORGANIZER;CN="Vicki Gordy-Stith":MAILTO:vgordy-stith@epworth.faith
END:VEVENT
BEGIN:VEVENT
DTSTART;TZID=America/New_York:20221001T120000
DTEND;TZID=America/New_York:20221001T140000
DTSTAMP:20260423T230057
CREATED:20220922T150856Z
LAST-MODIFIED:20220922T150856Z
UID:10006989-1664625600-1664632800@epworth.faith
SUMMARY:Evelyn Simmons Funeral Reception (Fellowship Hall)
DESCRIPTION:
URL:https://epworth.faith/event/evelyn-simmons-funeral-reception-fellowship-hall/
LOCATION:Epworth United Methodist Church\, 19285 Holland Glade Road\, Rehoboth Beach\, DE\, 19971\, United States
CATEGORIES:Funerals
ORGANIZER;CN="Debbie Hunt":MAILTO:dhunt@epworth.faith
END:VEVENT
BEGIN:VEVENT
DTSTART;TZID=America/New_York:20221001T110000
DTEND;TZID=America/New_York:20221001T120000
DTSTAMP:20260423T230057
CREATED:20220922T140759Z
LAST-MODIFIED:20220922T140759Z
UID:10006988-1664622000-1664625600@epworth.faith
SUMMARY:Evelyn Simmons Celebration of Life (Sanctuary)
DESCRIPTION:There will be a viewing at 10:00 a.m.
URL:https://epworth.faith/event/evelyn-simmons-celebration-of-life-sanctuary/
LOCATION:Epworth United Methodist Church\, 19285 Holland Glade Road\, Rehoboth Beach\, DE\, 19971\, United States
CATEGORIES:Funerals
ORGANIZER;CN="Debbie Hunt":MAILTO:dhunt@epworth.faith
END:VEVENT
BEGIN:VEVENT
DTSTART;TZID=America/New_York:20220927T110000
DTEND;TZID=America/New_York:20220927T120000
DTSTAMP:20260423T230057
CREATED:20220921T133655Z
LAST-MODIFIED:20220922T151206Z
UID:10006871-1664276400-1664280000@epworth.faith
SUMMARY:Jack Rodgers Celebration of Life (Sanctuary)
DESCRIPTION:
URL:https://epworth.faith/event/jack-rodgers-celebration-of-life-sanctuary-fellowship-hall/
LOCATION:Epworth United Methodist Church\, 19285 Holland Glade Road\, Rehoboth Beach\, DE\, 19971\, United States
CATEGORIES:Funerals
ORGANIZER;CN="Mickie McManamon":MAILTO:mmcmanamon@epworth.faith
END:VEVENT
BEGIN:VEVENT
DTSTART;TZID=America/New_York:20220927T100000
DTEND;TZID=America/New_York:20220927T110000
DTSTAMP:20260423T230057
CREATED:20220921T145611Z
LAST-MODIFIED:20220921T145611Z
UID:10006889-1664272800-1664276400@epworth.faith
SUMMARY:Jack Rodgers Viewing (Sanctuary)
DESCRIPTION:
URL:https://epworth.faith/event/jack-rodgers-viewing-sanctuary/
LOCATION:Epworth United Methodist Church\, 19285 Holland Glade Road\, Rehoboth Beach\, DE\, 19971\, United States
CATEGORIES:Funerals
ORGANIZER;CN="Vicki Gordy-Stith":MAILTO:vgordy-stith@epworth.faith
END:VEVENT
BEGIN:VEVENT
DTSTART;TZID=America/New_York:20220919T150000
DTEND;TZID=America/New_York:20220919T160000
DTSTAMP:20260423T230057
CREATED:20220914T151425Z
LAST-MODIFIED:20220914T151425Z
UID:10006866-1663599600-1663603200@epworth.faith
SUMMARY:Tom Urban Celebration of Life (Sanctuary)
DESCRIPTION:
URL:https://epworth.faith/event/tom-urban-celebration-of-life-sanctuary/
LOCATION:Epworth United Methodist Church\, 19285 Holland Glade Road\, Rehoboth Beach\, DE\, 19971\, United States
CATEGORIES:Funerals
ORGANIZER;CN="Vicki Gordy-Stith":MAILTO:vgordy-stith@epworth.faith
END:VEVENT
BEGIN:VEVENT
DTSTART;TZID=America/New_York:20220604T120000
DTEND;TZID=America/New_York:20220604T140000
DTSTAMP:20260423T230057
CREATED:20220414T172154Z
LAST-MODIFIED:20220414T172154Z
UID:10006305-1654344000-1654351200@epworth.faith
SUMMARY:Dutch Kelley Funeral Reception (Fellowship Hall)
DESCRIPTION:
URL:https://epworth.faith/event/dutch-kelley-funeral-reception-fellowship-hall/
LOCATION:Epworth United Methodist Church\, 19285 Holland Glade Road\, Rehoboth Beach\, DE\, 19971\, United States
CATEGORIES:Funerals
ORGANIZER;CN="Mickie McManamon":MAILTO:mmcmanamon@epworth.faith
END:VEVENT
BEGIN:VEVENT
DTSTART;TZID=America/New_York:20220604T110000
DTEND;TZID=America/New_York:20220604T120000
DTSTAMP:20260423T230057
CREATED:20220414T172057Z
LAST-MODIFIED:20220414T172057Z
UID:10006298-1654340400-1654344000@epworth.faith
SUMMARY:Lester "Dutch" Kelley Funeral (Sanctuary)
DESCRIPTION:
URL:https://epworth.faith/event/lester-dutch-kelley-funeral-sanctuary/
LOCATION:Epworth United Methodist Church\, 19285 Holland Glade Road\, Rehoboth Beach\, DE\, 19971\, United States
CATEGORIES:Funerals
ORGANIZER;CN="Vicki Gordy-Stith":MAILTO:vgordy-stith@epworth.faith
END:VEVENT
BEGIN:VEVENT
DTSTART;TZID=America/New_York:20220305T123000
DTEND;TZID=America/New_York:20220305T133000
DTSTAMP:20260423T230057
CREATED:20220303T225615Z
LAST-MODIFIED:20220303T225615Z
UID:10006195-1646483400-1646487000@epworth.faith
SUMMARY:Carol Ewing Reception
DESCRIPTION:Fellowship Hall
URL:https://epworth.faith/event/carol-ewing-reception/
LOCATION:Epworth United Methodist Church\, 19285 Holland Glade Road\, Rehoboth Beach\, DE\, 19971\, United States
CATEGORIES:Funerals
END:VEVENT
BEGIN:VEVENT
DTSTART;TZID=America/New_York:20220305T113000
DTEND;TZID=America/New_York:20220305T123000
DTSTAMP:20260423T230057
CREATED:20220303T224340Z
LAST-MODIFIED:20220303T225859Z
UID:10006193-1646479800-1646483400@epworth.faith
SUMMARY:Carol Ewing Funeral
DESCRIPTION:Funeral Service for Carol Ewing\nObituary: Carol S. Ewing\, active church member | Cape Gazette\nLivestream Links: YouTube and Facebook
URL:https://epworth.faith/event/carol-ewing-funeral/
LOCATION:Epworth United Methodist Church\, 19285 Holland Glade Road\, Rehoboth Beach\, DE\, 19971\, United States
CATEGORIES:Funerals
ORGANIZER;CN="Vicki Gordy-Stith":MAILTO:vgordy-stith@epworth.faith
END:VEVENT
BEGIN:VEVENT
DTSTART;TZID=America/New_York:20220218T100000
DTEND;TZID=America/New_York:20220218T110000
DTSTAMP:20260423T230057
CREATED:20220210T155143Z
LAST-MODIFIED:20220210T155143Z
UID:10006125-1645178400-1645182000@epworth.faith
SUMMARY:Audrey McMeekin Celebration of Life (Sanctuary & FH)
DESCRIPTION:We will be celebrating the life of Audrey McMeekin today with a reception following. There will be a visitation starting at 9:00 a.m.
URL:https://epworth.faith/event/audrey-mcmeekin-celebration-of-life-sanctuary-fh/
LOCATION:Epworth United Methodist Church\, 19285 Holland Glade Road\, Rehoboth Beach\, DE\, 19971\, United States
CATEGORIES:Funerals
ORGANIZER;CN="Vicki Gordy-Stith":MAILTO:vgordy-stith@epworth.faith
END:VEVENT
BEGIN:VEVENT
DTSTART;TZID=America/New_York:20220212T110000
DTEND;TZID=America/New_York:20220212T120000
DTSTAMP:20260423T230057
CREATED:20220208T211255Z
LAST-MODIFIED:20220208T211255Z
UID:10006122-1644663600-1644667200@epworth.faith
SUMMARY:Bud Stuchlik Celebration of Life (Sanctuary)
DESCRIPTION:We will celebrate the Life of Bud Stuchlik today at 11:00 a.m.  There will be a viewing starting at 10:00 a.m.
URL:https://epworth.faith/event/bud-stuchlik-celebration-of-life-sanctuary/
LOCATION:Epworth United Methodist Church\, 19285 Holland Glade Road\, Rehoboth Beach\, DE\, 19971\, United States
CATEGORIES:Funerals
ORGANIZER;CN="Vicki Gordy-Stith":MAILTO:vgordy-stith@epworth.faith
END:VEVENT
BEGIN:VEVENT
DTSTART;TZID=America/New_York:20220210T110000
DTEND;TZID=America/New_York:20220210T120000
DTSTAMP:20260423T230057
CREATED:20220201T150932Z
LAST-MODIFIED:20220201T150932Z
UID:10005925-1644490800-1644494400@epworth.faith
SUMMARY:Paul Bengston Celebration of Life
DESCRIPTION:
URL:https://epworth.faith/event/paul-bengston-celebration-of-life/
LOCATION:Epworth United Methodist Church\, 19285 Holland Glade Road\, Rehoboth Beach\, DE\, 19971\, United States
CATEGORIES:Funerals
ORGANIZER;CN="Vicki Gordy-Stith":MAILTO:vgordy-stith@epworth.faith
END:VEVENT
BEGIN:VEVENT
DTSTART;TZID=America/New_York:20211026T140000
DTEND;TZID=America/New_York:20211026T150000
DTSTAMP:20260423T230057
CREATED:20211021T165001Z
LAST-MODIFIED:20211021T165001Z
UID:10004362-1635256800-1635260400@epworth.faith
SUMMARY:Emmalane Ewing Celebration of Life
DESCRIPTION:There will be a Celebration of Life for Emmalane Ewing in our Sanctuary.
URL:https://epworth.faith/event/emmalane-ewing-celebration-of-life/
LOCATION:Epworth United Methodist Church\, 19285 Holland Glade Road\, Rehoboth Beach\, DE\, 19971\, United States
CATEGORIES:Funerals
ORGANIZER;CN="Vicki Gordy-Stith":MAILTO:vgordy-stith@epworth.faith
END:VEVENT
END:VCALENDAR