BEGIN:VCALENDAR
VERSION:2.0
PRODID:-//Epworth UMC - ECPv6.15.20//NONSGML v1.0//EN
CALSCALE:GREGORIAN
METHOD:PUBLISH
X-ORIGINAL-URL:https://epworth.faith
X-WR-CALDESC:Events for Epworth UMC
REFRESH-INTERVAL;VALUE=DURATION:PT1H
X-Robots-Tag:noindex
X-PUBLISHED-TTL:PT1H
BEGIN:VTIMEZONE
TZID:America/New_York
BEGIN:DAYLIGHT
TZOFFSETFROM:-0500
TZOFFSETTO:-0400
TZNAME:EDT
DTSTART:20240310T070000
END:DAYLIGHT
BEGIN:STANDARD
TZOFFSETFROM:-0400
TZOFFSETTO:-0500
TZNAME:EST
DTSTART:20241103T060000
END:STANDARD
BEGIN:DAYLIGHT
TZOFFSETFROM:-0500
TZOFFSETTO:-0400
TZNAME:EDT
DTSTART:20250309T070000
END:DAYLIGHT
BEGIN:STANDARD
TZOFFSETFROM:-0400
TZOFFSETTO:-0500
TZNAME:EST
DTSTART:20251102T060000
END:STANDARD
BEGIN:DAYLIGHT
TZOFFSETFROM:-0500
TZOFFSETTO:-0400
TZNAME:EDT
DTSTART:20260308T070000
END:DAYLIGHT
BEGIN:STANDARD
TZOFFSETFROM:-0400
TZOFFSETTO:-0500
TZNAME:EST
DTSTART:20261101T060000
END:STANDARD
END:VTIMEZONE
BEGIN:VEVENT
DTSTART;TZID=America/New_York:20250206T100000
DTEND;TZID=America/New_York:20250206T113000
DTSTAMP:20260425T192720
CREATED:20250115T175521Z
LAST-MODIFIED:20250115T175521Z
UID:10015366-1738836000-1738841400@epworth.faith
SUMMARY:Parkinson's Voice Project Choir Project (Music Room)
DESCRIPTION:
URL:https://epworth.faith/event/parkinsons-voice-project-choir-project-music-room/2025-02-06/
LOCATION:Epworth United Methodist Church\, 19285 Holland Glade Road\, Rehoboth Beach\, DE\, 19971\, United States
CATEGORIES:Church,Groups
ORGANIZER;CN="Doug Yetter":MAILTO:dyetter@epworth.faith
END:VEVENT
BEGIN:VEVENT
DTSTART;TZID=America/New_York:20250206T110000
DTEND;TZID=America/New_York:20250206T120000
DTSTAMP:20260425T192720
CREATED:20250109T185158Z
LAST-MODIFIED:20250109T185158Z
UID:10015353-1738839600-1738843200@epworth.faith
SUMMARY:Food Ministry Meeting (Office Conference Room)
DESCRIPTION:
URL:https://epworth.faith/event/food-ministry-meeting-office-conference-room/
LOCATION:Epworth United Methodist Church\, 19285 Holland Glade Road\, Rehoboth Beach\, DE\, 19971\, United States
CATEGORIES:Church,Groups
ORGANIZER;CN="Mike Tyler":MAILTO:miketylerde@gmail.com
END:VEVENT
BEGIN:VEVENT
DTSTART;TZID=America/New_York:20250206T110000
DTEND;TZID=America/New_York:20250206T123000
DTSTAMP:20260425T192720
CREATED:20250109T163950Z
LAST-MODIFIED:20250109T164313Z
UID:10015348-1738839600-1738845000@epworth.faith
SUMMARY:Grief Support Group (Baker Room)
DESCRIPTION:
URL:https://epworth.faith/event/grief-support-group-baker-room/2025-02-06/
LOCATION:Epworth United Methodist Church\, 19285 Holland Glade Road\, Rehoboth Beach\, DE\, 19971\, United States
CATEGORIES:Church,Groups
ORGANIZER;CN="Vicki Gordy-Stith":MAILTO:vgordy-stith@epworth.faith
END:VEVENT
BEGIN:VEVENT
DTSTART;TZID=America/New_York:20250206T120000
DTEND;TZID=America/New_York:20250206T130000
DTSTAMP:20260425T192720
CREATED:20240905T122329Z
LAST-MODIFIED:20251023T150055Z
UID:10014374-1738843200-1738846800@epworth.faith
SUMMARY:Alanon Meeting (Branford Room)
DESCRIPTION:
URL:https://epworth.faith/event/alanon-meeting-branford-room-3/2025-02-06/
LOCATION:Epworth United Methodist Church\, 19285 Holland Glade Road\, Rehoboth Beach\, DE\, 19971\, United States
CATEGORIES:Church,Groups
END:VEVENT
BEGIN:VEVENT
DTSTART;TZID=America/New_York:20250206T130000
DTEND;TZID=America/New_York:20250206T143000
DTSTAMP:20260425T192720
CREATED:20250203T193956Z
LAST-MODIFIED:20250203T193956Z
UID:10015503-1738846800-1738852200@epworth.faith
SUMMARY:Social Justice Committee Meeting (Baker Room)
DESCRIPTION:
URL:https://epworth.faith/event/social-justice-committee-meeting-baker-room/
LOCATION:Epworth United Methodist Church\, 19285 Holland Glade Road\, Rehoboth Beach\, DE\, 19971\, United States
CATEGORIES:Church,Groups
ORGANIZER;CN="Kim Witmer":MAILTO:kw.witmer@kw.com
END:VEVENT
BEGIN:VEVENT
DTSTART;TZID=America/New_York:20250206T180000
DTEND;TZID=America/New_York:20250206T200000
DTSTAMP:20260425T192720
CREATED:20250102T154449Z
LAST-MODIFIED:20250303T203012Z
UID:10015523-1738864800-1738872000@epworth.faith
SUMMARY:Disciple Class (Starnes Room)
DESCRIPTION:
URL:https://epworth.faith/event/disciple-class-starnes-room/2025-02-06/
LOCATION:Epworth United Methodist Church\, 19285 Holland Glade Road\, Rehoboth Beach\, DE\, 19971\, United States
CATEGORIES:Church,Groups
ORGANIZER;CN="Val Linder":MAILTO:rovalinder@comcast.net
END:VEVENT
BEGIN:VEVENT
DTSTART;TZID=America/New_York:20250206T193000
DTEND;TZID=America/New_York:20250206T203000
DTSTAMP:20260425T192720
CREATED:20240905T122521Z
LAST-MODIFIED:20251023T150301Z
UID:10014426-1738870200-1738873800@epworth.faith
SUMMARY:AA Meeting (Baker Room)
DESCRIPTION:
URL:https://epworth.faith/event/aa-meeting-baker-room/2025-02-06/
LOCATION:Epworth United Methodist Church\, 19285 Holland Glade Road\, Rehoboth Beach\, DE\, 19971\, United States
CATEGORIES:Church,Groups
END:VEVENT
END:VCALENDAR