BEGIN:VCALENDAR
VERSION:2.0
PRODID:-//Epworth UMC - ECPv6.15.20//NONSGML v1.0//EN
CALSCALE:GREGORIAN
METHOD:PUBLISH
X-WR-CALNAME:Epworth UMC
X-ORIGINAL-URL:https://epworth.faith
X-WR-CALDESC:Events for Epworth UMC
REFRESH-INTERVAL;VALUE=DURATION:PT1H
X-Robots-Tag:noindex
X-PUBLISHED-TTL:PT1H
BEGIN:VTIMEZONE
TZID:America/New_York
BEGIN:DAYLIGHT
TZOFFSETFROM:-0500
TZOFFSETTO:-0400
TZNAME:EDT
DTSTART:20240310T070000
END:DAYLIGHT
BEGIN:STANDARD
TZOFFSETFROM:-0400
TZOFFSETTO:-0500
TZNAME:EST
DTSTART:20241103T060000
END:STANDARD
BEGIN:DAYLIGHT
TZOFFSETFROM:-0500
TZOFFSETTO:-0400
TZNAME:EDT
DTSTART:20250309T070000
END:DAYLIGHT
BEGIN:STANDARD
TZOFFSETFROM:-0400
TZOFFSETTO:-0500
TZNAME:EST
DTSTART:20251102T060000
END:STANDARD
BEGIN:DAYLIGHT
TZOFFSETFROM:-0500
TZOFFSETTO:-0400
TZNAME:EDT
DTSTART:20260308T070000
END:DAYLIGHT
BEGIN:STANDARD
TZOFFSETFROM:-0400
TZOFFSETTO:-0500
TZNAME:EST
DTSTART:20261101T060000
END:STANDARD
END:VTIMEZONE
BEGIN:VEVENT
DTSTART;VALUE=DATE:20250518
DTEND;VALUE=DATE:20250519
DTSTAMP:20260425T120653
CREATED:20250508T203056Z
LAST-MODIFIED:20250520T144042Z
UID:10016054-1747526400-1747612799@epworth.faith
SUMMARY:Storage Space for Kitchen (Starnes Room)
DESCRIPTION:
URL:https://epworth.faith/event/storage-space-for-kitchen-starnes-room/2025-05-18/
LOCATION:Epworth United Methodist Church\, 19285 Holland Glade Road\, Rehoboth Beach\, DE\, 19971\, United States
CATEGORIES:Church,Groups
ORGANIZER;CN="Mike Tyler":MAILTO:miketylerde@gmail.com
END:VEVENT
BEGIN:VEVENT
DTSTART;TZID=America/New_York:20250518T110000
DTEND;TZID=America/New_York:20250518T124500
DTSTAMP:20260425T120653
CREATED:20250303T202501Z
LAST-MODIFIED:20250303T202548Z
UID:10015567-1747566000-1747572300@epworth.faith
SUMMARY:Flower Ministry for Arrangements (Starnes Room)
DESCRIPTION:
URL:https://epworth.faith/event/flower-ministry-for-arrangements-starnes-room/2025-05-18/
LOCATION:Epworth United Methodist Church\, 19285 Holland Glade Road\, Rehoboth Beach\, DE\, 19971\, United States
CATEGORIES:Church,Groups
ORGANIZER;CN="Val Linder":MAILTO:rovalinder@comcast.net
END:VEVENT
BEGIN:VEVENT
DTSTART;TZID=America/New_York:20250518T111500
DTEND;TZID=America/New_York:20250518T114500
DTSTAMP:20260425T120653
CREATED:20241120T193843Z
LAST-MODIFIED:20241120T193843Z
UID:10015205-1747566900-1747568700@epworth.faith
SUMMARY:Stephen Ministry Prayer Chapel (Baker Room)
DESCRIPTION:
URL:https://epworth.faith/event/stephen-ministry-prayer-chapel-baker-room/2025-05-18/
LOCATION:Epworth United Methodist Church\, 19285 Holland Glade Road\, Rehoboth Beach\, DE\, 19971\, United States
CATEGORIES:Church,Groups
END:VEVENT
BEGIN:VEVENT
DTSTART;TZID=America/New_York:20250518T113000
DTEND;TZID=America/New_York:20250518T123000
DTSTAMP:20260425T120653
CREATED:20240826T184533Z
LAST-MODIFIED:20240826T184533Z
UID:10014063-1747567800-1747571400@epworth.faith
SUMMARY:Meet Me @ Epworth Group Bible Study (Branford Lounge)
DESCRIPTION:
URL:https://epworth.faith/event/meet-me-epworth-group-bible-study-branford-lounge/2025-05-18/
LOCATION:Epworth United Methodist Church\, 19285 Holland Glade Road\, Rehoboth Beach\, DE\, 19971\, United States
CATEGORIES:Church,Groups
ORGANIZER;CN="Mickie McManamon":MAILTO:mmcmanamon@epworth.faith
END:VEVENT
END:VCALENDAR