BEGIN:VCALENDAR
VERSION:2.0
PRODID:-//Epworth UMC - ECPv6.15.20//NONSGML v1.0//EN
CALSCALE:GREGORIAN
METHOD:PUBLISH
X-ORIGINAL-URL:https://epworth.faith
X-WR-CALDESC:Events for Epworth UMC
REFRESH-INTERVAL;VALUE=DURATION:PT1H
X-Robots-Tag:noindex
X-PUBLISHED-TTL:PT1H
BEGIN:VTIMEZONE
TZID:America/New_York
BEGIN:DAYLIGHT
TZOFFSETFROM:-0500
TZOFFSETTO:-0400
TZNAME:EDT
DTSTART:20240310T070000
END:DAYLIGHT
BEGIN:STANDARD
TZOFFSETFROM:-0400
TZOFFSETTO:-0500
TZNAME:EST
DTSTART:20241103T060000
END:STANDARD
BEGIN:DAYLIGHT
TZOFFSETFROM:-0500
TZOFFSETTO:-0400
TZNAME:EDT
DTSTART:20250309T070000
END:DAYLIGHT
BEGIN:STANDARD
TZOFFSETFROM:-0400
TZOFFSETTO:-0500
TZNAME:EST
DTSTART:20251102T060000
END:STANDARD
BEGIN:DAYLIGHT
TZOFFSETFROM:-0500
TZOFFSETTO:-0400
TZNAME:EDT
DTSTART:20260308T070000
END:DAYLIGHT
BEGIN:STANDARD
TZOFFSETFROM:-0400
TZOFFSETTO:-0500
TZNAME:EST
DTSTART:20261101T060000
END:STANDARD
END:VTIMEZONE
BEGIN:VEVENT
DTSTART;TZID=America/New_York:20250309T110000
DTEND;TZID=America/New_York:20250309T123000
DTSTAMP:20260425T162546
CREATED:20250213T170532Z
LAST-MODIFIED:20250213T170532Z
UID:10015509-1741518000-1741523400@epworth.faith
SUMMARY:Town Hall Meeting - After Service (Sanctuary)
DESCRIPTION:
URL:https://epworth.faith/event/town-hall-meeting-after-service-sanctuary/
LOCATION:Epworth United Methodist Church\, 19285 Holland Glade Road\, Rehoboth Beach\, DE\, 19971\, United States
CATEGORIES:Church,Groups
ORGANIZER;CN="Vicki Gordy-Stith":MAILTO:vgordy-stith@epworth.faith
END:VEVENT
BEGIN:VEVENT
DTSTART;TZID=America/New_York:20250309T110000
DTEND;TZID=America/New_York:20250309T124500
DTSTAMP:20260425T162546
CREATED:20250303T202501Z
LAST-MODIFIED:20250303T202548Z
UID:10015557-1741518000-1741524300@epworth.faith
SUMMARY:Flower Ministry for Arrangements (Starnes Room)
DESCRIPTION:
URL:https://epworth.faith/event/flower-ministry-for-arrangements-starnes-room/2025-03-09/
LOCATION:Epworth United Methodist Church\, 19285 Holland Glade Road\, Rehoboth Beach\, DE\, 19971\, United States
CATEGORIES:Church,Groups
ORGANIZER;CN="Val Linder":MAILTO:rovalinder@comcast.net
END:VEVENT
BEGIN:VEVENT
DTSTART;TZID=America/New_York:20250309T111500
DTEND;TZID=America/New_York:20250309T114500
DTSTAMP:20260425T162546
CREATED:20241120T193843Z
LAST-MODIFIED:20241120T193843Z
UID:10015195-1741518900-1741520700@epworth.faith
SUMMARY:Stephen Ministry Prayer Chapel (Baker Room)
DESCRIPTION:
URL:https://epworth.faith/event/stephen-ministry-prayer-chapel-baker-room/2025-03-09/
LOCATION:Epworth United Methodist Church\, 19285 Holland Glade Road\, Rehoboth Beach\, DE\, 19971\, United States
CATEGORIES:Church,Groups
END:VEVENT
BEGIN:VEVENT
DTSTART;TZID=America/New_York:20250309T113000
DTEND;TZID=America/New_York:20250309T123000
DTSTAMP:20260425T162546
CREATED:20240826T184533Z
LAST-MODIFIED:20240826T184533Z
UID:10014053-1741519800-1741523400@epworth.faith
SUMMARY:Meet Me @ Epworth Group Bible Study (Branford Lounge)
DESCRIPTION:
URL:https://epworth.faith/event/meet-me-epworth-group-bible-study-branford-lounge/2025-03-09/
LOCATION:Epworth United Methodist Church\, 19285 Holland Glade Road\, Rehoboth Beach\, DE\, 19971\, United States
CATEGORIES:Church,Groups
ORGANIZER;CN="Mickie McManamon":MAILTO:mmcmanamon@epworth.faith
END:VEVENT
BEGIN:VEVENT
DTSTART;TZID=America/New_York:20250309T113000
DTEND;TZID=America/New_York:20250309T130000
DTSTAMP:20260425T162546
CREATED:20250204T135245Z
LAST-MODIFIED:20250204T135325Z
UID:10015504-1741519800-1741525200@epworth.faith
SUMMARY:Emmaus FTF Orientation (Starnes Room)
DESCRIPTION:
URL:https://epworth.faith/event/emmaus-ftf-orientation-starnes-room-2/
LOCATION:Epworth United Methodist Church\, 19285 Holland Glade Road\, Rehoboth Beach\, DE\, 19971\, United States
CATEGORIES:Church,Groups
ORGANIZER;CN="Robin Duer":MAILTO:beachrobin12@aol.com
END:VEVENT
BEGIN:VEVENT
DTSTART;TZID=America/New_York:20250310T130000
DTEND;TZID=America/New_York:20250310T150000
DTSTAMP:20260425T162546
CREATED:20250304T203535Z
LAST-MODIFIED:20250304T203654Z
UID:10015820-1741611600-1741618800@epworth.faith
SUMMARY:Wings Meeting (Baker Room)
DESCRIPTION:
URL:https://epworth.faith/event/wings-meeting-baker-room/2025-03-10/
LOCATION:Epworth United Methodist Church\, 19285 Holland Glade Road\, Rehoboth Beach\, DE\, 19971\, United States
CATEGORIES:Church,Groups
ORGANIZER;CN="Lauren Stayton":MAILTO:laurenstayton@gmail.com
END:VEVENT
BEGIN:VEVENT
DTSTART;TZID=America/New_York:20250310T170000
DTEND;TZID=America/New_York:20250310T180000
DTSTAMP:20260425T162546
CREATED:20240905T122003Z
LAST-MODIFIED:20251023T143906Z
UID:10014274-1741626000-1741629600@epworth.faith
SUMMARY:Alanon Newcomers (Baker Room)
DESCRIPTION:
URL:https://epworth.faith/event/alanon-newcomers-baker-room/2025-03-10/
LOCATION:Epworth United Methodist Church\, 19285 Holland Glade Road\, Rehoboth Beach\, DE\, 19971\, United States
CATEGORIES:Church,Groups
END:VEVENT
BEGIN:VEVENT
DTSTART;TZID=America/New_York:20250310T170000
DTEND;TZID=America/New_York:20250310T190000
DTSTAMP:20260425T162546
CREATED:20250109T155708Z
LAST-MODIFIED:20250109T155708Z
UID:10015327-1741626000-1741633200@epworth.faith
SUMMARY:Kiva Club Meeting (Youth Room)
DESCRIPTION:
URL:https://epworth.faith/event/kiva-club-meeting-youth-room-2/
LOCATION:Epworth United Methodist Church\, 19285 Holland Glade Road\, Rehoboth Beach\, DE\, 19971\, United States
CATEGORIES:Church,Groups
ORGANIZER;CN="Jackie Shockley":MAILTO:jacshock@aol.com
END:VEVENT
BEGIN:VEVENT
DTSTART;TZID=America/New_York:20250310T180000
DTEND;TZID=America/New_York:20250310T190000
DTSTAMP:20260425T162546
CREATED:20240905T122138Z
LAST-MODIFIED:20251023T144119Z
UID:10014326-1741629600-1741633200@epworth.faith
SUMMARY:Alanon Meeting (Branford Room)
DESCRIPTION:
URL:https://epworth.faith/event/alanon-meeting-branford-room-2/2025-03-10/
LOCATION:Epworth United Methodist Church\, 19285 Holland Glade Road\, Rehoboth Beach\, DE\, 19971\, United States
CATEGORIES:Church,Groups
END:VEVENT
BEGIN:VEVENT
DTSTART;TZID=America/New_York:20250310T183000
DTEND;TZID=America/New_York:20250310T200000
DTSTAMP:20260425T162546
CREATED:20241218T141355Z
LAST-MODIFIED:20250310T151651Z
UID:10015271-1741631400-1741636800@epworth.faith
SUMMARY:Small Study Group - Searching for Jesus (Starnes Room)
DESCRIPTION:
URL:https://epworth.faith/event/small-study-group-searching-for-jesus-starnes-room/2025-03-10/
LOCATION:Epworth United Methodist Church\, 19285 Holland Glade Road\, Rehoboth Beach\, DE\, 19971\, United States
CATEGORIES:Church,Groups
ORGANIZER;CN="David Garrett":MAILTO:dlgarrett4rb@gmail.com
END:VEVENT
BEGIN:VEVENT
DTSTART;TZID=America/New_York:20250311T093000
DTEND;TZID=America/New_York:20250311T123000
DTSTAMP:20260425T162546
CREATED:20250311T121401Z
LAST-MODIFIED:20250311T121401Z
UID:10015831-1741685400-1741696200@epworth.faith
SUMMARY:Boys & Girls Club Meeting (Baker Room)
DESCRIPTION:
URL:https://epworth.faith/event/boys-girls-club-meeting-baker-room/
LOCATION:Epworth United Methodist Church\, 19285 Holland Glade Road\, Rehoboth Beach\, DE\, 19971\, United States
CATEGORIES:Church,Groups
ORGANIZER;CN="Leighanne Partusch":MAILTO:lpartusch@bgclubs.org
END:VEVENT
BEGIN:VEVENT
DTSTART;TZID=America/New_York:20250311T110000
DTEND;TZID=America/New_York:20250311T130000
DTSTAMP:20260425T162546
CREATED:20250225T132957Z
LAST-MODIFIED:20250225T132957Z
UID:10015542-1741690800-1741698000@epworth.faith
SUMMARY:365 Christmas Joy - Shamrocks (Fellowship Hall)
DESCRIPTION:
URL:https://epworth.faith/event/365-christmas-joy-shamrocks-fellowship-hall/
LOCATION:Epworth United Methodist Church\, 19285 Holland Glade Road\, Rehoboth Beach\, DE\, 19971\, United States
CATEGORIES:Church,Groups
ORGANIZER;CN="Sue Brenton":MAILTO:myshadow143@verizon.net
END:VEVENT
BEGIN:VEVENT
DTSTART;TZID=America/New_York:20250311T180000
DTEND;TZID=America/New_York:20250311T190000
DTSTAMP:20260425T162546
CREATED:20240905T121346Z
LAST-MODIFIED:20251023T144445Z
UID:10014118-1741716000-1741719600@epworth.faith
SUMMARY:Alanon Meeting (Branford Room)
DESCRIPTION:
URL:https://epworth.faith/event/alanon-meeting-branford-room/2025-03-11/
LOCATION:Epworth United Methodist Church\, 19285 Holland Glade Road\, Rehoboth Beach\, DE\, 19971\, United States
CATEGORIES:Church,Groups
END:VEVENT
BEGIN:VEVENT
DTSTART;TZID=America/New_York:20250311T183000
DTEND;TZID=America/New_York:20250311T213000
DTSTAMP:20260425T162546
CREATED:20240529T212715Z
LAST-MODIFIED:20250317T133252Z
UID:10013537-1741717800-1741728600@epworth.faith
SUMMARY:Face to Face Emmaus Team Training (Fellowship Hall)
DESCRIPTION:
URL:https://epworth.faith/event/face-to-face-emmaus-team-training-fellowship-hall/2025-03-11/
LOCATION:Epworth United Methodist Church\, 19285 Holland Glade Road\, Rehoboth Beach\, DE\, 19971\, United States
CATEGORIES:Church,Groups
ORGANIZER;CN="Mickie McManamon":MAILTO:mmcmanamon@epworth.faith
END:VEVENT
BEGIN:VEVENT
DTSTART;TZID=America/New_York:20250311T190000
DTEND;TZID=America/New_York:20250311T200000
DTSTAMP:20260425T162546
CREATED:20240905T121615Z
LAST-MODIFIED:20251023T144756Z
UID:10014170-1741719600-1741723200@epworth.faith
SUMMARY:Alanon Meeting (Baker Room)
DESCRIPTION:
URL:https://epworth.faith/event/alanon-meeting-baker-room/2025-03-11/
LOCATION:Epworth United Methodist Church\, 19285 Holland Glade Road\, Rehoboth Beach\, DE\, 19971\, United States
CATEGORIES:Church,Groups
END:VEVENT
BEGIN:VEVENT
DTSTART;TZID=America/New_York:20250311T190000
DTEND;TZID=America/New_York:20250311T200000
DTSTAMP:20260425T162546
CREATED:20240905T121808Z
LAST-MODIFIED:20251023T145128Z
UID:10014222-1741719600-1741723200@epworth.faith
SUMMARY:AA Meeting (Music Room)
DESCRIPTION:
URL:https://epworth.faith/event/aa-meeting-music-room/2025-03-11/
LOCATION:Epworth United Methodist Church\, 19285 Holland Glade Road\, Rehoboth Beach\, DE\, 19971\, United States
CATEGORIES:Church,Groups
END:VEVENT
BEGIN:VEVENT
DTSTART;TZID=America/New_York:20250312T100000
DTEND;TZID=America/New_York:20250312T120000
DTSTAMP:20260425T162546
CREATED:20240509T205948Z
LAST-MODIFIED:20240509T205948Z
UID:10013442-1741773600-1741780800@epworth.faith
SUMMARY:Sisters in Christ Bible Study (Starnes Room)
DESCRIPTION:
URL:https://epworth.faith/event/sisters-in-christ-bible-study-starnes-room/2025-03-12/
LOCATION:Epworth United Methodist Church\, 19285 Holland Glade Road\, Rehoboth Beach\, DE\, 19971\, United States
CATEGORIES:Church,Groups
ORGANIZER;CN="Susan Jimenez":MAILTO:saj19971@gmail.com
END:VEVENT
BEGIN:VEVENT
DTSTART;TZID=America/New_York:20250312T160000
DTEND;TZID=America/New_York:20250312T170000
DTSTAMP:20260425T162546
CREATED:20250312T200721Z
LAST-MODIFIED:20250312T200721Z
UID:10015894-1741795200-1741798800@epworth.faith
SUMMARY:Book Club (Starnes Room)
DESCRIPTION:
URL:https://epworth.faith/event/book-club-starnes-room/2025-03-12/
LOCATION:Epworth United Methodist Church\, 19285 Holland Glade Road\, Rehoboth Beach\, DE\, 19971\, United States
CATEGORIES:Church,Groups
END:VEVENT
BEGIN:VEVENT
DTSTART;TZID=America/New_York:20250312T173000
DTEND;TZID=America/New_York:20250312T183000
DTSTAMP:20260425T162546
CREATED:20250116T215058Z
LAST-MODIFIED:20250911T132405Z
UID:10017341-1741800600-1741804200@epworth.faith
SUMMARY:Chancel Choir Practice (Music Room)
DESCRIPTION:
URL:https://epworth.faith/event/chancel-choir-practice-music-room-2/2025-03-12/
LOCATION:Epworth United Methodist Church\, 19285 Holland Glade Road\, Rehoboth Beach\, DE\, 19971\, United States
CATEGORIES:Church,Groups
ORGANIZER;CN="Doug Yetter":MAILTO:dyetter@epworth.faith
END:VEVENT
BEGIN:VEVENT
DTSTART;TZID=America/New_York:20250313T100000
DTEND;TZID=America/New_York:20250313T113000
DTSTAMP:20260425T162546
CREATED:20250115T175521Z
LAST-MODIFIED:20250115T175521Z
UID:10015371-1741860000-1741865400@epworth.faith
SUMMARY:Parkinson's Voice Project Choir Project (Music Room)
DESCRIPTION:
URL:https://epworth.faith/event/parkinsons-voice-project-choir-project-music-room/2025-03-13/
LOCATION:Epworth United Methodist Church\, 19285 Holland Glade Road\, Rehoboth Beach\, DE\, 19971\, United States
CATEGORIES:Church,Groups
ORGANIZER;CN="Doug Yetter":MAILTO:dyetter@epworth.faith
END:VEVENT
BEGIN:VEVENT
DTSTART;TZID=America/New_York:20250313T100000
DTEND;TZID=America/New_York:20250313T113000
DTSTAMP:20260425T162546
CREATED:20250220T192024Z
LAST-MODIFIED:20250220T192024Z
UID:10015537-1741860000-1741865400@epworth.faith
SUMMARY:New Life Thrift Committee Meeting (Baker Room)
DESCRIPTION:
URL:https://epworth.faith/event/new-life-thrift-committee-meeting-baker-room/
LOCATION:Epworth United Methodist Church\, 19285 Holland Glade Road\, Rehoboth Beach\, DE\, 19971\, United States
CATEGORIES:Church,Groups
END:VEVENT
BEGIN:VEVENT
DTSTART;TZID=America/New_York:20250313T110000
DTEND;TZID=America/New_York:20250313T120000
DTSTAMP:20260425T162546
CREATED:20250312T195449Z
LAST-MODIFIED:20250312T195449Z
UID:10015835-1741863600-1741867200@epworth.faith
SUMMARY:Grief Support Group (Starnes Room)
DESCRIPTION:
URL:https://epworth.faith/event/grief-support-group-starnes-room/
LOCATION:Epworth United Methodist Church\, 19285 Holland Glade Road\, Rehoboth Beach\, DE\, 19971\, United States
CATEGORIES:Church,Groups
ORGANIZER;CN="Vicki Gordy-Stith":MAILTO:vgordy-stith@epworth.faith
END:VEVENT
BEGIN:VEVENT
DTSTART;TZID=America/New_York:20250313T120000
DTEND;TZID=America/New_York:20250313T130000
DTSTAMP:20260425T162546
CREATED:20240905T122329Z
LAST-MODIFIED:20251023T150055Z
UID:10014379-1741867200-1741870800@epworth.faith
SUMMARY:Alanon Meeting (Branford Room)
DESCRIPTION:
URL:https://epworth.faith/event/alanon-meeting-branford-room-3/2025-03-13/
LOCATION:Epworth United Methodist Church\, 19285 Holland Glade Road\, Rehoboth Beach\, DE\, 19971\, United States
CATEGORIES:Church,Groups
END:VEVENT
BEGIN:VEVENT
DTSTART;TZID=America/New_York:20250313T183000
DTEND;TZID=America/New_York:20250313T200000
DTSTAMP:20260425T162546
CREATED:20250116T214257Z
LAST-MODIFIED:20250220T191246Z
UID:10015391-1741890600-1741896000@epworth.faith
SUMMARY:Eleventh Commandment Study Group (Branford Room)
DESCRIPTION:
URL:https://epworth.faith/event/eleventh-commandment-study-group-starnes-room/2025-03-13/
LOCATION:Epworth United Methodist Church\, 19285 Holland Glade Road\, Rehoboth Beach\, DE\, 19971\, United States
CATEGORIES:Church,Groups
ORGANIZER;CN="Bob Paulen":MAILTO:bobpaulen@yahoo.com
END:VEVENT
BEGIN:VEVENT
DTSTART;TZID=America/New_York:20250313T193000
DTEND;TZID=America/New_York:20250313T203000
DTSTAMP:20260425T162546
CREATED:20240905T122521Z
LAST-MODIFIED:20251023T150301Z
UID:10014431-1741894200-1741897800@epworth.faith
SUMMARY:AA Meeting (Baker Room)
DESCRIPTION:
URL:https://epworth.faith/event/aa-meeting-baker-room/2025-03-13/
LOCATION:Epworth United Methodist Church\, 19285 Holland Glade Road\, Rehoboth Beach\, DE\, 19971\, United States
CATEGORIES:Church,Groups
END:VEVENT
BEGIN:VEVENT
DTSTART;TZID=America/New_York:20250315T090000
DTEND;TZID=America/New_York:20250315T100000
DTSTAMP:20260425T162546
CREATED:20240905T122704Z
LAST-MODIFIED:20251023T150523Z
UID:10014483-1742029200-1742032800@epworth.faith
SUMMARY:ACA Meeting (Baker Room)
DESCRIPTION:
URL:https://epworth.faith/event/aca-meeting-baker-room/2025-03-15/
LOCATION:Epworth United Methodist Church\, 19285 Holland Glade Road\, Rehoboth Beach\, DE\, 19971\, United States
CATEGORIES:Church,Groups
END:VEVENT
BEGIN:VEVENT
DTSTART;TZID=America/New_York:20250315T180000
DTEND;TZID=America/New_York:20250315T190000
DTSTAMP:20260425T162546
CREATED:20240905T122918Z
LAST-MODIFIED:20251023T150738Z
UID:10014535-1742061600-1742065200@epworth.faith
SUMMARY:Alanon Meeting (Baker Room)
DESCRIPTION:
URL:https://epworth.faith/event/alanon-meeting-baker-room-2/2025-03-15/
LOCATION:Epworth United Methodist Church\, 19285 Holland Glade Road\, Rehoboth Beach\, DE\, 19971\, United States
CATEGORIES:Church,Groups
END:VEVENT
BEGIN:VEVENT
DTSTART;TZID=America/New_York:20250315T180000
DTEND;TZID=America/New_York:20250315T190000
DTSTAMP:20260425T162546
CREATED:20240905T123154Z
LAST-MODIFIED:20251023T152520Z
UID:10014587-1742061600-1742065200@epworth.faith
SUMMARY:AA Meeting (Branford Room)
DESCRIPTION:
URL:https://epworth.faith/event/aa-meeting-branford-room/2025-03-15/
LOCATION:Epworth United Methodist Church\, 19285 Holland Glade Road\, Rehoboth Beach\, DE\, 19971\, United States
CATEGORIES:Church,Groups
END:VEVENT
END:VCALENDAR