BEGIN:VCALENDAR
VERSION:2.0
PRODID:-//Epworth UMC - ECPv6.15.20//NONSGML v1.0//EN
CALSCALE:GREGORIAN
METHOD:PUBLISH
X-WR-CALNAME:Epworth UMC
X-ORIGINAL-URL:https://epworth.faith
X-WR-CALDESC:Events for Epworth UMC
REFRESH-INTERVAL;VALUE=DURATION:PT1H
X-Robots-Tag:noindex
X-PUBLISHED-TTL:PT1H
BEGIN:VTIMEZONE
TZID:America/New_York
BEGIN:DAYLIGHT
TZOFFSETFROM:-0500
TZOFFSETTO:-0400
TZNAME:EDT
DTSTART:20240310T070000
END:DAYLIGHT
BEGIN:STANDARD
TZOFFSETFROM:-0400
TZOFFSETTO:-0500
TZNAME:EST
DTSTART:20241103T060000
END:STANDARD
BEGIN:DAYLIGHT
TZOFFSETFROM:-0500
TZOFFSETTO:-0400
TZNAME:EDT
DTSTART:20250309T070000
END:DAYLIGHT
BEGIN:STANDARD
TZOFFSETFROM:-0400
TZOFFSETTO:-0500
TZNAME:EST
DTSTART:20251102T060000
END:STANDARD
BEGIN:DAYLIGHT
TZOFFSETFROM:-0500
TZOFFSETTO:-0400
TZNAME:EDT
DTSTART:20260308T070000
END:DAYLIGHT
BEGIN:STANDARD
TZOFFSETFROM:-0400
TZOFFSETTO:-0500
TZNAME:EST
DTSTART:20261101T060000
END:STANDARD
END:VTIMEZONE
BEGIN:VEVENT
DTSTART;VALUE=DATE:20250518
DTEND;VALUE=DATE:20250519
DTSTAMP:20260425T102240
CREATED:20250508T203056Z
LAST-MODIFIED:20250520T144042Z
UID:10016054-1747526400-1747612799@epworth.faith
SUMMARY:Storage Space for Kitchen (Starnes Room)
DESCRIPTION:
URL:https://epworth.faith/event/storage-space-for-kitchen-starnes-room/2025-05-18/
LOCATION:Epworth United Methodist Church\, 19285 Holland Glade Road\, Rehoboth Beach\, DE\, 19971\, United States
CATEGORIES:Church,Groups
ORGANIZER;CN="Mike Tyler":MAILTO:miketylerde@gmail.com
END:VEVENT
BEGIN:VEVENT
DTSTART;TZID=America/New_York:20250518T110000
DTEND;TZID=America/New_York:20250518T124500
DTSTAMP:20260425T102240
CREATED:20250303T202501Z
LAST-MODIFIED:20250303T202548Z
UID:10015567-1747566000-1747572300@epworth.faith
SUMMARY:Flower Ministry for Arrangements (Starnes Room)
DESCRIPTION:
URL:https://epworth.faith/event/flower-ministry-for-arrangements-starnes-room/2025-05-18/
LOCATION:Epworth United Methodist Church\, 19285 Holland Glade Road\, Rehoboth Beach\, DE\, 19971\, United States
CATEGORIES:Church,Groups
ORGANIZER;CN="Val Linder":MAILTO:rovalinder@comcast.net
END:VEVENT
BEGIN:VEVENT
DTSTART;TZID=America/New_York:20250518T111500
DTEND;TZID=America/New_York:20250518T114500
DTSTAMP:20260425T102240
CREATED:20241120T193843Z
LAST-MODIFIED:20241120T193843Z
UID:10015205-1747566900-1747568700@epworth.faith
SUMMARY:Stephen Ministry Prayer Chapel (Baker Room)
DESCRIPTION:
URL:https://epworth.faith/event/stephen-ministry-prayer-chapel-baker-room/2025-05-18/
LOCATION:Epworth United Methodist Church\, 19285 Holland Glade Road\, Rehoboth Beach\, DE\, 19971\, United States
CATEGORIES:Church,Groups
END:VEVENT
BEGIN:VEVENT
DTSTART;TZID=America/New_York:20250518T113000
DTEND;TZID=America/New_York:20250518T123000
DTSTAMP:20260425T102240
CREATED:20240826T184533Z
LAST-MODIFIED:20240826T184533Z
UID:10014063-1747567800-1747571400@epworth.faith
SUMMARY:Meet Me @ Epworth Group Bible Study (Branford Lounge)
DESCRIPTION:
URL:https://epworth.faith/event/meet-me-epworth-group-bible-study-branford-lounge/2025-05-18/
LOCATION:Epworth United Methodist Church\, 19285 Holland Glade Road\, Rehoboth Beach\, DE\, 19971\, United States
CATEGORIES:Church,Groups
ORGANIZER;CN="Mickie McManamon":MAILTO:mmcmanamon@epworth.faith
END:VEVENT
BEGIN:VEVENT
DTSTART;VALUE=DATE:20250519
DTEND;VALUE=DATE:20250520
DTSTAMP:20260425T102240
CREATED:20250508T203056Z
LAST-MODIFIED:20250520T144042Z
UID:10016055-1747612800-1747699199@epworth.faith
SUMMARY:Storage Space for Kitchen (Starnes Room)
DESCRIPTION:
URL:https://epworth.faith/event/storage-space-for-kitchen-starnes-room/2025-05-19/
LOCATION:Epworth United Methodist Church\, 19285 Holland Glade Road\, Rehoboth Beach\, DE\, 19971\, United States
CATEGORIES:Church,Groups
ORGANIZER;CN="Mike Tyler":MAILTO:miketylerde@gmail.com
END:VEVENT
BEGIN:VEVENT
DTSTART;TZID=America/New_York:20250519T090000
DTEND;TZID=America/New_York:20250519T153000
DTSTAMP:20260425T102240
CREATED:20240529T211513Z
LAST-MODIFIED:20250508T140405Z
UID:10013530-1747645200-1747668600@epworth.faith
SUMMARY:Face to Face Emmaus Walk (Music Room\, Youth Room & Branford Room)
DESCRIPTION:
URL:https://epworth.faith/event/face-to-face-emmaus-walk-sanctuary-and-baker-room-3/
LOCATION:Epworth United Methodist Church\, 19285 Holland Glade Road\, Rehoboth Beach\, DE\, 19971\, United States
CATEGORIES:Church,Groups
ORGANIZER;CN="Robin Duer":MAILTO:beachrobin12@aol.com
END:VEVENT
BEGIN:VEVENT
DTSTART;TZID=America/New_York:20250519T113000
DTEND;TZID=America/New_York:20250519T130000
DTSTAMP:20260425T102240
CREATED:20240529T211949Z
LAST-MODIFIED:20240529T211949Z
UID:10013534-1747654200-1747659600@epworth.faith
SUMMARY:Face to Face Emmaus Walk Luncheon (Fellowship Hall)
DESCRIPTION:
URL:https://epworth.faith/event/face-to-face-emmaus-walk-luncheon-fellowship-hall-3/
LOCATION:Epworth United Methodist Church\, 19285 Holland Glade Road\, Rehoboth Beach\, DE\, 19971\, United States
CATEGORIES:Church,Groups
ORGANIZER;CN="Mickie McManamon":MAILTO:mmcmanamon@epworth.faith
END:VEVENT
BEGIN:VEVENT
DTSTART;TZID=America/New_York:20250519T170000
DTEND;TZID=America/New_York:20250519T180000
DTSTAMP:20260425T102240
CREATED:20240905T122003Z
LAST-MODIFIED:20251023T143906Z
UID:10014284-1747674000-1747677600@epworth.faith
SUMMARY:Alanon Newcomers (Baker Room)
DESCRIPTION:
URL:https://epworth.faith/event/alanon-newcomers-baker-room/2025-05-19/
LOCATION:Epworth United Methodist Church\, 19285 Holland Glade Road\, Rehoboth Beach\, DE\, 19971\, United States
CATEGORIES:Church,Groups
END:VEVENT
BEGIN:VEVENT
DTSTART;TZID=America/New_York:20250519T180000
DTEND;TZID=America/New_York:20250519T190000
DTSTAMP:20260425T102240
CREATED:20240905T122138Z
LAST-MODIFIED:20251023T144119Z
UID:10014336-1747677600-1747681200@epworth.faith
SUMMARY:Alanon Meeting (Branford Room)
DESCRIPTION:
URL:https://epworth.faith/event/alanon-meeting-branford-room-2/2025-05-19/
LOCATION:Epworth United Methodist Church\, 19285 Holland Glade Road\, Rehoboth Beach\, DE\, 19971\, United States
CATEGORIES:Church,Groups
END:VEVENT
BEGIN:VEVENT
DTSTART;TZID=America/New_York:20250519T180000
DTEND;TZID=America/New_York:20250519T190000
DTSTAMP:20260425T102240
CREATED:20250501T142828Z
LAST-MODIFIED:20250501T142828Z
UID:10016025-1747677600-1747681200@epworth.faith
SUMMARY:Prostate Cancer Support Group (Starnes Room)
DESCRIPTION:
URL:https://epworth.faith/event/prostate-cancer-support-group-starnes-room/
LOCATION:Epworth United Methodist Church\, 19285 Holland Glade Road\, Rehoboth Beach\, DE\, 19971\, United States
CATEGORIES:Church,Groups
ORGANIZER;CN="Bob Thoman":MAILTO:bobthomanappraisals@gmail.com
END:VEVENT
BEGIN:VEVENT
DTSTART;VALUE=DATE:20250520
DTEND;VALUE=DATE:20250521
DTSTAMP:20260425T102240
CREATED:20250508T203056Z
LAST-MODIFIED:20250520T144042Z
UID:10016056-1747699200-1747785599@epworth.faith
SUMMARY:Storage Space for Kitchen (Starnes Room)
DESCRIPTION:
URL:https://epworth.faith/event/storage-space-for-kitchen-starnes-room/2025-05-20/
LOCATION:Epworth United Methodist Church\, 19285 Holland Glade Road\, Rehoboth Beach\, DE\, 19971\, United States
CATEGORIES:Church,Groups
ORGANIZER;CN="Mike Tyler":MAILTO:miketylerde@gmail.com
END:VEVENT
BEGIN:VEVENT
DTSTART;TZID=America/New_York:20250520T180000
DTEND;TZID=America/New_York:20250520T190000
DTSTAMP:20260425T102240
CREATED:20240905T121346Z
LAST-MODIFIED:20251023T144445Z
UID:10014128-1747764000-1747767600@epworth.faith
SUMMARY:Alanon Meeting (Branford Room)
DESCRIPTION:
URL:https://epworth.faith/event/alanon-meeting-branford-room/2025-05-20/
LOCATION:Epworth United Methodist Church\, 19285 Holland Glade Road\, Rehoboth Beach\, DE\, 19971\, United States
CATEGORIES:Church,Groups
END:VEVENT
BEGIN:VEVENT
DTSTART;TZID=America/New_York:20250520T190000
DTEND;TZID=America/New_York:20250520T200000
DTSTAMP:20260425T102240
CREATED:20240905T121615Z
LAST-MODIFIED:20251023T144756Z
UID:10014180-1747767600-1747771200@epworth.faith
SUMMARY:Alanon Meeting (Baker Room)
DESCRIPTION:
URL:https://epworth.faith/event/alanon-meeting-baker-room/2025-05-20/
LOCATION:Epworth United Methodist Church\, 19285 Holland Glade Road\, Rehoboth Beach\, DE\, 19971\, United States
CATEGORIES:Church,Groups
END:VEVENT
BEGIN:VEVENT
DTSTART;TZID=America/New_York:20250520T190000
DTEND;TZID=America/New_York:20250520T200000
DTSTAMP:20260425T102240
CREATED:20240905T121808Z
LAST-MODIFIED:20251023T145128Z
UID:10014232-1747767600-1747771200@epworth.faith
SUMMARY:AA Meeting (Music Room)
DESCRIPTION:
URL:https://epworth.faith/event/aa-meeting-music-room/2025-05-20/
LOCATION:Epworth United Methodist Church\, 19285 Holland Glade Road\, Rehoboth Beach\, DE\, 19971\, United States
CATEGORIES:Church,Groups
END:VEVENT
BEGIN:VEVENT
DTSTART;VALUE=DATE:20250521
DTEND;VALUE=DATE:20250522
DTSTAMP:20260425T102240
CREATED:20250508T203056Z
LAST-MODIFIED:20250520T144042Z
UID:10016057-1747785600-1747871999@epworth.faith
SUMMARY:Storage Space for Kitchen (Starnes Room)
DESCRIPTION:
URL:https://epworth.faith/event/storage-space-for-kitchen-starnes-room/2025-05-21/
LOCATION:Epworth United Methodist Church\, 19285 Holland Glade Road\, Rehoboth Beach\, DE\, 19971\, United States
CATEGORIES:Church,Groups
ORGANIZER;CN="Mike Tyler":MAILTO:miketylerde@gmail.com
END:VEVENT
BEGIN:VEVENT
DTSTART;TZID=America/New_York:20250521T090000
DTEND;TZID=America/New_York:20250521T113000
DTSTAMP:20260425T102240
CREATED:20240529T211548Z
LAST-MODIFIED:20250508T140513Z
UID:10013531-1747818000-1747827000@epworth.faith
SUMMARY:Face to Face Emmaus Walk (Music Room\, Youth Room & Branford Room)
DESCRIPTION:
URL:https://epworth.faith/event/face-to-face-emmaus-walk-sanctuary-and-baker-room-4/
LOCATION:Epworth United Methodist Church\, 19285 Holland Glade Road\, Rehoboth Beach\, DE\, 19971\, United States
CATEGORIES:Church,Groups
ORGANIZER;CN="Robin Duer":MAILTO:beachrobin12@aol.com
END:VEVENT
BEGIN:VEVENT
DTSTART;TZID=America/New_York:20250521T100000
DTEND;TZID=America/New_York:20250521T120000
DTSTAMP:20260425T102240
CREATED:20240509T205948Z
LAST-MODIFIED:20240509T205948Z
UID:10013452-1747821600-1747828800@epworth.faith
SUMMARY:Sisters in Christ Bible Study (Starnes Room)
DESCRIPTION:
URL:https://epworth.faith/event/sisters-in-christ-bible-study-starnes-room/2025-05-21/
LOCATION:Epworth United Methodist Church\, 19285 Holland Glade Road\, Rehoboth Beach\, DE\, 19971\, United States
CATEGORIES:Church,Groups
ORGANIZER;CN="Susan Jimenez":MAILTO:saj19971@gmail.com
END:VEVENT
BEGIN:VEVENT
DTSTART;TZID=America/New_York:20250521T113000
DTEND;TZID=America/New_York:20250521T150000
DTSTAMP:20260425T102240
CREATED:20240529T212049Z
LAST-MODIFIED:20250417T132519Z
UID:10013535-1747827000-1747839600@epworth.faith
SUMMARY:Face to Face Emmaus Walk Luncheon (Fellowship Hall)
DESCRIPTION:
URL:https://epworth.faith/event/face-to-face-emmaus-walk-luncheon-fellowship-hall-4/
LOCATION:Epworth United Methodist Church\, 19285 Holland Glade Road\, Rehoboth Beach\, DE\, 19971\, United States
CATEGORIES:Church,Groups
ORGANIZER;CN="Robin Duer":MAILTO:beachrobin12@aol.com
END:VEVENT
BEGIN:VEVENT
DTSTART;TZID=America/New_York:20250521T173000
DTEND;TZID=America/New_York:20250521T183000
DTSTAMP:20260425T102240
CREATED:20250116T215058Z
LAST-MODIFIED:20250911T132405Z
UID:10017351-1747848600-1747852200@epworth.faith
SUMMARY:Chancel Choir Practice (Music Room)
DESCRIPTION:
URL:https://epworth.faith/event/chancel-choir-practice-music-room-2/2025-05-21/
LOCATION:Epworth United Methodist Church\, 19285 Holland Glade Road\, Rehoboth Beach\, DE\, 19971\, United States
CATEGORIES:Church,Groups
ORGANIZER;CN="Doug Yetter":MAILTO:dyetter@epworth.faith
END:VEVENT
BEGIN:VEVENT
DTSTART;TZID=America/New_York:20250521T183000
DTEND;TZID=America/New_York:20250521T210000
DTSTAMP:20260425T102240
CREATED:20240321T141329Z
LAST-MODIFIED:20240321T141511Z
UID:10012585-1747852200-1747861200@epworth.faith
SUMMARY:ManKind Project (MKP) (Baker Lounge)
DESCRIPTION:
URL:https://epworth.faith/event/mankind-project-mkp-baker-lounge-4/2025-05-21/
LOCATION:Epworth United Methodist Church\, 19285 Holland Glade Road\, Rehoboth Beach\, DE\, 19971\, United States
CATEGORIES:Church,Groups
ORGANIZER;CN="Rick Buske":MAILTO:rick.buske@gmail.com
END:VEVENT
BEGIN:VEVENT
DTSTART;VALUE=DATE:20250522
DTEND;VALUE=DATE:20250523
DTSTAMP:20260425T102240
CREATED:20250508T203056Z
LAST-MODIFIED:20250520T144042Z
UID:10016058-1747872000-1747958399@epworth.faith
SUMMARY:Storage Space for Kitchen (Starnes Room)
DESCRIPTION:
URL:https://epworth.faith/event/storage-space-for-kitchen-starnes-room/2025-05-22/
LOCATION:Epworth United Methodist Church\, 19285 Holland Glade Road\, Rehoboth Beach\, DE\, 19971\, United States
CATEGORIES:Church,Groups
ORGANIZER;CN="Mike Tyler":MAILTO:miketylerde@gmail.com
END:VEVENT
BEGIN:VEVENT
DTSTART;TZID=America/New_York:20250522T093000
DTEND;TZID=America/New_York:20250522T103000
DTSTAMP:20260425T102240
CREATED:20250521T185021Z
LAST-MODIFIED:20260205T141334Z
UID:10016545-1747906200-1747909800@epworth.faith
SUMMARY:Alzheimer/Dementia Support Group (Baker Room)
DESCRIPTION:
URL:https://epworth.faith/event/alzheimer-dementia-support-group-baker-room/2025-05-22/
LOCATION:Epworth United Methodist Church\, 19285 Holland Glade Road\, Rehoboth Beach\, DE\, 19971\, United States
CATEGORIES:Church,Groups
ORGANIZER;CN="Harry Martens":MAILTO:HMartensiii@gmail.com
END:VEVENT
BEGIN:VEVENT
DTSTART;TZID=America/New_York:20250522T100000
DTEND;TZID=America/New_York:20250522T113000
DTSTAMP:20260425T102240
CREATED:20250513T185955Z
LAST-MODIFIED:20250513T185955Z
UID:10016466-1747908000-1747913400@epworth.faith
SUMMARY:Parkinson's Voice Project Choir (Music Room)
DESCRIPTION:
URL:https://epworth.faith/event/parkinsons-voice-project-choir-music-room/2025-05-22/
LOCATION:Epworth United Methodist Church\, 19285 Holland Glade Road\, Rehoboth Beach\, DE\, 19971\, United States
CATEGORIES:Church,Groups
ORGANIZER;CN="Doug Yetter":MAILTO:dyetter@epworth.faith
END:VEVENT
BEGIN:VEVENT
DTSTART;TZID=America/New_York:20250522T120000
DTEND;TZID=America/New_York:20250522T130000
DTSTAMP:20260425T102240
CREATED:20240905T122329Z
LAST-MODIFIED:20251023T150055Z
UID:10014389-1747915200-1747918800@epworth.faith
SUMMARY:Alanon Meeting (Branford Room)
DESCRIPTION:
URL:https://epworth.faith/event/alanon-meeting-branford-room-3/2025-05-22/
LOCATION:Epworth United Methodist Church\, 19285 Holland Glade Road\, Rehoboth Beach\, DE\, 19971\, United States
CATEGORIES:Church,Groups
END:VEVENT
BEGIN:VEVENT
DTSTART;TZID=America/New_York:20250522T193000
DTEND;TZID=America/New_York:20250522T203000
DTSTAMP:20260425T102240
CREATED:20240905T122521Z
LAST-MODIFIED:20251023T150301Z
UID:10014441-1747942200-1747945800@epworth.faith
SUMMARY:AA Meeting (Baker Room)
DESCRIPTION:
URL:https://epworth.faith/event/aa-meeting-baker-room/2025-05-22/
LOCATION:Epworth United Methodist Church\, 19285 Holland Glade Road\, Rehoboth Beach\, DE\, 19971\, United States
CATEGORIES:Church,Groups
END:VEVENT
BEGIN:VEVENT
DTSTART;VALUE=DATE:20250523
DTEND;VALUE=DATE:20250524
DTSTAMP:20260425T102240
CREATED:20250508T203056Z
LAST-MODIFIED:20250520T144042Z
UID:10016059-1747958400-1748044799@epworth.faith
SUMMARY:Storage Space for Kitchen (Starnes Room)
DESCRIPTION:
URL:https://epworth.faith/event/storage-space-for-kitchen-starnes-room/2025-05-23/
LOCATION:Epworth United Methodist Church\, 19285 Holland Glade Road\, Rehoboth Beach\, DE\, 19971\, United States
CATEGORIES:Church,Groups
ORGANIZER;CN="Mike Tyler":MAILTO:miketylerde@gmail.com
END:VEVENT
BEGIN:VEVENT
DTSTART;VALUE=DATE:20250524
DTEND;VALUE=DATE:20250525
DTSTAMP:20260425T102240
CREATED:20250508T203056Z
LAST-MODIFIED:20250520T144042Z
UID:10016539-1748044800-1748131199@epworth.faith
SUMMARY:Storage Space for Kitchen (Starnes Room)
DESCRIPTION:
URL:https://epworth.faith/event/storage-space-for-kitchen-starnes-room/2025-05-24/
LOCATION:Epworth United Methodist Church\, 19285 Holland Glade Road\, Rehoboth Beach\, DE\, 19971\, United States
CATEGORIES:Church,Groups
ORGANIZER;CN="Mike Tyler":MAILTO:miketylerde@gmail.com
END:VEVENT
BEGIN:VEVENT
DTSTART;TZID=America/New_York:20250524T090000
DTEND;TZID=America/New_York:20250524T100000
DTSTAMP:20260425T102240
CREATED:20240905T122704Z
LAST-MODIFIED:20251023T150523Z
UID:10014493-1748077200-1748080800@epworth.faith
SUMMARY:ACA Meeting (Baker Room)
DESCRIPTION:
URL:https://epworth.faith/event/aca-meeting-baker-room/2025-05-24/
LOCATION:Epworth United Methodist Church\, 19285 Holland Glade Road\, Rehoboth Beach\, DE\, 19971\, United States
CATEGORIES:Church,Groups
END:VEVENT
BEGIN:VEVENT
DTSTART;TZID=America/New_York:20250524T180000
DTEND;TZID=America/New_York:20250524T190000
DTSTAMP:20260425T102240
CREATED:20240905T122918Z
LAST-MODIFIED:20251023T150738Z
UID:10014545-1748109600-1748113200@epworth.faith
SUMMARY:Alanon Meeting (Baker Room)
DESCRIPTION:
URL:https://epworth.faith/event/alanon-meeting-baker-room-2/2025-05-24/
LOCATION:Epworth United Methodist Church\, 19285 Holland Glade Road\, Rehoboth Beach\, DE\, 19971\, United States
CATEGORIES:Church,Groups
END:VEVENT
BEGIN:VEVENT
DTSTART;TZID=America/New_York:20250524T180000
DTEND;TZID=America/New_York:20250524T190000
DTSTAMP:20260425T102240
CREATED:20240905T123154Z
LAST-MODIFIED:20251023T152520Z
UID:10014597-1748109600-1748113200@epworth.faith
SUMMARY:AA Meeting (Branford Room)
DESCRIPTION:
URL:https://epworth.faith/event/aa-meeting-branford-room/2025-05-24/
LOCATION:Epworth United Methodist Church\, 19285 Holland Glade Road\, Rehoboth Beach\, DE\, 19971\, United States
CATEGORIES:Church,Groups
END:VEVENT
END:VCALENDAR