BEGIN:VCALENDAR
VERSION:2.0
PRODID:-//Epworth UMC - ECPv6.15.20//NONSGML v1.0//EN
CALSCALE:GREGORIAN
METHOD:PUBLISH
X-WR-CALNAME:Epworth UMC
X-ORIGINAL-URL:https://epworth.faith
X-WR-CALDESC:Events for Epworth UMC
REFRESH-INTERVAL;VALUE=DURATION:PT1H
X-Robots-Tag:noindex
X-PUBLISHED-TTL:PT1H
BEGIN:VTIMEZONE
TZID:America/New_York
BEGIN:DAYLIGHT
TZOFFSETFROM:-0500
TZOFFSETTO:-0400
TZNAME:EDT
DTSTART:20240310T070000
END:DAYLIGHT
BEGIN:STANDARD
TZOFFSETFROM:-0400
TZOFFSETTO:-0500
TZNAME:EST
DTSTART:20241103T060000
END:STANDARD
BEGIN:DAYLIGHT
TZOFFSETFROM:-0500
TZOFFSETTO:-0400
TZNAME:EDT
DTSTART:20250309T070000
END:DAYLIGHT
BEGIN:STANDARD
TZOFFSETFROM:-0400
TZOFFSETTO:-0500
TZNAME:EST
DTSTART:20251102T060000
END:STANDARD
BEGIN:DAYLIGHT
TZOFFSETFROM:-0500
TZOFFSETTO:-0400
TZNAME:EDT
DTSTART:20260308T070000
END:DAYLIGHT
BEGIN:STANDARD
TZOFFSETFROM:-0400
TZOFFSETTO:-0500
TZNAME:EST
DTSTART:20261101T060000
END:STANDARD
END:VTIMEZONE
BEGIN:VEVENT
DTSTART;TZID=America/New_York:20250727T110000
DTEND;TZID=America/New_York:20250727T124500
DTSTAMP:20260425T074226
CREATED:20250303T202501Z
LAST-MODIFIED:20250303T202548Z
UID:10015577-1753614000-1753620300@epworth.faith
SUMMARY:Flower Ministry for Arrangements (Starnes Room)
DESCRIPTION:
URL:https://epworth.faith/event/flower-ministry-for-arrangements-starnes-room/2025-07-27/
LOCATION:Epworth United Methodist Church\, 19285 Holland Glade Road\, Rehoboth Beach\, DE\, 19971\, United States
CATEGORIES:Church,Groups
ORGANIZER;CN="Val Linder":MAILTO:rovalinder@comcast.net
END:VEVENT
BEGIN:VEVENT
DTSTART;TZID=America/New_York:20250727T111500
DTEND;TZID=America/New_York:20250727T114500
DTSTAMP:20260425T074226
CREATED:20241120T193843Z
LAST-MODIFIED:20241120T193843Z
UID:10015215-1753614900-1753616700@epworth.faith
SUMMARY:Stephen Ministry Prayer Chapel (Baker Room)
DESCRIPTION:
URL:https://epworth.faith/event/stephen-ministry-prayer-chapel-baker-room/2025-07-27/
LOCATION:Epworth United Methodist Church\, 19285 Holland Glade Road\, Rehoboth Beach\, DE\, 19971\, United States
CATEGORIES:Church,Groups
END:VEVENT
BEGIN:VEVENT
DTSTART;TZID=America/New_York:20250728T170000
DTEND;TZID=America/New_York:20250728T180000
DTSTAMP:20260425T074226
CREATED:20240905T122003Z
LAST-MODIFIED:20251023T143906Z
UID:10014294-1753722000-1753725600@epworth.faith
SUMMARY:Alanon Newcomers (Baker Room)
DESCRIPTION:
URL:https://epworth.faith/event/alanon-newcomers-baker-room/2025-07-28/
LOCATION:Epworth United Methodist Church\, 19285 Holland Glade Road\, Rehoboth Beach\, DE\, 19971\, United States
CATEGORIES:Church,Groups
END:VEVENT
BEGIN:VEVENT
DTSTART;TZID=America/New_York:20250728T180000
DTEND;TZID=America/New_York:20250728T190000
DTSTAMP:20260425T074226
CREATED:20240905T122138Z
LAST-MODIFIED:20251023T144119Z
UID:10014346-1753725600-1753729200@epworth.faith
SUMMARY:Alanon Meeting (Branford Room)
DESCRIPTION:
URL:https://epworth.faith/event/alanon-meeting-branford-room-2/2025-07-28/
LOCATION:Epworth United Methodist Church\, 19285 Holland Glade Road\, Rehoboth Beach\, DE\, 19971\, United States
CATEGORIES:Church,Groups
END:VEVENT
BEGIN:VEVENT
DTSTART;TZID=America/New_York:20250728T180000
DTEND;TZID=America/New_York:20250728T190000
DTSTAMP:20260425T074226
CREATED:20250501T143327Z
LAST-MODIFIED:20250501T143327Z
UID:10016027-1753725600-1753729200@epworth.faith
SUMMARY:Prostate Cancer Support Group (Starnes Room)
DESCRIPTION:
URL:https://epworth.faith/event/prostate-cancer-support-group-starnes-room-2/2025-07-28/
LOCATION:Epworth United Methodist Church\, 19285 Holland Glade Road\, Rehoboth Beach\, DE\, 19971\, United States
CATEGORIES:Church,Groups
ORGANIZER;CN="Bob Thoman":MAILTO:bobthomanappraisals@gmail.com
END:VEVENT
BEGIN:VEVENT
DTSTART;TZID=America/New_York:20250729T140000
DTEND;TZID=America/New_York:20250729T170000
DTSTAMP:20260425T074226
CREATED:20250709T184523Z
LAST-MODIFIED:20250709T184523Z
UID:10016979-1753797600-1753808400@epworth.faith
SUMMARY:Stitching Group (Branford Room)
DESCRIPTION:
URL:https://epworth.faith/event/stitching-group-branford-room/2025-07-29/
LOCATION:Epworth United Methodist Church\, 19285 Holland Glade Road\, Rehoboth Beach\, DE\, 19971\, United States
CATEGORIES:Church,Groups
END:VEVENT
BEGIN:VEVENT
DTSTART;TZID=America/New_York:20250729T180000
DTEND;TZID=America/New_York:20250729T190000
DTSTAMP:20260425T074226
CREATED:20240905T121346Z
LAST-MODIFIED:20251023T144445Z
UID:10014138-1753812000-1753815600@epworth.faith
SUMMARY:Alanon Meeting (Branford Room)
DESCRIPTION:
URL:https://epworth.faith/event/alanon-meeting-branford-room/2025-07-29/
LOCATION:Epworth United Methodist Church\, 19285 Holland Glade Road\, Rehoboth Beach\, DE\, 19971\, United States
CATEGORIES:Church,Groups
END:VEVENT
BEGIN:VEVENT
DTSTART;TZID=America/New_York:20250729T190000
DTEND;TZID=America/New_York:20250729T200000
DTSTAMP:20260425T074226
CREATED:20240905T121615Z
LAST-MODIFIED:20251023T144756Z
UID:10014190-1753815600-1753819200@epworth.faith
SUMMARY:Alanon Meeting (Baker Room)
DESCRIPTION:
URL:https://epworth.faith/event/alanon-meeting-baker-room/2025-07-29/
LOCATION:Epworth United Methodist Church\, 19285 Holland Glade Road\, Rehoboth Beach\, DE\, 19971\, United States
CATEGORIES:Church,Groups
END:VEVENT
BEGIN:VEVENT
DTSTART;TZID=America/New_York:20250729T190000
DTEND;TZID=America/New_York:20250729T200000
DTSTAMP:20260425T074226
CREATED:20240905T121808Z
LAST-MODIFIED:20251023T145128Z
UID:10014242-1753815600-1753819200@epworth.faith
SUMMARY:AA Meeting (Music Room)
DESCRIPTION:
URL:https://epworth.faith/event/aa-meeting-music-room/2025-07-29/
LOCATION:Epworth United Methodist Church\, 19285 Holland Glade Road\, Rehoboth Beach\, DE\, 19971\, United States
CATEGORIES:Church,Groups
END:VEVENT
BEGIN:VEVENT
DTSTART;TZID=America/New_York:20250730T110000
DTEND;TZID=America/New_York:20250730T123000
DTSTAMP:20260425T074226
CREATED:20250716T152450Z
LAST-MODIFIED:20250716T152450Z
UID:10017017-1753873200-1753878600@epworth.faith
SUMMARY:Safety/Security Team Meeting (Office Conference Room)
DESCRIPTION:
URL:https://epworth.faith/event/safety-security-team-meeting-office-conference-room/
LOCATION:Epworth United Methodist Church\, 19285 Holland Glade Road\, Rehoboth Beach\, DE\, 19971\, United States
CATEGORIES:Church,Groups
END:VEVENT
BEGIN:VEVENT
DTSTART;TZID=America/New_York:20250730T173000
DTEND;TZID=America/New_York:20250730T183000
DTSTAMP:20260425T074226
CREATED:20250116T215058Z
LAST-MODIFIED:20250911T132405Z
UID:10017361-1753896600-1753900200@epworth.faith
SUMMARY:Chancel Choir Practice (Music Room)
DESCRIPTION:
URL:https://epworth.faith/event/chancel-choir-practice-music-room-2/2025-07-30/
LOCATION:Epworth United Methodist Church\, 19285 Holland Glade Road\, Rehoboth Beach\, DE\, 19971\, United States
CATEGORIES:Church,Groups
ORGANIZER;CN="Doug Yetter":MAILTO:dyetter@epworth.faith
END:VEVENT
BEGIN:VEVENT
DTSTART;TZID=America/New_York:20250731T093000
DTEND;TZID=America/New_York:20250731T103000
DTSTAMP:20260425T074226
CREATED:20250521T185021Z
LAST-MODIFIED:20260205T141334Z
UID:10016555-1753954200-1753957800@epworth.faith
SUMMARY:Alzheimer/Dementia Support Group (Baker Room)
DESCRIPTION:
URL:https://epworth.faith/event/alzheimer-dementia-support-group-baker-room/2025-07-31/
LOCATION:Epworth United Methodist Church\, 19285 Holland Glade Road\, Rehoboth Beach\, DE\, 19971\, United States
CATEGORIES:Church,Groups
ORGANIZER;CN="Harry Martens":MAILTO:HMartensiii@gmail.com
END:VEVENT
BEGIN:VEVENT
DTSTART;TZID=America/New_York:20250731T120000
DTEND;TZID=America/New_York:20250731T130000
DTSTAMP:20260425T074226
CREATED:20240905T122329Z
LAST-MODIFIED:20251023T150055Z
UID:10014399-1753963200-1753966800@epworth.faith
SUMMARY:Alanon Meeting (Branford Room)
DESCRIPTION:
URL:https://epworth.faith/event/alanon-meeting-branford-room-3/2025-07-31/
LOCATION:Epworth United Methodist Church\, 19285 Holland Glade Road\, Rehoboth Beach\, DE\, 19971\, United States
CATEGORIES:Church,Groups
END:VEVENT
BEGIN:VEVENT
DTSTART;TZID=America/New_York:20250731T193000
DTEND;TZID=America/New_York:20250731T203000
DTSTAMP:20260425T074226
CREATED:20240905T122521Z
LAST-MODIFIED:20251023T150301Z
UID:10014451-1753990200-1753993800@epworth.faith
SUMMARY:AA Meeting (Baker Room)
DESCRIPTION:
URL:https://epworth.faith/event/aa-meeting-baker-room/2025-07-31/
LOCATION:Epworth United Methodist Church\, 19285 Holland Glade Road\, Rehoboth Beach\, DE\, 19971\, United States
CATEGORIES:Church,Groups
END:VEVENT
BEGIN:VEVENT
DTSTART;TZID=America/New_York:20250802T090000
DTEND;TZID=America/New_York:20250802T100000
DTSTAMP:20260425T074226
CREATED:20240905T122704Z
LAST-MODIFIED:20251023T150523Z
UID:10014503-1754125200-1754128800@epworth.faith
SUMMARY:ACA Meeting (Baker Room)
DESCRIPTION:
URL:https://epworth.faith/event/aca-meeting-baker-room/2025-08-02/
LOCATION:Epworth United Methodist Church\, 19285 Holland Glade Road\, Rehoboth Beach\, DE\, 19971\, United States
CATEGORIES:Church,Groups
END:VEVENT
BEGIN:VEVENT
DTSTART;TZID=America/New_York:20250802T180000
DTEND;TZID=America/New_York:20250802T190000
DTSTAMP:20260425T074226
CREATED:20240905T122918Z
LAST-MODIFIED:20251023T150738Z
UID:10014555-1754157600-1754161200@epworth.faith
SUMMARY:Alanon Meeting (Baker Room)
DESCRIPTION:
URL:https://epworth.faith/event/alanon-meeting-baker-room-2/2025-08-02/
LOCATION:Epworth United Methodist Church\, 19285 Holland Glade Road\, Rehoboth Beach\, DE\, 19971\, United States
CATEGORIES:Church,Groups
END:VEVENT
BEGIN:VEVENT
DTSTART;TZID=America/New_York:20250802T180000
DTEND;TZID=America/New_York:20250802T190000
DTSTAMP:20260425T074226
CREATED:20240905T123154Z
LAST-MODIFIED:20251023T152520Z
UID:10014607-1754157600-1754161200@epworth.faith
SUMMARY:AA Meeting (Branford Room)
DESCRIPTION:
URL:https://epworth.faith/event/aa-meeting-branford-room/2025-08-02/
LOCATION:Epworth United Methodist Church\, 19285 Holland Glade Road\, Rehoboth Beach\, DE\, 19971\, United States
CATEGORIES:Church,Groups
END:VEVENT
END:VCALENDAR