BEGIN:VCALENDAR
VERSION:2.0
PRODID:-//Epworth UMC - ECPv6.15.20//NONSGML v1.0//EN
CALSCALE:GREGORIAN
METHOD:PUBLISH
X-ORIGINAL-URL:https://epworth.faith
X-WR-CALDESC:Events for Epworth UMC
REFRESH-INTERVAL;VALUE=DURATION:PT1H
X-Robots-Tag:noindex
X-PUBLISHED-TTL:PT1H
BEGIN:VTIMEZONE
TZID:America/New_York
BEGIN:DAYLIGHT
TZOFFSETFROM:-0500
TZOFFSETTO:-0400
TZNAME:EDT
DTSTART:20240310T070000
END:DAYLIGHT
BEGIN:STANDARD
TZOFFSETFROM:-0400
TZOFFSETTO:-0500
TZNAME:EST
DTSTART:20241103T060000
END:STANDARD
BEGIN:DAYLIGHT
TZOFFSETFROM:-0500
TZOFFSETTO:-0400
TZNAME:EDT
DTSTART:20250309T070000
END:DAYLIGHT
BEGIN:STANDARD
TZOFFSETFROM:-0400
TZOFFSETTO:-0500
TZNAME:EST
DTSTART:20251102T060000
END:STANDARD
BEGIN:DAYLIGHT
TZOFFSETFROM:-0500
TZOFFSETTO:-0400
TZNAME:EDT
DTSTART:20260308T070000
END:DAYLIGHT
BEGIN:STANDARD
TZOFFSETFROM:-0400
TZOFFSETTO:-0500
TZNAME:EST
DTSTART:20261101T060000
END:STANDARD
END:VTIMEZONE
BEGIN:VEVENT
DTSTART;TZID=America/New_York:20251012T110000
DTEND;TZID=America/New_York:20251012T124500
DTSTAMP:20260425T071111
CREATED:20250303T202501Z
LAST-MODIFIED:20250303T202548Z
UID:10015588-1760266800-1760273100@epworth.faith
SUMMARY:Flower Ministry for Arrangements (Starnes Room)
DESCRIPTION:
URL:https://epworth.faith/event/flower-ministry-for-arrangements-starnes-room/2025-10-12/
LOCATION:Epworth United Methodist Church\, 19285 Holland Glade Road\, Rehoboth Beach\, DE\, 19971\, United States
CATEGORIES:Church,Groups
ORGANIZER;CN="Val Linder":MAILTO:rovalinder@comcast.net
END:VEVENT
BEGIN:VEVENT
DTSTART;TZID=America/New_York:20251012T111500
DTEND;TZID=America/New_York:20251012T114500
DTSTAMP:20260425T071111
CREATED:20241120T193843Z
LAST-MODIFIED:20241120T193843Z
UID:10015226-1760267700-1760269500@epworth.faith
SUMMARY:Stephen Ministry Prayer Chapel (Baker Room)
DESCRIPTION:
URL:https://epworth.faith/event/stephen-ministry-prayer-chapel-baker-room/2025-10-12/
LOCATION:Epworth United Methodist Church\, 19285 Holland Glade Road\, Rehoboth Beach\, DE\, 19971\, United States
CATEGORIES:Church,Groups
END:VEVENT
BEGIN:VEVENT
DTSTART;TZID=America/New_York:20251013T130000
DTEND;TZID=America/New_York:20251013T150000
DTSTAMP:20260425T071111
CREATED:20250514T210154Z
LAST-MODIFIED:20251014T145413Z
UID:10016486-1760360400-1760367600@epworth.faith
SUMMARY:WINGS Meeting (Baker Lounge)
DESCRIPTION:
URL:https://epworth.faith/event/wings-meeting-baker-room-3/2025-10-13/
LOCATION:Epworth United Methodist Church\, 19285 Holland Glade Road\, Rehoboth Beach\, DE\, 19971\, United States
CATEGORIES:Church,Groups
ORGANIZER;CN="Nancy Almacy":MAILTO:nalmacy@gmail.com
END:VEVENT
BEGIN:VEVENT
DTSTART;TZID=America/New_York:20251013T170000
DTEND;TZID=America/New_York:20251013T180000
DTSTAMP:20260425T071111
CREATED:20240905T122003Z
LAST-MODIFIED:20251023T143906Z
UID:10014305-1760374800-1760378400@epworth.faith
SUMMARY:Alanon Newcomers (Baker Room)
DESCRIPTION:
URL:https://epworth.faith/event/alanon-newcomers-baker-room/2025-10-13/
LOCATION:Epworth United Methodist Church\, 19285 Holland Glade Road\, Rehoboth Beach\, DE\, 19971\, United States
CATEGORIES:Church,Groups
END:VEVENT
BEGIN:VEVENT
DTSTART;TZID=America/New_York:20251013T180000
DTEND;TZID=America/New_York:20251013T190000
DTSTAMP:20260425T071111
CREATED:20240905T122138Z
LAST-MODIFIED:20251023T144119Z
UID:10014357-1760378400-1760382000@epworth.faith
SUMMARY:Alanon Meeting (Branford Room)
DESCRIPTION:
URL:https://epworth.faith/event/alanon-meeting-branford-room-2/2025-10-13/
LOCATION:Epworth United Methodist Church\, 19285 Holland Glade Road\, Rehoboth Beach\, DE\, 19971\, United States
CATEGORIES:Church,Groups
END:VEVENT
BEGIN:VEVENT
DTSTART;TZID=America/New_York:20251013T180000
DTEND;TZID=America/New_York:20251013T193000
DTSTAMP:20260425T071111
CREATED:20250925T182614Z
LAST-MODIFIED:20250929T160622Z
UID:10017739-1760378400-1760383800@epworth.faith
SUMMARY:Social Justice Meeting (Starnes Room)
DESCRIPTION:
URL:https://epworth.faith/event/social-justice-meeting-starnes-room/2025-10-13/
LOCATION:Epworth United Methodist Church\, 19285 Holland Glade Road\, Rehoboth Beach\, DE\, 19971\, United States
CATEGORIES:Church,Groups
END:VEVENT
BEGIN:VEVENT
DTSTART;TZID=America/New_York:20251014T140000
DTEND;TZID=America/New_York:20251014T170000
DTSTAMP:20260425T071111
CREATED:20250709T184523Z
LAST-MODIFIED:20250709T184523Z
UID:10016990-1760450400-1760461200@epworth.faith
SUMMARY:Stitching Group (Branford Room)
DESCRIPTION:
URL:https://epworth.faith/event/stitching-group-branford-room/2025-10-14/
LOCATION:Epworth United Methodist Church\, 19285 Holland Glade Road\, Rehoboth Beach\, DE\, 19971\, United States
CATEGORIES:Church,Groups
END:VEVENT
BEGIN:VEVENT
DTSTART;TZID=America/New_York:20251014T180000
DTEND;TZID=America/New_York:20251014T190000
DTSTAMP:20260425T071111
CREATED:20240905T121346Z
LAST-MODIFIED:20251023T144445Z
UID:10014149-1760464800-1760468400@epworth.faith
SUMMARY:Alanon Meeting (Branford Room)
DESCRIPTION:
URL:https://epworth.faith/event/alanon-meeting-branford-room/2025-10-14/
LOCATION:Epworth United Methodist Church\, 19285 Holland Glade Road\, Rehoboth Beach\, DE\, 19971\, United States
CATEGORIES:Church,Groups
END:VEVENT
BEGIN:VEVENT
DTSTART;TZID=America/New_York:20251014T190000
DTEND;TZID=America/New_York:20251014T200000
DTSTAMP:20260425T071111
CREATED:20240905T121615Z
LAST-MODIFIED:20251023T144756Z
UID:10014201-1760468400-1760472000@epworth.faith
SUMMARY:Alanon Meeting (Baker Room)
DESCRIPTION:
URL:https://epworth.faith/event/alanon-meeting-baker-room/2025-10-14/
LOCATION:Epworth United Methodist Church\, 19285 Holland Glade Road\, Rehoboth Beach\, DE\, 19971\, United States
CATEGORIES:Church,Groups
END:VEVENT
BEGIN:VEVENT
DTSTART;TZID=America/New_York:20251014T190000
DTEND;TZID=America/New_York:20251014T200000
DTSTAMP:20260425T071111
CREATED:20240905T121808Z
LAST-MODIFIED:20251023T145128Z
UID:10014253-1760468400-1760472000@epworth.faith
SUMMARY:AA Meeting (Music Room)
DESCRIPTION:
URL:https://epworth.faith/event/aa-meeting-music-room/2025-10-14/
LOCATION:Epworth United Methodist Church\, 19285 Holland Glade Road\, Rehoboth Beach\, DE\, 19971\, United States
CATEGORIES:Church,Groups
END:VEVENT
BEGIN:VEVENT
DTSTART;TZID=America/New_York:20251015T100000
DTEND;TZID=America/New_York:20251015T120000
DTSTAMP:20260425T071111
CREATED:20250827T201136Z
LAST-MODIFIED:20250827T201136Z
UID:10017249-1760522400-1760529600@epworth.faith
SUMMARY:Sisters in Christ Meetings (Starnes Room)
DESCRIPTION:
URL:https://epworth.faith/event/sisters-in-christ-meetings-starnes-room/2025-10-15/
LOCATION:Epworth United Methodist Church\, 19285 Holland Glade Road\, Rehoboth Beach\, DE\, 19971\, United States
CATEGORIES:Church,Groups
ORGANIZER;CN="Barbara Hoffman":MAILTO:revbarbarahoffman@gmail.com
END:VEVENT
BEGIN:VEVENT
DTSTART;TZID=America/New_York:20251015T120000
DTEND;TZID=America/New_York:20251015T133000
DTSTAMP:20260425T071111
CREATED:20250911T203152Z
LAST-MODIFIED:20250911T203152Z
UID:10017469-1760529600-1760535000@epworth.faith
SUMMARY:Fundraising Committee Meeting (Office Conference Room)
DESCRIPTION:
URL:https://epworth.faith/event/fundraising-committee-meeting-office-conference-room-8/
LOCATION:Epworth United Methodist Church\, 19285 Holland Glade Road\, Rehoboth Beach\, DE\, 19971\, United States
CATEGORIES:Church,Groups
ORGANIZER;CN="Linda BenderHilt":MAILTO:lbenderhilt@yahoo.com
END:VEVENT
BEGIN:VEVENT
DTSTART;TZID=America/New_York:20251015T173000
DTEND;TZID=America/New_York:20251015T183000
DTSTAMP:20260425T071111
CREATED:20250116T215058Z
LAST-MODIFIED:20250911T132405Z
UID:10017372-1760549400-1760553000@epworth.faith
SUMMARY:Chancel Choir Practice (Music Room)
DESCRIPTION:
URL:https://epworth.faith/event/chancel-choir-practice-music-room-2/2025-10-15/
LOCATION:Epworth United Methodist Church\, 19285 Holland Glade Road\, Rehoboth Beach\, DE\, 19971\, United States
CATEGORIES:Church,Groups
ORGANIZER;CN="Doug Yetter":MAILTO:dyetter@epworth.faith
END:VEVENT
BEGIN:VEVENT
DTSTART;TZID=America/New_York:20251015T183000
DTEND;TZID=America/New_York:20251015T210000
DTSTAMP:20260425T071111
CREATED:20240321T141329Z
LAST-MODIFIED:20240321T141511Z
UID:10012590-1760553000-1760562000@epworth.faith
SUMMARY:ManKind Project (MKP) (Baker Lounge)
DESCRIPTION:
URL:https://epworth.faith/event/mankind-project-mkp-baker-lounge-4/2025-10-15/
LOCATION:Epworth United Methodist Church\, 19285 Holland Glade Road\, Rehoboth Beach\, DE\, 19971\, United States
CATEGORIES:Church,Groups
ORGANIZER;CN="Rick Buske":MAILTO:rick.buske@gmail.com
END:VEVENT
BEGIN:VEVENT
DTSTART;TZID=America/New_York:20251015T190000
DTEND;TZID=America/New_York:20251015T203000
DTSTAMP:20260425T071111
CREATED:20250508T141016Z
LAST-MODIFIED:20250508T141016Z
UID:10016038-1760554800-1760560200@epworth.faith
SUMMARY:Duer Small Group (Starnes Room)
DESCRIPTION:
URL:https://epworth.faith/event/duer-small-group-starnes-room/2025-10-15/
LOCATION:Epworth United Methodist Church\, 19285 Holland Glade Road\, Rehoboth Beach\, DE\, 19971\, United States
CATEGORIES:Church,Groups
ORGANIZER;CN="Robin Duer":MAILTO:beachrobin12@aol.com
END:VEVENT
BEGIN:VEVENT
DTSTART;TZID=America/New_York:20251016T093000
DTEND;TZID=America/New_York:20251016T103000
DTSTAMP:20260425T071111
CREATED:20250521T185021Z
LAST-MODIFIED:20260205T141334Z
UID:10016566-1760607000-1760610600@epworth.faith
SUMMARY:Alzheimer/Dementia Support Group (Baker Room)
DESCRIPTION:
URL:https://epworth.faith/event/alzheimer-dementia-support-group-baker-room/2025-10-16/
LOCATION:Epworth United Methodist Church\, 19285 Holland Glade Road\, Rehoboth Beach\, DE\, 19971\, United States
CATEGORIES:Church,Groups
ORGANIZER;CN="Harry Martens":MAILTO:HMartensiii@gmail.com
END:VEVENT
BEGIN:VEVENT
DTSTART;TZID=America/New_York:20251016T100000
DTEND;TZID=America/New_York:20251016T113000
DTSTAMP:20260425T071111
CREATED:20250821T135925Z
LAST-MODIFIED:20250911T133045Z
UID:10017051-1760608800-1760614200@epworth.faith
SUMMARY:Parkinson's Voice Project Choir (Music Room)
DESCRIPTION:
URL:https://epworth.faith/event/parkinsons-voice-project-choir-music-room-2/2025-10-16/
LOCATION:Epworth United Methodist Church\, 19285 Holland Glade Road\, Rehoboth Beach\, DE\, 19971\, United States
CATEGORIES:Church,Groups
ORGANIZER;CN="Doug Yetter":MAILTO:dyetter@epworth.faith
END:VEVENT
BEGIN:VEVENT
DTSTART;TZID=America/New_York:20251016T120000
DTEND;TZID=America/New_York:20251016T130000
DTSTAMP:20260425T071111
CREATED:20240905T122329Z
LAST-MODIFIED:20251023T150055Z
UID:10014410-1760616000-1760619600@epworth.faith
SUMMARY:Alanon Meeting (Branford Room)
DESCRIPTION:
URL:https://epworth.faith/event/alanon-meeting-branford-room-3/2025-10-16/
LOCATION:Epworth United Methodist Church\, 19285 Holland Glade Road\, Rehoboth Beach\, DE\, 19971\, United States
CATEGORIES:Church,Groups
END:VEVENT
BEGIN:VEVENT
DTSTART;TZID=America/New_York:20251016T193000
DTEND;TZID=America/New_York:20251016T203000
DTSTAMP:20260425T071111
CREATED:20240905T122521Z
LAST-MODIFIED:20251023T150301Z
UID:10014462-1760643000-1760646600@epworth.faith
SUMMARY:AA Meeting (Baker Room)
DESCRIPTION:
URL:https://epworth.faith/event/aa-meeting-baker-room/2025-10-16/
LOCATION:Epworth United Methodist Church\, 19285 Holland Glade Road\, Rehoboth Beach\, DE\, 19971\, United States
CATEGORIES:Church,Groups
END:VEVENT
BEGIN:VEVENT
DTSTART;TZID=America/New_York:20251018T090000
DTEND;TZID=America/New_York:20251018T100000
DTSTAMP:20260425T071111
CREATED:20240905T122704Z
LAST-MODIFIED:20251023T150523Z
UID:10014514-1760778000-1760781600@epworth.faith
SUMMARY:ACA Meeting (Baker Room)
DESCRIPTION:
URL:https://epworth.faith/event/aca-meeting-baker-room/2025-10-18/
LOCATION:Epworth United Methodist Church\, 19285 Holland Glade Road\, Rehoboth Beach\, DE\, 19971\, United States
CATEGORIES:Church,Groups
END:VEVENT
BEGIN:VEVENT
DTSTART;TZID=America/New_York:20251018T180000
DTEND;TZID=America/New_York:20251018T190000
DTSTAMP:20260425T071111
CREATED:20240905T122918Z
LAST-MODIFIED:20251023T150738Z
UID:10014566-1760810400-1760814000@epworth.faith
SUMMARY:Alanon Meeting (Baker Room)
DESCRIPTION:
URL:https://epworth.faith/event/alanon-meeting-baker-room-2/2025-10-18/
LOCATION:Epworth United Methodist Church\, 19285 Holland Glade Road\, Rehoboth Beach\, DE\, 19971\, United States
CATEGORIES:Church,Groups
END:VEVENT
BEGIN:VEVENT
DTSTART;TZID=America/New_York:20251018T180000
DTEND;TZID=America/New_York:20251018T190000
DTSTAMP:20260425T071111
CREATED:20240905T123154Z
LAST-MODIFIED:20251023T152520Z
UID:10014618-1760810400-1760814000@epworth.faith
SUMMARY:AA Meeting (Branford Room)
DESCRIPTION:
URL:https://epworth.faith/event/aa-meeting-branford-room/2025-10-18/
LOCATION:Epworth United Methodist Church\, 19285 Holland Glade Road\, Rehoboth Beach\, DE\, 19971\, United States
CATEGORIES:Church,Groups
END:VEVENT
END:VCALENDAR