BEGIN:VCALENDAR
VERSION:2.0
PRODID:-//Epworth UMC - ECPv6.15.20//NONSGML v1.0//EN
CALSCALE:GREGORIAN
METHOD:PUBLISH
X-WR-CALNAME:Epworth UMC
X-ORIGINAL-URL:https://epworth.faith
X-WR-CALDESC:Events for Epworth UMC
REFRESH-INTERVAL;VALUE=DURATION:PT1H
X-Robots-Tag:noindex
X-PUBLISHED-TTL:PT1H
BEGIN:VTIMEZONE
TZID:America/New_York
BEGIN:DAYLIGHT
TZOFFSETFROM:-0500
TZOFFSETTO:-0400
TZNAME:EDT
DTSTART:20250309T070000
END:DAYLIGHT
BEGIN:STANDARD
TZOFFSETFROM:-0400
TZOFFSETTO:-0500
TZNAME:EST
DTSTART:20251102T060000
END:STANDARD
BEGIN:DAYLIGHT
TZOFFSETFROM:-0500
TZOFFSETTO:-0400
TZNAME:EDT
DTSTART:20260308T070000
END:DAYLIGHT
BEGIN:STANDARD
TZOFFSETFROM:-0400
TZOFFSETTO:-0500
TZNAME:EST
DTSTART:20261101T060000
END:STANDARD
BEGIN:DAYLIGHT
TZOFFSETFROM:-0500
TZOFFSETTO:-0400
TZNAME:EDT
DTSTART:20270314T070000
END:DAYLIGHT
BEGIN:STANDARD
TZOFFSETFROM:-0400
TZOFFSETTO:-0500
TZNAME:EST
DTSTART:20271107T060000
END:STANDARD
END:VTIMEZONE
BEGIN:VEVENT
DTSTART;TZID=America/New_York:20260517T110000
DTEND;TZID=America/New_York:20260517T124500
DTSTAMP:20260423T183324
CREATED:20250303T202501Z
LAST-MODIFIED:20250303T202548Z
UID:10015619-1779015600-1779021900@epworth.faith
SUMMARY:Flower Ministry for Arrangements (Starnes Room)
DESCRIPTION:
URL:https://epworth.faith/event/flower-ministry-for-arrangements-starnes-room/2026-05-17/
LOCATION:Epworth United Methodist Church\, 19285 Holland Glade Road\, Rehoboth Beach\, DE\, 19971\, United States
CATEGORIES:Church,Groups
ORGANIZER;CN="Val Linder":MAILTO:rovalinder@comcast.net
END:VEVENT
BEGIN:VEVENT
DTSTART;TZID=America/New_York:20260517T111500
DTEND;TZID=America/New_York:20260517T114500
DTSTAMP:20260423T183324
CREATED:20251023T142658Z
LAST-MODIFIED:20251023T142658Z
UID:10018070-1779016500-1779018300@epworth.faith
SUMMARY:Stephen Ministry Prayer Chapel (Baker Room)
DESCRIPTION:
URL:https://epworth.faith/event/stephen-ministry-prayer-chapel-baker-room-2/2026-05-17/
LOCATION:Epworth United Methodist Church\, 19285 Holland Glade Road\, Rehoboth Beach\, DE\, 19971\, United States
CATEGORIES:Church,Groups
END:VEVENT
BEGIN:VEVENT
DTSTART;TZID=America/New_York:20260518T170000
DTEND;TZID=America/New_York:20260518T180000
DTSTAMP:20260423T183324
CREATED:20240905T122003Z
LAST-MODIFIED:20251023T143906Z
UID:10018321-1779123600-1779127200@epworth.faith
SUMMARY:Alanon Newcomers (Baker Room)
DESCRIPTION:
URL:https://epworth.faith/event/alanon-newcomers-baker-room/2026-05-18/
LOCATION:Epworth United Methodist Church\, 19285 Holland Glade Road\, Rehoboth Beach\, DE\, 19971\, United States
CATEGORIES:Church,Groups
END:VEVENT
BEGIN:VEVENT
DTSTART;TZID=America/New_York:20260518T180000
DTEND;TZID=America/New_York:20260518T190000
DTSTAMP:20260423T183324
CREATED:20240905T122138Z
LAST-MODIFIED:20251023T144119Z
UID:10018572-1779127200-1779130800@epworth.faith
SUMMARY:Alanon Meeting (Branford Room)
DESCRIPTION:
URL:https://epworth.faith/event/alanon-meeting-branford-room-2/2026-05-18/
LOCATION:Epworth United Methodist Church\, 19285 Holland Glade Road\, Rehoboth Beach\, DE\, 19971\, United States
CATEGORIES:Church,Groups
END:VEVENT
BEGIN:VEVENT
DTSTART;TZID=America/New_York:20260518T180000
DTEND;TZID=America/New_York:20260518T193000
DTSTAMP:20260423T183324
CREATED:20250925T182614Z
LAST-MODIFIED:20250929T160622Z
UID:10017770-1779127200-1779132600@epworth.faith
SUMMARY:Social Justice Meeting (Starnes Room)
DESCRIPTION:
URL:https://epworth.faith/event/social-justice-meeting-starnes-room/2026-05-18/
LOCATION:Epworth United Methodist Church\, 19285 Holland Glade Road\, Rehoboth Beach\, DE\, 19971\, United States
CATEGORIES:Church,Groups
END:VEVENT
BEGIN:VEVENT
DTSTART;TZID=America/New_York:20260519T160000
DTEND;TZID=America/New_York:20260519T180000
DTSTAMP:20260423T183324
CREATED:20250709T125307Z
LAST-MODIFIED:20250709T125307Z
UID:10016927-1779206400-1779213600@epworth.faith
SUMMARY:Finance Committee Meeting (Zoom)
DESCRIPTION:
URL:https://epworth.faith/event/finance-committee-meeting-zoom/2026-05-19/
LOCATION:Epworth United Methodist Church\, 19285 Holland Glade Road\, Rehoboth Beach\, DE\, 19971\, United States
CATEGORIES:Church,Groups
END:VEVENT
BEGIN:VEVENT
DTSTART;TZID=America/New_York:20260519T180000
DTEND;TZID=America/New_York:20260519T190000
DTSTAMP:20260423T183324
CREATED:20240905T121346Z
LAST-MODIFIED:20251023T144445Z
UID:10018823-1779213600-1779217200@epworth.faith
SUMMARY:Alanon Meeting (Branford Room)
DESCRIPTION:
URL:https://epworth.faith/event/alanon-meeting-branford-room/2026-05-19/
LOCATION:Epworth United Methodist Church\, 19285 Holland Glade Road\, Rehoboth Beach\, DE\, 19971\, United States
CATEGORIES:Church,Groups
END:VEVENT
BEGIN:VEVENT
DTSTART;TZID=America/New_York:20260519T184500
DTEND;TZID=America/New_York:20260519T200000
DTSTAMP:20260423T183324
CREATED:20250821T173501Z
LAST-MODIFIED:20250821T173501Z
UID:10017189-1779216300-1779220800@epworth.faith
SUMMARY:Faith Friends & Issues Group (Zoom)
DESCRIPTION:
URL:https://epworth.faith/event/faith-friends-issues-group-zoom-2/2026-05-19/
LOCATION:Epworth United Methodist Church\, 19285 Holland Glade Road\, Rehoboth Beach\, DE\, 19971\, United States
CATEGORIES:Church,Groups
ORGANIZER;CN="Sandy Paulen":MAILTO:sandypaulen@gmail.com
END:VEVENT
BEGIN:VEVENT
DTSTART;TZID=America/New_York:20260519T190000
DTEND;TZID=America/New_York:20260519T200000
DTSTAMP:20260423T183324
CREATED:20240905T121615Z
LAST-MODIFIED:20251023T144756Z
UID:10019074-1779217200-1779220800@epworth.faith
SUMMARY:Alanon Meeting (Baker Room)
DESCRIPTION:
URL:https://epworth.faith/event/alanon-meeting-baker-room/2026-05-19/
LOCATION:Epworth United Methodist Church\, 19285 Holland Glade Road\, Rehoboth Beach\, DE\, 19971\, United States
CATEGORIES:Church,Groups
END:VEVENT
BEGIN:VEVENT
DTSTART;TZID=America/New_York:20260519T190000
DTEND;TZID=America/New_York:20260519T200000
DTSTAMP:20260423T183324
CREATED:20240905T121808Z
LAST-MODIFIED:20251023T145128Z
UID:10019325-1779217200-1779220800@epworth.faith
SUMMARY:AA Meeting (Music Room)
DESCRIPTION:
URL:https://epworth.faith/event/aa-meeting-music-room/2026-05-19/
LOCATION:Epworth United Methodist Church\, 19285 Holland Glade Road\, Rehoboth Beach\, DE\, 19971\, United States
CATEGORIES:Church,Groups
END:VEVENT
BEGIN:VEVENT
DTSTART;TZID=America/New_York:20260520T100000
DTEND;TZID=America/New_York:20260520T120000
DTSTAMP:20260423T183324
CREATED:20250827T201136Z
LAST-MODIFIED:20250827T201136Z
UID:10017280-1779271200-1779278400@epworth.faith
SUMMARY:Sisters in Christ Meetings (Starnes Room)
DESCRIPTION:
URL:https://epworth.faith/event/sisters-in-christ-meetings-starnes-room/2026-05-20/
LOCATION:Epworth United Methodist Church\, 19285 Holland Glade Road\, Rehoboth Beach\, DE\, 19971\, United States
CATEGORIES:Church,Groups
ORGANIZER;CN="Barbara Hoffman":MAILTO:revbarbarahoffman@gmail.com
END:VEVENT
BEGIN:VEVENT
DTSTART;TZID=America/New_York:20260520T130000
DTEND;TZID=America/New_York:20260520T150000
DTSTAMP:20260423T183324
CREATED:20260115T155702Z
LAST-MODIFIED:20260115T155702Z
UID:10021024-1779282000-1779289200@epworth.faith
SUMMARY:Moms Demand Action Meeting (Starnes Room)
DESCRIPTION:
URL:https://epworth.faith/event/moms-demand-action-meeting-starnes-room-10/
LOCATION:Epworth United Methodist Church\, 19285 Holland Glade Road\, Rehoboth Beach\, DE\, 19971\, United States
CATEGORIES:Church,Groups
END:VEVENT
BEGIN:VEVENT
DTSTART;TZID=America/New_York:20260520T173000
DTEND;TZID=America/New_York:20260520T183000
DTSTAMP:20260423T183324
CREATED:20250116T215058Z
LAST-MODIFIED:20250911T132405Z
UID:10017403-1779298200-1779301800@epworth.faith
SUMMARY:Chancel Choir Practice (Music Room)
DESCRIPTION:
URL:https://epworth.faith/event/chancel-choir-practice-music-room-2/2026-05-20/
LOCATION:Epworth United Methodist Church\, 19285 Holland Glade Road\, Rehoboth Beach\, DE\, 19971\, United States
CATEGORIES:Church,Groups
ORGANIZER;CN="Doug Yetter":MAILTO:dyetter@epworth.faith
END:VEVENT
BEGIN:VEVENT
DTSTART;TZID=America/New_York:20260520T183000
DTEND;TZID=America/New_York:20260520T210000
DTSTAMP:20260423T183324
CREATED:20240321T141329Z
LAST-MODIFIED:20240321T141511Z
UID:10012597-1779301800-1779310800@epworth.faith
SUMMARY:ManKind Project (MKP) (Baker Lounge)
DESCRIPTION:
URL:https://epworth.faith/event/mankind-project-mkp-baker-lounge-4/2026-05-20/
LOCATION:Epworth United Methodist Church\, 19285 Holland Glade Road\, Rehoboth Beach\, DE\, 19971\, United States
CATEGORIES:Church,Groups
ORGANIZER;CN="Rick Buske":MAILTO:rick.buske@gmail.com
END:VEVENT
BEGIN:VEVENT
DTSTART;TZID=America/New_York:20260521T093000
DTEND;TZID=America/New_York:20260521T103000
DTSTAMP:20260423T183324
CREATED:20250521T185021Z
LAST-MODIFIED:20260205T141334Z
UID:10021170-1779355800-1779359400@epworth.faith
SUMMARY:Alzheimer/Dementia Support Group (Baker Room)
DESCRIPTION:
URL:https://epworth.faith/event/alzheimer-dementia-support-group-baker-room/2026-05-21/
LOCATION:Epworth United Methodist Church\, 19285 Holland Glade Road\, Rehoboth Beach\, DE\, 19971\, United States
CATEGORIES:Church,Groups
ORGANIZER;CN="Harry Martens":MAILTO:HMartensiii@gmail.com
END:VEVENT
BEGIN:VEVENT
DTSTART;TZID=America/New_York:20260521T100000
DTEND;TZID=America/New_York:20260521T113000
DTSTAMP:20260423T183324
CREATED:20260407T210128Z
LAST-MODIFIED:20260407T210128Z
UID:10022183-1779357600-1779363000@epworth.faith
SUMMARY:Voices of Hope Practice (Music Room)
DESCRIPTION:
URL:https://epworth.faith/event/voices-of-hope-practice-music-room-2/2026-05-21/
LOCATION:Epworth United Methodist Church\, 19285 Holland Glade Road\, Rehoboth Beach\, DE\, 19971\, United States
CATEGORIES:Church,Groups
ORGANIZER;CN="Doug Yetter":MAILTO:dyetter@epworth.faith
END:VEVENT
BEGIN:VEVENT
DTSTART;TZID=America/New_York:20260521T120000
DTEND;TZID=America/New_York:20260521T130000
DTSTAMP:20260423T183324
CREATED:20240905T122329Z
LAST-MODIFIED:20251023T150055Z
UID:10019577-1779364800-1779368400@epworth.faith
SUMMARY:Alanon Meeting (Branford Room)
DESCRIPTION:
URL:https://epworth.faith/event/alanon-meeting-branford-room-3/2026-05-21/
LOCATION:Epworth United Methodist Church\, 19285 Holland Glade Road\, Rehoboth Beach\, DE\, 19971\, United States
CATEGORIES:Church,Groups
END:VEVENT
BEGIN:VEVENT
DTSTART;TZID=America/New_York:20260521T130000
DTEND;TZID=America/New_York:20260521T143000
DTSTAMP:20260423T183324
CREATED:20260218T181808Z
LAST-MODIFIED:20260218T181808Z
UID:10021425-1779368400-1779373800@epworth.faith
SUMMARY:Social Justice Meeting (Starnes Room)
DESCRIPTION:
URL:https://epworth.faith/event/social-justice-meeting-starnes-room-2/2026-05-21/
LOCATION:Epworth United Methodist Church\, 19285 Holland Glade Road\, Rehoboth Beach\, DE\, 19971\, United States
CATEGORIES:Church,Groups
END:VEVENT
BEGIN:VEVENT
DTSTART;TZID=America/New_York:20260521T193000
DTEND;TZID=America/New_York:20260521T203000
DTSTAMP:20260423T183324
CREATED:20240905T122521Z
LAST-MODIFIED:20251023T150301Z
UID:10019828-1779391800-1779395400@epworth.faith
SUMMARY:AA Meeting (Baker Room)
DESCRIPTION:
URL:https://epworth.faith/event/aa-meeting-baker-room/2026-05-21/
LOCATION:Epworth United Methodist Church\, 19285 Holland Glade Road\, Rehoboth Beach\, DE\, 19971\, United States
CATEGORIES:Church,Groups
END:VEVENT
BEGIN:VEVENT
DTSTART;TZID=America/New_York:20260523T090000
DTEND;TZID=America/New_York:20260523T100000
DTSTAMP:20260423T183324
CREATED:20240905T122704Z
LAST-MODIFIED:20251023T150523Z
UID:10020079-1779526800-1779530400@epworth.faith
SUMMARY:ACA Meeting (Baker Room)
DESCRIPTION:
URL:https://epworth.faith/event/aca-meeting-baker-room/2026-05-23/
LOCATION:Epworth United Methodist Church\, 19285 Holland Glade Road\, Rehoboth Beach\, DE\, 19971\, United States
CATEGORIES:Church,Groups
END:VEVENT
BEGIN:VEVENT
DTSTART;TZID=America/New_York:20260523T093000
DTEND;TZID=America/New_York:20260523T123000
DTSTAMP:20260423T183324
CREATED:20260303T141513Z
LAST-MODIFIED:20260303T141513Z
UID:10021761-1779528600-1779539400@epworth.faith
SUMMARY:Worship Design Team (Sanctuary)
DESCRIPTION:
URL:https://epworth.faith/event/worship-design-team-sanctuary-13/
LOCATION:Epworth United Methodist Church\, 19285 Holland Glade Road\, Rehoboth Beach\, DE\, 19971\, United States
CATEGORIES:Church,Groups
ORGANIZER;CN="Murray Archibald":MAILTO:rma.archibald@gmail.com
END:VEVENT
BEGIN:VEVENT
DTSTART;TZID=America/New_York:20260523T180000
DTEND;TZID=America/New_York:20260523T190000
DTSTAMP:20260423T183324
CREATED:20240905T122918Z
LAST-MODIFIED:20251023T150738Z
UID:10020330-1779559200-1779562800@epworth.faith
SUMMARY:Alanon Meeting (Baker Room)
DESCRIPTION:
URL:https://epworth.faith/event/alanon-meeting-baker-room-2/2026-05-23/
LOCATION:Epworth United Methodist Church\, 19285 Holland Glade Road\, Rehoboth Beach\, DE\, 19971\, United States
CATEGORIES:Church,Groups
END:VEVENT
BEGIN:VEVENT
DTSTART;TZID=America/New_York:20260523T180000
DTEND;TZID=America/New_York:20260523T190000
DTSTAMP:20260423T183324
CREATED:20240905T123154Z
LAST-MODIFIED:20251023T152520Z
UID:10020581-1779559200-1779562800@epworth.faith
SUMMARY:AA Meeting (Branford Room)
DESCRIPTION:
URL:https://epworth.faith/event/aa-meeting-branford-room/2026-05-23/
LOCATION:Epworth United Methodist Church\, 19285 Holland Glade Road\, Rehoboth Beach\, DE\, 19971\, United States
CATEGORIES:Church,Groups
END:VEVENT
END:VCALENDAR