BEGIN:VCALENDAR
VERSION:2.0
PRODID:-//Epworth UMC - ECPv6.15.20//NONSGML v1.0//EN
CALSCALE:GREGORIAN
METHOD:PUBLISH
X-ORIGINAL-URL:https://epworth.faith
X-WR-CALDESC:Events for Epworth UMC
REFRESH-INTERVAL;VALUE=DURATION:PT1H
X-Robots-Tag:noindex
X-PUBLISHED-TTL:PT1H
BEGIN:VTIMEZONE
TZID:America/New_York
BEGIN:DAYLIGHT
TZOFFSETFROM:-0500
TZOFFSETTO:-0400
TZNAME:EDT
DTSTART:20240310T070000
END:DAYLIGHT
BEGIN:STANDARD
TZOFFSETFROM:-0400
TZOFFSETTO:-0500
TZNAME:EST
DTSTART:20241103T060000
END:STANDARD
BEGIN:DAYLIGHT
TZOFFSETFROM:-0500
TZOFFSETTO:-0400
TZNAME:EDT
DTSTART:20250309T070000
END:DAYLIGHT
BEGIN:STANDARD
TZOFFSETFROM:-0400
TZOFFSETTO:-0500
TZNAME:EST
DTSTART:20251102T060000
END:STANDARD
BEGIN:DAYLIGHT
TZOFFSETFROM:-0500
TZOFFSETTO:-0400
TZNAME:EDT
DTSTART:20260308T070000
END:DAYLIGHT
BEGIN:STANDARD
TZOFFSETFROM:-0400
TZOFFSETTO:-0500
TZNAME:EST
DTSTART:20261101T060000
END:STANDARD
END:VTIMEZONE
BEGIN:VEVENT
DTSTART;TZID=America/New_York:20250924T183000
DTEND;TZID=America/New_York:20250924T193000
DTSTAMP:20260425T141255
CREATED:20250528T124534Z
LAST-MODIFIED:20250911T132748Z
UID:10017410-1758738600-1758742200@epworth.faith
SUMMARY:Praise Team (Sanctuary)
DESCRIPTION:
URL:https://epworth.faith/event/praise-team-sanctuary/2025-09-24/
LOCATION:Epworth United Methodist Church\, 19285 Holland Glade Road\, Rehoboth Beach\, DE\, 19971\, United States
CATEGORIES:Church,Music
ORGANIZER;CN="Doug Yetter":MAILTO:dyetter@epworth.faith
END:VEVENT
BEGIN:VEVENT
DTSTART;TZID=America/New_York:20250924T163000
DTEND;TZID=America/New_York:20250924T173000
DTSTAMP:20260425T141255
CREATED:20250528T122948Z
LAST-MODIFIED:20250911T130205Z
UID:10017295-1758731400-1758735000@epworth.faith
SUMMARY:Memorial Bells Practice (Music Room)
DESCRIPTION:
URL:https://epworth.faith/event/memorial-bells-practice-music-room-2/2025-09-24/
LOCATION:Epworth United Methodist Church\, 19285 Holland Glade Road\, Rehoboth Beach\, DE\, 19971\, United States
CATEGORIES:Church,Music
ORGANIZER;CN="Doug Yetter":MAILTO:dyetter@epworth.faith
END:VEVENT
BEGIN:VEVENT
DTSTART;TZID=America/New_York:20250917T183000
DTEND;TZID=America/New_York:20250917T193000
DTSTAMP:20260425T141255
CREATED:20250528T124534Z
LAST-MODIFIED:20250911T132748Z
UID:10017409-1758133800-1758137400@epworth.faith
SUMMARY:Praise Team (Sanctuary)
DESCRIPTION:
URL:https://epworth.faith/event/praise-team-sanctuary/2025-09-17/
LOCATION:Epworth United Methodist Church\, 19285 Holland Glade Road\, Rehoboth Beach\, DE\, 19971\, United States
CATEGORIES:Church,Music
ORGANIZER;CN="Doug Yetter":MAILTO:dyetter@epworth.faith
END:VEVENT
BEGIN:VEVENT
DTSTART;TZID=America/New_York:20250917T163000
DTEND;TZID=America/New_York:20250917T173000
DTSTAMP:20260425T141255
CREATED:20250528T122948Z
LAST-MODIFIED:20250911T130205Z
UID:10017294-1758126600-1758130200@epworth.faith
SUMMARY:Memorial Bells Practice (Music Room)
DESCRIPTION:
URL:https://epworth.faith/event/memorial-bells-practice-music-room-2/2025-09-17/
LOCATION:Epworth United Methodist Church\, 19285 Holland Glade Road\, Rehoboth Beach\, DE\, 19971\, United States
CATEGORIES:Church,Music
ORGANIZER;CN="Doug Yetter":MAILTO:dyetter@epworth.faith
END:VEVENT
BEGIN:VEVENT
DTSTART;TZID=America/New_York:20250910T163000
DTEND;TZID=America/New_York:20250910T173000
DTSTAMP:20260425T141255
CREATED:20250528T122948Z
LAST-MODIFIED:20250911T130205Z
UID:10017293-1757521800-1757525400@epworth.faith
SUMMARY:Memorial Bells Practice (Music Room)
DESCRIPTION:
URL:https://epworth.faith/event/memorial-bells-practice-music-room-2/2025-09-10/
LOCATION:Epworth United Methodist Church\, 19285 Holland Glade Road\, Rehoboth Beach\, DE\, 19971\, United States
CATEGORIES:Church,Music
ORGANIZER;CN="Doug Yetter":MAILTO:dyetter@epworth.faith
END:VEVENT
BEGIN:VEVENT
DTSTART;TZID=America/New_York:20250903T173000
DTEND;TZID=America/New_York:20250903T183000
DTSTAMP:20260425T141255
CREATED:20250528T123510Z
LAST-MODIFIED:20250528T123938Z
UID:10016651-1756920600-1756924200@epworth.faith
SUMMARY:Praise Team Practice (Sanctuary)
DESCRIPTION:
URL:https://epworth.faith/event/praise-team-practice-music-room/2025-09-03/
LOCATION:Epworth United Methodist Church\, 19285 Holland Glade Road\, Rehoboth Beach\, DE\, 19971\, United States
CATEGORIES:Church,Music
ORGANIZER;CN="Doug Yetter":MAILTO:dyetter@epworth.faith
END:VEVENT
BEGIN:VEVENT
DTSTART;TZID=America/New_York:20250827T173000
DTEND;TZID=America/New_York:20250827T183000
DTSTAMP:20260425T141255
CREATED:20250528T123510Z
LAST-MODIFIED:20250528T123938Z
UID:10016650-1756315800-1756319400@epworth.faith
SUMMARY:Praise Team Practice (Sanctuary)
DESCRIPTION:
URL:https://epworth.faith/event/praise-team-practice-music-room/2025-08-27/
LOCATION:Epworth United Methodist Church\, 19285 Holland Glade Road\, Rehoboth Beach\, DE\, 19971\, United States
CATEGORIES:Church,Music
ORGANIZER;CN="Doug Yetter":MAILTO:dyetter@epworth.faith
END:VEVENT
BEGIN:VEVENT
DTSTART;TZID=America/New_York:20250820T173000
DTEND;TZID=America/New_York:20250820T183000
DTSTAMP:20260425T141255
CREATED:20250528T123510Z
LAST-MODIFIED:20250528T123938Z
UID:10016649-1755711000-1755714600@epworth.faith
SUMMARY:Praise Team Practice (Sanctuary)
DESCRIPTION:
URL:https://epworth.faith/event/praise-team-practice-music-room/2025-08-20/
LOCATION:Epworth United Methodist Church\, 19285 Holland Glade Road\, Rehoboth Beach\, DE\, 19971\, United States
CATEGORIES:Church,Music
ORGANIZER;CN="Doug Yetter":MAILTO:dyetter@epworth.faith
END:VEVENT
BEGIN:VEVENT
DTSTART;TZID=America/New_York:20250813T173000
DTEND;TZID=America/New_York:20250813T183000
DTSTAMP:20260425T141255
CREATED:20250528T123510Z
LAST-MODIFIED:20250528T123938Z
UID:10016648-1755106200-1755109800@epworth.faith
SUMMARY:Praise Team Practice (Sanctuary)
DESCRIPTION:
URL:https://epworth.faith/event/praise-team-practice-music-room/2025-08-13/
LOCATION:Epworth United Methodist Church\, 19285 Holland Glade Road\, Rehoboth Beach\, DE\, 19971\, United States
CATEGORIES:Church,Music
ORGANIZER;CN="Doug Yetter":MAILTO:dyetter@epworth.faith
END:VEVENT
BEGIN:VEVENT
DTSTART;TZID=America/New_York:20250806T173000
DTEND;TZID=America/New_York:20250806T183000
DTSTAMP:20260425T141255
CREATED:20250528T123510Z
LAST-MODIFIED:20250528T123938Z
UID:10016647-1754501400-1754505000@epworth.faith
SUMMARY:Praise Team Practice (Sanctuary)
DESCRIPTION:
URL:https://epworth.faith/event/praise-team-practice-music-room/2025-08-06/
LOCATION:Epworth United Methodist Church\, 19285 Holland Glade Road\, Rehoboth Beach\, DE\, 19971\, United States
CATEGORIES:Church,Music
ORGANIZER;CN="Doug Yetter":MAILTO:dyetter@epworth.faith
END:VEVENT
BEGIN:VEVENT
DTSTART;TZID=America/New_York:20250730T173000
DTEND;TZID=America/New_York:20250730T183000
DTSTAMP:20260425T141255
CREATED:20250528T123510Z
LAST-MODIFIED:20250528T123938Z
UID:10016646-1753896600-1753900200@epworth.faith
SUMMARY:Praise Team Practice (Sanctuary)
DESCRIPTION:
URL:https://epworth.faith/event/praise-team-practice-music-room/2025-07-30/
LOCATION:Epworth United Methodist Church\, 19285 Holland Glade Road\, Rehoboth Beach\, DE\, 19971\, United States
CATEGORIES:Church,Music
ORGANIZER;CN="Doug Yetter":MAILTO:dyetter@epworth.faith
END:VEVENT
BEGIN:VEVENT
DTSTART;TZID=America/New_York:20250723T173000
DTEND;TZID=America/New_York:20250723T183000
DTSTAMP:20260425T141255
CREATED:20250528T123510Z
LAST-MODIFIED:20250528T123938Z
UID:10016645-1753291800-1753295400@epworth.faith
SUMMARY:Praise Team Practice (Sanctuary)
DESCRIPTION:
URL:https://epworth.faith/event/praise-team-practice-music-room/2025-07-23/
LOCATION:Epworth United Methodist Church\, 19285 Holland Glade Road\, Rehoboth Beach\, DE\, 19971\, United States
CATEGORIES:Church,Music
ORGANIZER;CN="Doug Yetter":MAILTO:dyetter@epworth.faith
END:VEVENT
BEGIN:VEVENT
DTSTART;TZID=America/New_York:20250716T173000
DTEND;TZID=America/New_York:20250716T183000
DTSTAMP:20260425T141255
CREATED:20250528T123510Z
LAST-MODIFIED:20250528T123938Z
UID:10016644-1752687000-1752690600@epworth.faith
SUMMARY:Praise Team Practice (Sanctuary)
DESCRIPTION:
URL:https://epworth.faith/event/praise-team-practice-music-room/2025-07-16/
LOCATION:Epworth United Methodist Church\, 19285 Holland Glade Road\, Rehoboth Beach\, DE\, 19971\, United States
CATEGORIES:Church,Music
ORGANIZER;CN="Doug Yetter":MAILTO:dyetter@epworth.faith
END:VEVENT
BEGIN:VEVENT
DTSTART;TZID=America/New_York:20250709T173000
DTEND;TZID=America/New_York:20250709T183000
DTSTAMP:20260425T141255
CREATED:20250528T123510Z
LAST-MODIFIED:20250528T123938Z
UID:10016643-1752082200-1752085800@epworth.faith
SUMMARY:Praise Team Practice (Sanctuary)
DESCRIPTION:
URL:https://epworth.faith/event/praise-team-practice-music-room/2025-07-09/
LOCATION:Epworth United Methodist Church\, 19285 Holland Glade Road\, Rehoboth Beach\, DE\, 19971\, United States
CATEGORIES:Church,Music
ORGANIZER;CN="Doug Yetter":MAILTO:dyetter@epworth.faith
END:VEVENT
BEGIN:VEVENT
DTSTART;TZID=America/New_York:20250702T173000
DTEND;TZID=America/New_York:20250702T183000
DTSTAMP:20260425T141255
CREATED:20250528T123510Z
LAST-MODIFIED:20250528T123938Z
UID:10016642-1751477400-1751481000@epworth.faith
SUMMARY:Praise Team Practice (Sanctuary)
DESCRIPTION:
URL:https://epworth.faith/event/praise-team-practice-music-room/2025-07-02/
LOCATION:Epworth United Methodist Church\, 19285 Holland Glade Road\, Rehoboth Beach\, DE\, 19971\, United States
CATEGORIES:Church,Music
ORGANIZER;CN="Doug Yetter":MAILTO:dyetter@epworth.faith
END:VEVENT
BEGIN:VEVENT
DTSTART;TZID=America/New_York:20250625T173000
DTEND;TZID=America/New_York:20250625T183000
DTSTAMP:20260425T141255
CREATED:20250116T215324Z
LAST-MODIFIED:20250528T122635Z
UID:10016599-1750872600-1750876200@epworth.faith
SUMMARY:Memorial Bells Practice (Music Room)
DESCRIPTION:
URL:https://epworth.faith/event/memorial-bells-practice-music-room/2025-06-25/
LOCATION:Epworth United Methodist Church\, 19285 Holland Glade Road\, Rehoboth Beach\, DE\, 19971\, United States
CATEGORIES:Church,Music
ORGANIZER;CN="Doug Yetter":MAILTO:dyetter@epworth.faith
END:VEVENT
BEGIN:VEVENT
DTSTART;TZID=America/New_York:20250618T173000
DTEND;TZID=America/New_York:20250618T183000
DTSTAMP:20260425T141255
CREATED:20250116T215324Z
LAST-MODIFIED:20250528T122635Z
UID:10016598-1750267800-1750271400@epworth.faith
SUMMARY:Memorial Bells Practice (Music Room)
DESCRIPTION:
URL:https://epworth.faith/event/memorial-bells-practice-music-room/2025-06-18/
LOCATION:Epworth United Methodist Church\, 19285 Holland Glade Road\, Rehoboth Beach\, DE\, 19971\, United States
CATEGORIES:Church,Music
ORGANIZER;CN="Doug Yetter":MAILTO:dyetter@epworth.faith
END:VEVENT
BEGIN:VEVENT
DTSTART;TZID=America/New_York:20250611T173000
DTEND;TZID=America/New_York:20250611T183000
DTSTAMP:20260425T141255
CREATED:20250116T215324Z
LAST-MODIFIED:20250528T122635Z
UID:10016597-1749663000-1749666600@epworth.faith
SUMMARY:Memorial Bells Practice (Music Room)
DESCRIPTION:
URL:https://epworth.faith/event/memorial-bells-practice-music-room/2025-06-11/
LOCATION:Epworth United Methodist Church\, 19285 Holland Glade Road\, Rehoboth Beach\, DE\, 19971\, United States
CATEGORIES:Church,Music
ORGANIZER;CN="Doug Yetter":MAILTO:dyetter@epworth.faith
END:VEVENT
BEGIN:VEVENT
DTSTART;TZID=America/New_York:20250604T173000
DTEND;TZID=America/New_York:20250604T183000
DTSTAMP:20260425T141255
CREATED:20250116T215324Z
LAST-MODIFIED:20250528T122635Z
UID:10016596-1749058200-1749061800@epworth.faith
SUMMARY:Memorial Bells Practice (Music Room)
DESCRIPTION:
URL:https://epworth.faith/event/memorial-bells-practice-music-room/2025-06-04/
LOCATION:Epworth United Methodist Church\, 19285 Holland Glade Road\, Rehoboth Beach\, DE\, 19971\, United States
CATEGORIES:Church,Music
ORGANIZER;CN="Doug Yetter":MAILTO:dyetter@epworth.faith
END:VEVENT
BEGIN:VEVENT
DTSTART;TZID=America/New_York:20250528T173000
DTEND;TZID=America/New_York:20250528T183000
DTSTAMP:20260425T141255
CREATED:20250116T215324Z
LAST-MODIFIED:20250528T122635Z
UID:10016595-1748453400-1748457000@epworth.faith
SUMMARY:Memorial Bells Practice (Music Room)
DESCRIPTION:
URL:https://epworth.faith/event/memorial-bells-practice-music-room/2025-05-28/
LOCATION:Epworth United Methodist Church\, 19285 Holland Glade Road\, Rehoboth Beach\, DE\, 19971\, United States
CATEGORIES:Church,Music
ORGANIZER;CN="Doug Yetter":MAILTO:dyetter@epworth.faith
END:VEVENT
BEGIN:VEVENT
DTSTART;TZID=America/New_York:20250521T173000
DTEND;TZID=America/New_York:20250521T183000
DTSTAMP:20260425T141255
CREATED:20250116T215324Z
LAST-MODIFIED:20250528T122635Z
UID:10016594-1747848600-1747852200@epworth.faith
SUMMARY:Memorial Bells Practice (Music Room)
DESCRIPTION:
URL:https://epworth.faith/event/memorial-bells-practice-music-room/2025-05-21/
LOCATION:Epworth United Methodist Church\, 19285 Holland Glade Road\, Rehoboth Beach\, DE\, 19971\, United States
CATEGORIES:Church,Music
ORGANIZER;CN="Doug Yetter":MAILTO:dyetter@epworth.faith
END:VEVENT
BEGIN:VEVENT
DTSTART;TZID=America/New_York:20250514T173000
DTEND;TZID=America/New_York:20250514T183000
DTSTAMP:20260425T141255
CREATED:20250116T215324Z
LAST-MODIFIED:20250528T122635Z
UID:10016593-1747243800-1747247400@epworth.faith
SUMMARY:Memorial Bells Practice (Music Room)
DESCRIPTION:
URL:https://epworth.faith/event/memorial-bells-practice-music-room/2025-05-14/
LOCATION:Epworth United Methodist Church\, 19285 Holland Glade Road\, Rehoboth Beach\, DE\, 19971\, United States
CATEGORIES:Church,Music
ORGANIZER;CN="Doug Yetter":MAILTO:dyetter@epworth.faith
END:VEVENT
BEGIN:VEVENT
DTSTART;TZID=America/New_York:20250507T173000
DTEND;TZID=America/New_York:20250507T183000
DTSTAMP:20260425T141255
CREATED:20250116T215324Z
LAST-MODIFIED:20250528T122635Z
UID:10016592-1746639000-1746642600@epworth.faith
SUMMARY:Memorial Bells Practice (Music Room)
DESCRIPTION:
URL:https://epworth.faith/event/memorial-bells-practice-music-room/2025-05-07/
LOCATION:Epworth United Methodist Church\, 19285 Holland Glade Road\, Rehoboth Beach\, DE\, 19971\, United States
CATEGORIES:Church,Music
ORGANIZER;CN="Doug Yetter":MAILTO:dyetter@epworth.faith
END:VEVENT
BEGIN:VEVENT
DTSTART;TZID=America/New_York:20250430T173000
DTEND;TZID=America/New_York:20250430T183000
DTSTAMP:20260425T141255
CREATED:20250116T215324Z
LAST-MODIFIED:20250528T122635Z
UID:10016591-1746034200-1746037800@epworth.faith
SUMMARY:Memorial Bells Practice (Music Room)
DESCRIPTION:
URL:https://epworth.faith/event/memorial-bells-practice-music-room/2025-04-30/
LOCATION:Epworth United Methodist Church\, 19285 Holland Glade Road\, Rehoboth Beach\, DE\, 19971\, United States
CATEGORIES:Church,Music
ORGANIZER;CN="Doug Yetter":MAILTO:dyetter@epworth.faith
END:VEVENT
BEGIN:VEVENT
DTSTART;TZID=America/New_York:20250423T173000
DTEND;TZID=America/New_York:20250423T183000
DTSTAMP:20260425T141255
CREATED:20250116T215324Z
LAST-MODIFIED:20250528T122635Z
UID:10016590-1745429400-1745433000@epworth.faith
SUMMARY:Memorial Bells Practice (Music Room)
DESCRIPTION:
URL:https://epworth.faith/event/memorial-bells-practice-music-room/2025-04-23/
LOCATION:Epworth United Methodist Church\, 19285 Holland Glade Road\, Rehoboth Beach\, DE\, 19971\, United States
CATEGORIES:Church,Music
ORGANIZER;CN="Doug Yetter":MAILTO:dyetter@epworth.faith
END:VEVENT
BEGIN:VEVENT
DTSTART;TZID=America/New_York:20250416T173000
DTEND;TZID=America/New_York:20250416T183000
DTSTAMP:20260425T141255
CREATED:20250116T215324Z
LAST-MODIFIED:20250528T122635Z
UID:10016589-1744824600-1744828200@epworth.faith
SUMMARY:Memorial Bells Practice (Music Room)
DESCRIPTION:
URL:https://epworth.faith/event/memorial-bells-practice-music-room/2025-04-16/
LOCATION:Epworth United Methodist Church\, 19285 Holland Glade Road\, Rehoboth Beach\, DE\, 19971\, United States
CATEGORIES:Church,Music
ORGANIZER;CN="Doug Yetter":MAILTO:dyetter@epworth.faith
END:VEVENT
BEGIN:VEVENT
DTSTART;TZID=America/New_York:20250410T100000
DTEND;TZID=America/New_York:20250410T113000
DTSTAMP:20260425T141255
CREATED:20250115T183022Z
LAST-MODIFIED:20250331T200816Z
UID:10015375-1744279200-1744284600@epworth.faith
SUMMARY:Parkinson's Voice Project Choir Performance (Sanctuary)
DESCRIPTION:The Parkinson’s Chorus will have an end-of-session presentation at 10 a.m. Thursday\, April 10 in the sanctuary.\n\nDirector Doug Yetter will lead the group – and interested audience members – through an abbreviated warmup\, then the Chorus will sing the music they’ve been working on during their 12-week session. Refreshments will be served in the lobby following the presentation.
URL:https://epworth.faith/event/parkinsons-voice-project-choir-performance-sanctuary/
LOCATION:Epworth United Methodist Church\, 19285 Holland Glade Road\, Rehoboth Beach\, DE\, 19971\, United States
CATEGORIES:Church,Groups,Music
ORGANIZER;CN="Doug Yetter":MAILTO:dyetter@epworth.faith
END:VEVENT
BEGIN:VEVENT
DTSTART;TZID=America/New_York:20250409T173000
DTEND;TZID=America/New_York:20250409T183000
DTSTAMP:20260425T141255
CREATED:20250116T215324Z
LAST-MODIFIED:20250528T122635Z
UID:10016588-1744219800-1744223400@epworth.faith
SUMMARY:Memorial Bells Practice (Music Room)
DESCRIPTION:
URL:https://epworth.faith/event/memorial-bells-practice-music-room/2025-04-09/
LOCATION:Epworth United Methodist Church\, 19285 Holland Glade Road\, Rehoboth Beach\, DE\, 19971\, United States
CATEGORIES:Church,Music
ORGANIZER;CN="Doug Yetter":MAILTO:dyetter@epworth.faith
END:VEVENT
BEGIN:VEVENT
DTSTART;TZID=America/New_York:20250405T130000
DTEND;TZID=America/New_York:20250405T190000
DTSTAMP:20260425T141255
CREATED:20240318T184908Z
LAST-MODIFIED:20250314T161456Z
UID:10012437-1743858000-1743879600@epworth.faith
SUMMARY:Mid-Atlantic Symphony Orchestra (Concert: 3:00pm to 5:00pm) (Sanctuary\, Music Room & Branford)
DESCRIPTION:Mid-Atlantic Symphony Masterworks Concerts – Mozart’s Jupiter (Symphony No. 1\, 40\, & 41) Saturday\, April 5\, 3 pm (tickets\, $55) \nBuilding and Tech: 1-6 pm
URL:https://epworth.faith/event/mid-atlantic-symphony-orchestra-sanctuary-music-room-2/
LOCATION:Epworth United Methodist Church\, 19285 Holland Glade Road\, Rehoboth Beach\, DE\, 19971\, United States
CATEGORIES:Church,Concerts,Music
ORGANIZER;CN="Dane Krich":MAILTO:dane@midatlanticsymphony.org
END:VEVENT
BEGIN:VEVENT
DTSTART;TZID=America/New_York:20250402T173000
DTEND;TZID=America/New_York:20250402T183000
DTSTAMP:20260425T141255
CREATED:20250116T215324Z
LAST-MODIFIED:20250528T122635Z
UID:10016587-1743615000-1743618600@epworth.faith
SUMMARY:Memorial Bells Practice (Music Room)
DESCRIPTION:
URL:https://epworth.faith/event/memorial-bells-practice-music-room/2025-04-02/
LOCATION:Epworth United Methodist Church\, 19285 Holland Glade Road\, Rehoboth Beach\, DE\, 19971\, United States
CATEGORIES:Church,Music
ORGANIZER;CN="Doug Yetter":MAILTO:dyetter@epworth.faith
END:VEVENT
END:VCALENDAR