BEGIN:VCALENDAR
VERSION:2.0
PRODID:-//Epworth UMC - ECPv6.15.20//NONSGML v1.0//EN
CALSCALE:GREGORIAN
METHOD:PUBLISH
X-WR-CALNAME:Epworth UMC
X-ORIGINAL-URL:https://epworth.faith
X-WR-CALDESC:Events for Epworth UMC
REFRESH-INTERVAL;VALUE=DURATION:PT1H
X-Robots-Tag:noindex
X-PUBLISHED-TTL:PT1H
BEGIN:VTIMEZONE
TZID:America/New_York
BEGIN:DAYLIGHT
TZOFFSETFROM:-0500
TZOFFSETTO:-0400
TZNAME:EDT
DTSTART:20240310T070000
END:DAYLIGHT
BEGIN:STANDARD
TZOFFSETFROM:-0400
TZOFFSETTO:-0500
TZNAME:EST
DTSTART:20241103T060000
END:STANDARD
BEGIN:DAYLIGHT
TZOFFSETFROM:-0500
TZOFFSETTO:-0400
TZNAME:EDT
DTSTART:20250309T070000
END:DAYLIGHT
BEGIN:STANDARD
TZOFFSETFROM:-0400
TZOFFSETTO:-0500
TZNAME:EST
DTSTART:20251102T060000
END:STANDARD
BEGIN:DAYLIGHT
TZOFFSETFROM:-0500
TZOFFSETTO:-0400
TZNAME:EDT
DTSTART:20260308T070000
END:DAYLIGHT
BEGIN:STANDARD
TZOFFSETFROM:-0400
TZOFFSETTO:-0500
TZNAME:EST
DTSTART:20261101T060000
END:STANDARD
END:VTIMEZONE
BEGIN:VEVENT
DTSTART;TZID=America/New_York:20251126T080000
DTEND;TZID=America/New_York:20251126T170000
DTSTAMP:20260425T105352
CREATED:20241230T200644Z
LAST-MODIFIED:20241230T200644Z
UID:10015303-1764144000-1764176400@epworth.faith
SUMMARY:Sorting Christmas Gifts for the Giving Tree (Starnes Room)
DESCRIPTION:
URL:https://epworth.faith/event/sorting-christmas-gifts-for-the-giving-tree-starnes-room/2025-11-26/
LOCATION:Epworth United Methodist Church\, 19285 Holland Glade Road\, Rehoboth Beach\, DE\, 19971\, United States
CATEGORIES:Church,Groups
ORGANIZER;CN="Sue Brenton":MAILTO:myshadow143@verizon.net
END:VEVENT
BEGIN:VEVENT
DTSTART;TZID=America/New_York:20251126T100000
DTEND;TZID=America/New_York:20251126T120000
DTSTAMP:20260425T105352
CREATED:20250827T201136Z
LAST-MODIFIED:20250827T201136Z
UID:10017255-1764151200-1764158400@epworth.faith
SUMMARY:Sisters in Christ Meetings (Starnes Room)
DESCRIPTION:
URL:https://epworth.faith/event/sisters-in-christ-meetings-starnes-room/2025-11-26/
LOCATION:Epworth United Methodist Church\, 19285 Holland Glade Road\, Rehoboth Beach\, DE\, 19971\, United States
CATEGORIES:Church,Groups
ORGANIZER;CN="Barbara Hoffman":MAILTO:revbarbarahoffman@gmail.com
END:VEVENT
BEGIN:VEVENT
DTSTART;TZID=America/New_York:20251126T163000
DTEND;TZID=America/New_York:20251126T173000
DTSTAMP:20260425T105352
CREATED:20250528T122948Z
LAST-MODIFIED:20250911T130205Z
UID:10017304-1764174600-1764178200@epworth.faith
SUMMARY:Memorial Bells Practice (Music Room)
DESCRIPTION:
URL:https://epworth.faith/event/memorial-bells-practice-music-room-2/2025-11-26/
LOCATION:Epworth United Methodist Church\, 19285 Holland Glade Road\, Rehoboth Beach\, DE\, 19971\, United States
CATEGORIES:Church,Music
ORGANIZER;CN="Doug Yetter":MAILTO:dyetter@epworth.faith
END:VEVENT
BEGIN:VEVENT
DTSTART;TZID=America/New_York:20251126T173000
DTEND;TZID=America/New_York:20251126T183000
DTSTAMP:20260425T105352
CREATED:20250116T215058Z
LAST-MODIFIED:20250911T132405Z
UID:10017378-1764178200-1764181800@epworth.faith
SUMMARY:Chancel Choir Practice (Music Room)
DESCRIPTION:
URL:https://epworth.faith/event/chancel-choir-practice-music-room-2/2025-11-26/
LOCATION:Epworth United Methodist Church\, 19285 Holland Glade Road\, Rehoboth Beach\, DE\, 19971\, United States
CATEGORIES:Church,Groups
ORGANIZER;CN="Doug Yetter":MAILTO:dyetter@epworth.faith
END:VEVENT
BEGIN:VEVENT
DTSTART;TZID=America/New_York:20251126T183000
DTEND;TZID=America/New_York:20251126T193000
DTSTAMP:20260425T105352
CREATED:20250528T124534Z
LAST-MODIFIED:20250911T132748Z
UID:10017419-1764181800-1764185400@epworth.faith
SUMMARY:Praise Team (Sanctuary)
DESCRIPTION:
URL:https://epworth.faith/event/praise-team-sanctuary/2025-11-26/
LOCATION:Epworth United Methodist Church\, 19285 Holland Glade Road\, Rehoboth Beach\, DE\, 19971\, United States
CATEGORIES:Church,Music
ORGANIZER;CN="Doug Yetter":MAILTO:dyetter@epworth.faith
END:VEVENT
BEGIN:VEVENT
DTSTART;TZID=America/New_York:20251127T080000
DTEND;TZID=America/New_York:20251127T170000
DTSTAMP:20260425T105352
CREATED:20241230T200644Z
LAST-MODIFIED:20241230T200644Z
UID:10015304-1764230400-1764262800@epworth.faith
SUMMARY:Sorting Christmas Gifts for the Giving Tree (Starnes Room)
DESCRIPTION:
URL:https://epworth.faith/event/sorting-christmas-gifts-for-the-giving-tree-starnes-room/2025-11-27/
LOCATION:Epworth United Methodist Church\, 19285 Holland Glade Road\, Rehoboth Beach\, DE\, 19971\, United States
CATEGORIES:Church,Groups
ORGANIZER;CN="Sue Brenton":MAILTO:myshadow143@verizon.net
END:VEVENT
BEGIN:VEVENT
DTSTART;TZID=America/New_York:20251127T093000
DTEND;TZID=America/New_York:20251127T103000
DTSTAMP:20260425T105352
CREATED:20250521T185021Z
LAST-MODIFIED:20260205T141334Z
UID:10016572-1764235800-1764239400@epworth.faith
SUMMARY:Alzheimer/Dementia Support Group (Baker Room)
DESCRIPTION:
URL:https://epworth.faith/event/alzheimer-dementia-support-group-baker-room/2025-11-27/
LOCATION:Epworth United Methodist Church\, 19285 Holland Glade Road\, Rehoboth Beach\, DE\, 19971\, United States
CATEGORIES:Church,Groups
ORGANIZER;CN="Harry Martens":MAILTO:HMartensiii@gmail.com
END:VEVENT
BEGIN:VEVENT
DTSTART;TZID=America/New_York:20251127T100000
DTEND;TZID=America/New_York:20251127T113000
DTSTAMP:20260425T105352
CREATED:20250821T135925Z
LAST-MODIFIED:20250911T133045Z
UID:10017057-1764237600-1764243000@epworth.faith
SUMMARY:Parkinson's Voice Project Choir (Music Room)
DESCRIPTION:
URL:https://epworth.faith/event/parkinsons-voice-project-choir-music-room-2/2025-11-27/
LOCATION:Epworth United Methodist Church\, 19285 Holland Glade Road\, Rehoboth Beach\, DE\, 19971\, United States
CATEGORIES:Church,Groups
ORGANIZER;CN="Doug Yetter":MAILTO:dyetter@epworth.faith
END:VEVENT
BEGIN:VEVENT
DTSTART;TZID=America/New_York:20251127T120000
DTEND;TZID=America/New_York:20251127T130000
DTSTAMP:20260425T105352
CREATED:20240905T122329Z
LAST-MODIFIED:20251023T150055Z
UID:10014416-1764244800-1764248400@epworth.faith
SUMMARY:Alanon Meeting (Branford Room)
DESCRIPTION:
URL:https://epworth.faith/event/alanon-meeting-branford-room-3/2025-11-27/
LOCATION:Epworth United Methodist Church\, 19285 Holland Glade Road\, Rehoboth Beach\, DE\, 19971\, United States
CATEGORIES:Church,Groups
END:VEVENT
BEGIN:VEVENT
DTSTART;TZID=America/New_York:20251127T193000
DTEND;TZID=America/New_York:20251127T203000
DTSTAMP:20260425T105352
CREATED:20240905T122521Z
LAST-MODIFIED:20251023T150301Z
UID:10014468-1764271800-1764275400@epworth.faith
SUMMARY:AA Meeting (Baker Room)
DESCRIPTION:
URL:https://epworth.faith/event/aa-meeting-baker-room/2025-11-27/
LOCATION:Epworth United Methodist Church\, 19285 Holland Glade Road\, Rehoboth Beach\, DE\, 19971\, United States
CATEGORIES:Church,Groups
END:VEVENT
BEGIN:VEVENT
DTSTART;TZID=America/New_York:20251128T080000
DTEND;TZID=America/New_York:20251128T170000
DTSTAMP:20260425T105352
CREATED:20241230T200644Z
LAST-MODIFIED:20241230T200644Z
UID:10015305-1764316800-1764349200@epworth.faith
SUMMARY:Sorting Christmas Gifts for the Giving Tree (Starnes Room)
DESCRIPTION:
URL:https://epworth.faith/event/sorting-christmas-gifts-for-the-giving-tree-starnes-room/2025-11-28/
LOCATION:Epworth United Methodist Church\, 19285 Holland Glade Road\, Rehoboth Beach\, DE\, 19971\, United States
CATEGORIES:Church,Groups
ORGANIZER;CN="Sue Brenton":MAILTO:myshadow143@verizon.net
END:VEVENT
BEGIN:VEVENT
DTSTART;TZID=America/New_York:20251129T080000
DTEND;TZID=America/New_York:20251129T170000
DTSTAMP:20260425T105352
CREATED:20241230T200644Z
LAST-MODIFIED:20241230T200644Z
UID:10015306-1764403200-1764435600@epworth.faith
SUMMARY:Sorting Christmas Gifts for the Giving Tree (Starnes Room)
DESCRIPTION:
URL:https://epworth.faith/event/sorting-christmas-gifts-for-the-giving-tree-starnes-room/2025-11-29/
LOCATION:Epworth United Methodist Church\, 19285 Holland Glade Road\, Rehoboth Beach\, DE\, 19971\, United States
CATEGORIES:Church,Groups
ORGANIZER;CN="Sue Brenton":MAILTO:myshadow143@verizon.net
END:VEVENT
BEGIN:VEVENT
DTSTART;TZID=America/New_York:20251129T090000
DTEND;TZID=America/New_York:20251129T100000
DTSTAMP:20260425T105352
CREATED:20240905T122704Z
LAST-MODIFIED:20251023T150523Z
UID:10014520-1764406800-1764410400@epworth.faith
SUMMARY:ACA Meeting (Baker Room)
DESCRIPTION:
URL:https://epworth.faith/event/aca-meeting-baker-room/2025-11-29/
LOCATION:Epworth United Methodist Church\, 19285 Holland Glade Road\, Rehoboth Beach\, DE\, 19971\, United States
CATEGORIES:Church,Groups
END:VEVENT
BEGIN:VEVENT
DTSTART;TZID=America/New_York:20251129T090000
DTEND;TZID=America/New_York:20251129T140000
DTSTAMP:20260425T105352
CREATED:20251009T135916Z
LAST-MODIFIED:20251009T135916Z
UID:10018004-1764406800-1764424800@epworth.faith
SUMMARY:Worship Design Team (Sanctuary)
DESCRIPTION:
URL:https://epworth.faith/event/worship-design-team-sanctuary-9/
LOCATION:Epworth United Methodist Church\, 19285 Holland Glade Road\, Rehoboth Beach\, DE\, 19971\, United States
CATEGORIES:Church,Groups
ORGANIZER;CN="Murray Archibald":MAILTO:rma.archibald@gmail.com
END:VEVENT
BEGIN:VEVENT
DTSTART;TZID=America/New_York:20251129T180000
DTEND;TZID=America/New_York:20251129T190000
DTSTAMP:20260425T105352
CREATED:20240905T122918Z
LAST-MODIFIED:20251023T150738Z
UID:10014572-1764439200-1764442800@epworth.faith
SUMMARY:Alanon Meeting (Baker Room)
DESCRIPTION:
URL:https://epworth.faith/event/alanon-meeting-baker-room-2/2025-11-29/
LOCATION:Epworth United Methodist Church\, 19285 Holland Glade Road\, Rehoboth Beach\, DE\, 19971\, United States
CATEGORIES:Church,Groups
END:VEVENT
BEGIN:VEVENT
DTSTART;TZID=America/New_York:20251129T180000
DTEND;TZID=America/New_York:20251129T190000
DTSTAMP:20260425T105352
CREATED:20240905T123154Z
LAST-MODIFIED:20251023T152520Z
UID:10014624-1764439200-1764442800@epworth.faith
SUMMARY:AA Meeting (Branford Room)
DESCRIPTION:
URL:https://epworth.faith/event/aa-meeting-branford-room/2025-11-29/
LOCATION:Epworth United Methodist Church\, 19285 Holland Glade Road\, Rehoboth Beach\, DE\, 19971\, United States
CATEGORIES:Church,Groups
END:VEVENT
BEGIN:VEVENT
DTSTART;TZID=America/New_York:20251130T080000
DTEND;TZID=America/New_York:20251130T170000
DTSTAMP:20260425T105352
CREATED:20241230T200644Z
LAST-MODIFIED:20241230T200644Z
UID:10015307-1764489600-1764522000@epworth.faith
SUMMARY:Sorting Christmas Gifts for the Giving Tree (Starnes Room)
DESCRIPTION:
URL:https://epworth.faith/event/sorting-christmas-gifts-for-the-giving-tree-starnes-room/2025-11-30/
LOCATION:Epworth United Methodist Church\, 19285 Holland Glade Road\, Rehoboth Beach\, DE\, 19971\, United States
CATEGORIES:Church,Groups
ORGANIZER;CN="Sue Brenton":MAILTO:myshadow143@verizon.net
END:VEVENT
BEGIN:VEVENT
DTSTART;TZID=America/New_York:20251130T100000
DTEND;TZID=America/New_York:20251130T110000
DTSTAMP:20260425T105352
CREATED:20230909T152658Z
LAST-MODIFIED:20230909T161232Z
UID:10009126-1764496800-1764500400@epworth.faith
SUMMARY:Blended ASL Worship Service (Sanctuary & Online)
DESCRIPTION:YouTube Livestream\nYouTube ASL Livestream\nFacebook Livestream
URL:https://epworth.faith/event/blended-worship-service-sanctuary-on-line-2/2025-11-30/
LOCATION:Epworth United Methodist Church\, 19285 Holland Glade Road\, Rehoboth Beach\, DE\, 19971\, United States
CATEGORIES:Worship
ORGANIZER;CN="Vicki Gordy-Stith":MAILTO:vgordy-stith@epworth.faith
END:VEVENT
BEGIN:VEVENT
DTSTART;TZID=America/New_York:20251130T110000
DTEND;TZID=America/New_York:20251130T124500
DTSTAMP:20260425T105352
CREATED:20250303T202501Z
LAST-MODIFIED:20250303T202548Z
UID:10015595-1764500400-1764506700@epworth.faith
SUMMARY:Flower Ministry for Arrangements (Starnes Room)
DESCRIPTION:
URL:https://epworth.faith/event/flower-ministry-for-arrangements-starnes-room/2025-11-30/
LOCATION:Epworth United Methodist Church\, 19285 Holland Glade Road\, Rehoboth Beach\, DE\, 19971\, United States
CATEGORIES:Church,Groups
ORGANIZER;CN="Val Linder":MAILTO:rovalinder@comcast.net
END:VEVENT
BEGIN:VEVENT
DTSTART;TZID=America/New_York:20251130T111500
DTEND;TZID=America/New_York:20251130T114500
DTSTAMP:20260425T105352
CREATED:20241120T193843Z
LAST-MODIFIED:20241120T193843Z
UID:10015233-1764501300-1764503100@epworth.faith
SUMMARY:Stephen Ministry Prayer Chapel (Baker Room)
DESCRIPTION:
URL:https://epworth.faith/event/stephen-ministry-prayer-chapel-baker-room/2025-11-30/
LOCATION:Epworth United Methodist Church\, 19285 Holland Glade Road\, Rehoboth Beach\, DE\, 19971\, United States
CATEGORIES:Church,Groups
END:VEVENT
BEGIN:VEVENT
DTSTART;TZID=America/New_York:20251201T080000
DTEND;TZID=America/New_York:20251201T170000
DTSTAMP:20260425T105352
CREATED:20241230T200644Z
LAST-MODIFIED:20241230T200644Z
UID:10015308-1764576000-1764608400@epworth.faith
SUMMARY:Sorting Christmas Gifts for the Giving Tree (Starnes Room)
DESCRIPTION:
URL:https://epworth.faith/event/sorting-christmas-gifts-for-the-giving-tree-starnes-room/2025-12-01/
LOCATION:Epworth United Methodist Church\, 19285 Holland Glade Road\, Rehoboth Beach\, DE\, 19971\, United States
CATEGORIES:Church,Groups
ORGANIZER;CN="Sue Brenton":MAILTO:myshadow143@verizon.net
END:VEVENT
BEGIN:VEVENT
DTSTART;TZID=America/New_York:20251201T170000
DTEND;TZID=America/New_York:20251201T180000
DTSTAMP:20260425T105352
CREATED:20240905T122003Z
LAST-MODIFIED:20251023T143906Z
UID:10014312-1764608400-1764612000@epworth.faith
SUMMARY:Alanon Newcomers (Baker Room)
DESCRIPTION:
URL:https://epworth.faith/event/alanon-newcomers-baker-room/2025-12-01/
LOCATION:Epworth United Methodist Church\, 19285 Holland Glade Road\, Rehoboth Beach\, DE\, 19971\, United States
CATEGORIES:Church,Groups
END:VEVENT
BEGIN:VEVENT
DTSTART;TZID=America/New_York:20251201T180000
DTEND;TZID=America/New_York:20251201T190000
DTSTAMP:20260425T105352
CREATED:20240905T122138Z
LAST-MODIFIED:20251023T144119Z
UID:10014364-1764612000-1764615600@epworth.faith
SUMMARY:Alanon Meeting (Branford Room)
DESCRIPTION:
URL:https://epworth.faith/event/alanon-meeting-branford-room-2/2025-12-01/
LOCATION:Epworth United Methodist Church\, 19285 Holland Glade Road\, Rehoboth Beach\, DE\, 19971\, United States
CATEGORIES:Church,Groups
END:VEVENT
BEGIN:VEVENT
DTSTART;TZID=America/New_York:20251201T180000
DTEND;TZID=America/New_York:20251201T193000
DTSTAMP:20260425T105352
CREATED:20250925T182614Z
LAST-MODIFIED:20250929T160622Z
UID:10017746-1764612000-1764617400@epworth.faith
SUMMARY:Social Justice Meeting (Starnes Room)
DESCRIPTION:
URL:https://epworth.faith/event/social-justice-meeting-starnes-room/2025-12-01/
LOCATION:Epworth United Methodist Church\, 19285 Holland Glade Road\, Rehoboth Beach\, DE\, 19971\, United States
CATEGORIES:Church,Groups
END:VEVENT
BEGIN:VEVENT
DTSTART;TZID=America/New_York:20251202T080000
DTEND;TZID=America/New_York:20251202T170000
DTSTAMP:20260425T105352
CREATED:20241230T200644Z
LAST-MODIFIED:20241230T200644Z
UID:10015309-1764662400-1764694800@epworth.faith
SUMMARY:Sorting Christmas Gifts for the Giving Tree (Starnes Room)
DESCRIPTION:
URL:https://epworth.faith/event/sorting-christmas-gifts-for-the-giving-tree-starnes-room/2025-12-02/
LOCATION:Epworth United Methodist Church\, 19285 Holland Glade Road\, Rehoboth Beach\, DE\, 19971\, United States
CATEGORIES:Church,Groups
ORGANIZER;CN="Sue Brenton":MAILTO:myshadow143@verizon.net
END:VEVENT
BEGIN:VEVENT
DTSTART;TZID=America/New_York:20251202T120000
DTEND;TZID=America/New_York:20251202T140000
DTSTAMP:20260425T105352
CREATED:20231101T154604Z
LAST-MODIFIED:20231101T154604Z
UID:10010560-1764676800-1764684000@epworth.faith
SUMMARY:Staff Meeting (Conference Room)
DESCRIPTION:
URL:https://epworth.faith/event/staff-meeting-conference-room/2025-12-02/
LOCATION:Epworth United Methodist Church\, 19285 Holland Glade Road\, Rehoboth Beach\, DE\, 19971\, United States
CATEGORIES:Church,Staff
ORGANIZER;CN="Vicki Gordy-Stith":MAILTO:vgordy-stith@epworth.faith
END:VEVENT
BEGIN:VEVENT
DTSTART;TZID=America/New_York:20251202T130000
DTEND;TZID=America/New_York:20251202T160000
DTSTAMP:20260425T105352
CREATED:20251118T203910Z
LAST-MODIFIED:20251118T203910Z
UID:10020902-1764680400-1764691200@epworth.faith
SUMMARY:Baking Cookies for Cookie Walk (Kitchen)
DESCRIPTION:
URL:https://epworth.faith/event/baking-cookies-for-cookie-walk-kitchen/
LOCATION:Epworth United Methodist Church\, 19285 Holland Glade Road\, Rehoboth Beach\, DE\, 19971\, United States
CATEGORIES:Church,Groups
END:VEVENT
BEGIN:VEVENT
DTSTART;TZID=America/New_York:20251202T140000
DTEND;TZID=America/New_York:20251202T170000
DTSTAMP:20260425T105352
CREATED:20250709T184523Z
LAST-MODIFIED:20250709T184523Z
UID:10016997-1764684000-1764694800@epworth.faith
SUMMARY:Stitching Group (Branford Room)
DESCRIPTION:
URL:https://epworth.faith/event/stitching-group-branford-room/2025-12-02/
LOCATION:Epworth United Methodist Church\, 19285 Holland Glade Road\, Rehoboth Beach\, DE\, 19971\, United States
CATEGORIES:Church,Groups
END:VEVENT
BEGIN:VEVENT
DTSTART;TZID=America/New_York:20251202T180000
DTEND;TZID=America/New_York:20251202T190000
DTSTAMP:20260425T105352
CREATED:20240905T121346Z
LAST-MODIFIED:20251023T144445Z
UID:10014156-1764698400-1764702000@epworth.faith
SUMMARY:Alanon Meeting (Branford Room)
DESCRIPTION:
URL:https://epworth.faith/event/alanon-meeting-branford-room/2025-12-02/
LOCATION:Epworth United Methodist Church\, 19285 Holland Glade Road\, Rehoboth Beach\, DE\, 19971\, United States
CATEGORIES:Church,Groups
END:VEVENT
BEGIN:VEVENT
DTSTART;TZID=America/New_York:20251202T180000
DTEND;TZID=America/New_York:20251202T200000
DTSTAMP:20260425T105352
CREATED:20250529T174528Z
LAST-MODIFIED:20250529T174528Z
UID:10016758-1764698400-1764705600@epworth.faith
SUMMARY:SPRC Meeting (Office Conference Room)
DESCRIPTION:
URL:https://epworth.faith/event/sprc-meeting-office-conference-room/2025-12-02/
LOCATION:Epworth United Methodist Church\, 19285 Holland Glade Road\, Rehoboth Beach\, DE\, 19971\, United States
CATEGORIES:Church,Groups
ORGANIZER;CN="Sandy Pierce":MAILTO:sfpierce01@gmail.com
END:VEVENT
END:VCALENDAR