BEGIN:VCALENDAR
VERSION:2.0
PRODID:-//Epworth UMC - ECPv6.15.20//NONSGML v1.0//EN
CALSCALE:GREGORIAN
METHOD:PUBLISH
X-WR-CALNAME:Epworth UMC
X-ORIGINAL-URL:https://epworth.faith
X-WR-CALDESC:Events for Epworth UMC
REFRESH-INTERVAL;VALUE=DURATION:PT1H
X-Robots-Tag:noindex
X-PUBLISHED-TTL:PT1H
BEGIN:VTIMEZONE
TZID:America/New_York
BEGIN:DAYLIGHT
TZOFFSETFROM:-0500
TZOFFSETTO:-0400
TZNAME:EDT
DTSTART:20200308T070000
END:DAYLIGHT
BEGIN:STANDARD
TZOFFSETFROM:-0400
TZOFFSETTO:-0500
TZNAME:EST
DTSTART:20201101T060000
END:STANDARD
BEGIN:DAYLIGHT
TZOFFSETFROM:-0500
TZOFFSETTO:-0400
TZNAME:EDT
DTSTART:20210314T070000
END:DAYLIGHT
BEGIN:STANDARD
TZOFFSETFROM:-0400
TZOFFSETTO:-0500
TZNAME:EST
DTSTART:20211107T060000
END:STANDARD
BEGIN:DAYLIGHT
TZOFFSETFROM:-0500
TZOFFSETTO:-0400
TZNAME:EDT
DTSTART:20220313T070000
END:DAYLIGHT
BEGIN:STANDARD
TZOFFSETFROM:-0400
TZOFFSETTO:-0500
TZNAME:EST
DTSTART:20221106T060000
END:STANDARD
BEGIN:DAYLIGHT
TZOFFSETFROM:-0500
TZOFFSETTO:-0400
TZNAME:EDT
DTSTART:20230312T070000
END:DAYLIGHT
BEGIN:STANDARD
TZOFFSETFROM:-0400
TZOFFSETTO:-0500
TZNAME:EST
DTSTART:20231105T060000
END:STANDARD
BEGIN:DAYLIGHT
TZOFFSETFROM:-0500
TZOFFSETTO:-0400
TZNAME:EDT
DTSTART:20240310T070000
END:DAYLIGHT
BEGIN:STANDARD
TZOFFSETFROM:-0400
TZOFFSETTO:-0500
TZNAME:EST
DTSTART:20241103T060000
END:STANDARD
BEGIN:DAYLIGHT
TZOFFSETFROM:-0500
TZOFFSETTO:-0400
TZNAME:EDT
DTSTART:20250309T070000
END:DAYLIGHT
BEGIN:STANDARD
TZOFFSETFROM:-0400
TZOFFSETTO:-0500
TZNAME:EST
DTSTART:20251102T060000
END:STANDARD
END:VTIMEZONE
BEGIN:VEVENT
DTSTART;TZID=America/New_York:20241109T150000
DTEND;TZID=America/New_York:20241109T190000
DTSTAMP:20260425T070335
CREATED:20240619T204836Z
LAST-MODIFIED:20240619T204836Z
UID:10013575-1731164400-1731178800@epworth.faith
SUMMARY:Monica Chmielewski & Kathleen Berault Wedding (Sanctuary)
DESCRIPTION:
URL:https://epworth.faith/event/monica-chmielewski-kathleen-berault-wedding-sanctuary/
LOCATION:Epworth United Methodist Church\, 19285 Holland Glade Road\, Rehoboth Beach\, DE\, 19971\, United States
CATEGORIES:Church,Wedding
END:VEVENT
BEGIN:VEVENT
DTSTART;TZID=America/New_York:20240920T090000
DTEND;TZID=America/New_York:20240920T210000
DTSTAMP:20260425T070335
CREATED:20240820T140737Z
LAST-MODIFIED:20240820T151318Z
UID:10014023-1726822800-1726866000@epworth.faith
SUMMARY:Vow Renewal Ceremony (Sanctuary & Fellowship Hall)
DESCRIPTION:
URL:https://epworth.faith/event/vow-renewal-ceremony-sanctuary-fellowship-hall/
LOCATION:Epworth United Methodist Church\, 19285 Holland Glade Road\, Rehoboth Beach\, DE\, 19971\, United States
CATEGORIES:Church,Wedding
END:VEVENT
BEGIN:VEVENT
DTSTART;TZID=America/New_York:20211002T130000
DTEND;TZID=America/New_York:20211002T150000
DTSTAMP:20260425T070335
CREATED:20211001T142003Z
LAST-MODIFIED:20211001T145027Z
UID:10004121-1633179600-1633186800@epworth.faith
SUMMARY:Wedding
DESCRIPTION:Jonah Sheffield & Octavia Tolbert wedding
URL:https://epworth.faith/event/wedding/
LOCATION:Epworth United Methodist Church\, 19285 Holland Glade Road\, Rehoboth Beach\, DE\, 19971\, United States
CATEGORIES:Wedding
END:VEVENT
BEGIN:VEVENT
DTSTART;TZID=America/New_York:20211001T180000
DTEND;TZID=America/New_York:20211001T200000
DTSTAMP:20260425T070335
CREATED:20210930T201858Z
LAST-MODIFIED:20211001T144207Z
UID:10004097-1633111200-1633118400@epworth.faith
SUMMARY:Wedding Rehearsal
DESCRIPTION:
URL:https://epworth.faith/event/wedding-rehearsal/
LOCATION:Epworth United Methodist Church\, 19285 Holland Glade Road\, Rehoboth Beach\, DE\, 19971\, United States
CATEGORIES:Wedding
END:VEVENT
END:VCALENDAR