BEGIN:VCALENDAR
VERSION:2.0
PRODID:-//Epworth UMC - ECPv6.15.20//NONSGML v1.0//EN
CALSCALE:GREGORIAN
METHOD:PUBLISH
X-ORIGINAL-URL:https://epworth.faith
X-WR-CALDESC:Events for Epworth UMC
REFRESH-INTERVAL;VALUE=DURATION:PT1H
X-Robots-Tag:noindex
X-PUBLISHED-TTL:PT1H
BEGIN:VTIMEZONE
TZID:America/New_York
BEGIN:DAYLIGHT
TZOFFSETFROM:-0500
TZOFFSETTO:-0400
TZNAME:EDT
DTSTART:20250309T070000
END:DAYLIGHT
BEGIN:STANDARD
TZOFFSETFROM:-0400
TZOFFSETTO:-0500
TZNAME:EST
DTSTART:20251102T060000
END:STANDARD
BEGIN:DAYLIGHT
TZOFFSETFROM:-0500
TZOFFSETTO:-0400
TZNAME:EDT
DTSTART:20260308T070000
END:DAYLIGHT
BEGIN:STANDARD
TZOFFSETFROM:-0400
TZOFFSETTO:-0500
TZNAME:EST
DTSTART:20261101T060000
END:STANDARD
BEGIN:DAYLIGHT
TZOFFSETFROM:-0500
TZOFFSETTO:-0400
TZNAME:EDT
DTSTART:20270314T070000
END:DAYLIGHT
BEGIN:STANDARD
TZOFFSETFROM:-0400
TZOFFSETTO:-0500
TZNAME:EST
DTSTART:20271107T060000
END:STANDARD
BEGIN:DAYLIGHT
TZOFFSETFROM:-0500
TZOFFSETTO:-0400
TZNAME:EDT
DTSTART:20280312T070000
END:DAYLIGHT
BEGIN:STANDARD
TZOFFSETFROM:-0400
TZOFFSETTO:-0500
TZNAME:EST
DTSTART:20281105T060000
END:STANDARD
END:VTIMEZONE
BEGIN:VEVENT
DTSTART;TZID=America/New_York:20261011T100000
DTEND;TZID=America/New_York:20261011T110000
DTSTAMP:20260423T183455
CREATED:20230909T152658Z
LAST-MODIFIED:20230909T161232Z
UID:10009171-1791712800-1791716400@epworth.faith
SUMMARY:Blended ASL Worship Service (Sanctuary & Online)
DESCRIPTION:YouTube Livestream\nYouTube ASL Livestream\nFacebook Livestream
URL:https://epworth.faith/event/blended-worship-service-sanctuary-on-line-2/2026-10-11/
LOCATION:Epworth United Methodist Church\, 19285 Holland Glade Road\, Rehoboth Beach\, DE\, 19971\, United States
CATEGORIES:Worship
ORGANIZER;CN="Vicki Gordy-Stith":MAILTO:vgordy-stith@epworth.faith
END:VEVENT
BEGIN:VEVENT
DTSTART;TZID=America/New_York:20261018T100000
DTEND;TZID=America/New_York:20261018T110000
DTSTAMP:20260423T183455
CREATED:20230909T152658Z
LAST-MODIFIED:20230909T161232Z
UID:10009172-1792317600-1792321200@epworth.faith
SUMMARY:Blended ASL Worship Service (Sanctuary & Online)
DESCRIPTION:YouTube Livestream\nYouTube ASL Livestream\nFacebook Livestream
URL:https://epworth.faith/event/blended-worship-service-sanctuary-on-line-2/2026-10-18/
LOCATION:Epworth United Methodist Church\, 19285 Holland Glade Road\, Rehoboth Beach\, DE\, 19971\, United States
CATEGORIES:Worship
ORGANIZER;CN="Vicki Gordy-Stith":MAILTO:vgordy-stith@epworth.faith
END:VEVENT
BEGIN:VEVENT
DTSTART;TZID=America/New_York:20261025T100000
DTEND;TZID=America/New_York:20261025T110000
DTSTAMP:20260423T183455
CREATED:20230909T152658Z
LAST-MODIFIED:20230909T161232Z
UID:10009173-1792922400-1792926000@epworth.faith
SUMMARY:Blended ASL Worship Service (Sanctuary & Online)
DESCRIPTION:YouTube Livestream\nYouTube ASL Livestream\nFacebook Livestream
URL:https://epworth.faith/event/blended-worship-service-sanctuary-on-line-2/2026-10-25/
LOCATION:Epworth United Methodist Church\, 19285 Holland Glade Road\, Rehoboth Beach\, DE\, 19971\, United States
CATEGORIES:Worship
ORGANIZER;CN="Vicki Gordy-Stith":MAILTO:vgordy-stith@epworth.faith
END:VEVENT
BEGIN:VEVENT
DTSTART;TZID=America/New_York:20261101T100000
DTEND;TZID=America/New_York:20261101T110000
DTSTAMP:20260423T183455
CREATED:20230909T152658Z
LAST-MODIFIED:20230909T161232Z
UID:10009174-1793527200-1793530800@epworth.faith
SUMMARY:Blended ASL Worship Service (Sanctuary & Online)
DESCRIPTION:YouTube Livestream\nYouTube ASL Livestream\nFacebook Livestream
URL:https://epworth.faith/event/blended-worship-service-sanctuary-on-line-2/2026-11-01/
LOCATION:Epworth United Methodist Church\, 19285 Holland Glade Road\, Rehoboth Beach\, DE\, 19971\, United States
CATEGORIES:Worship
ORGANIZER;CN="Vicki Gordy-Stith":MAILTO:vgordy-stith@epworth.faith
END:VEVENT
BEGIN:VEVENT
DTSTART;TZID=America/New_York:20261108T100000
DTEND;TZID=America/New_York:20261108T110000
DTSTAMP:20260423T183455
CREATED:20230909T152658Z
LAST-MODIFIED:20230909T161232Z
UID:10009175-1794132000-1794135600@epworth.faith
SUMMARY:Blended ASL Worship Service (Sanctuary & Online)
DESCRIPTION:YouTube Livestream\nYouTube ASL Livestream\nFacebook Livestream
URL:https://epworth.faith/event/blended-worship-service-sanctuary-on-line-2/2026-11-08/
LOCATION:Epworth United Methodist Church\, 19285 Holland Glade Road\, Rehoboth Beach\, DE\, 19971\, United States
CATEGORIES:Worship
ORGANIZER;CN="Vicki Gordy-Stith":MAILTO:vgordy-stith@epworth.faith
END:VEVENT
BEGIN:VEVENT
DTSTART;TZID=America/New_York:20261115T100000
DTEND;TZID=America/New_York:20261115T110000
DTSTAMP:20260423T183455
CREATED:20230909T152658Z
LAST-MODIFIED:20230909T161232Z
UID:10009176-1794736800-1794740400@epworth.faith
SUMMARY:Blended ASL Worship Service (Sanctuary & Online)
DESCRIPTION:YouTube Livestream\nYouTube ASL Livestream\nFacebook Livestream
URL:https://epworth.faith/event/blended-worship-service-sanctuary-on-line-2/2026-11-15/
LOCATION:Epworth United Methodist Church\, 19285 Holland Glade Road\, Rehoboth Beach\, DE\, 19971\, United States
CATEGORIES:Worship
ORGANIZER;CN="Vicki Gordy-Stith":MAILTO:vgordy-stith@epworth.faith
END:VEVENT
BEGIN:VEVENT
DTSTART;TZID=America/New_York:20261122T100000
DTEND;TZID=America/New_York:20261122T110000
DTSTAMP:20260423T183455
CREATED:20230909T152658Z
LAST-MODIFIED:20230909T161232Z
UID:10009177-1795341600-1795345200@epworth.faith
SUMMARY:Blended ASL Worship Service (Sanctuary & Online)
DESCRIPTION:YouTube Livestream\nYouTube ASL Livestream\nFacebook Livestream
URL:https://epworth.faith/event/blended-worship-service-sanctuary-on-line-2/2026-11-22/
LOCATION:Epworth United Methodist Church\, 19285 Holland Glade Road\, Rehoboth Beach\, DE\, 19971\, United States
CATEGORIES:Worship
ORGANIZER;CN="Vicki Gordy-Stith":MAILTO:vgordy-stith@epworth.faith
END:VEVENT
BEGIN:VEVENT
DTSTART;TZID=America/New_York:20261129T100000
DTEND;TZID=America/New_York:20261129T110000
DTSTAMP:20260423T183455
CREATED:20230909T152658Z
LAST-MODIFIED:20230909T161232Z
UID:10009178-1795946400-1795950000@epworth.faith
SUMMARY:Blended ASL Worship Service (Sanctuary & Online)
DESCRIPTION:YouTube Livestream\nYouTube ASL Livestream\nFacebook Livestream
URL:https://epworth.faith/event/blended-worship-service-sanctuary-on-line-2/2026-11-29/
LOCATION:Epworth United Methodist Church\, 19285 Holland Glade Road\, Rehoboth Beach\, DE\, 19971\, United States
CATEGORIES:Worship
ORGANIZER;CN="Vicki Gordy-Stith":MAILTO:vgordy-stith@epworth.faith
END:VEVENT
BEGIN:VEVENT
DTSTART;TZID=America/New_York:20261206T100000
DTEND;TZID=America/New_York:20261206T110000
DTSTAMP:20260423T183455
CREATED:20230909T152658Z
LAST-MODIFIED:20230909T161232Z
UID:10009179-1796551200-1796554800@epworth.faith
SUMMARY:Blended ASL Worship Service (Sanctuary & Online)
DESCRIPTION:YouTube Livestream\nYouTube ASL Livestream\nFacebook Livestream
URL:https://epworth.faith/event/blended-worship-service-sanctuary-on-line-2/2026-12-06/
LOCATION:Epworth United Methodist Church\, 19285 Holland Glade Road\, Rehoboth Beach\, DE\, 19971\, United States
CATEGORIES:Worship
ORGANIZER;CN="Vicki Gordy-Stith":MAILTO:vgordy-stith@epworth.faith
END:VEVENT
BEGIN:VEVENT
DTSTART;TZID=America/New_York:20261213T100000
DTEND;TZID=America/New_York:20261213T110000
DTSTAMP:20260423T183455
CREATED:20230909T152658Z
LAST-MODIFIED:20230909T161232Z
UID:10009180-1797156000-1797159600@epworth.faith
SUMMARY:Blended ASL Worship Service (Sanctuary & Online)
DESCRIPTION:YouTube Livestream\nYouTube ASL Livestream\nFacebook Livestream
URL:https://epworth.faith/event/blended-worship-service-sanctuary-on-line-2/2026-12-13/
LOCATION:Epworth United Methodist Church\, 19285 Holland Glade Road\, Rehoboth Beach\, DE\, 19971\, United States
CATEGORIES:Worship
ORGANIZER;CN="Vicki Gordy-Stith":MAILTO:vgordy-stith@epworth.faith
END:VEVENT
BEGIN:VEVENT
DTSTART;TZID=America/New_York:20261220T100000
DTEND;TZID=America/New_York:20261220T110000
DTSTAMP:20260423T183455
CREATED:20230909T152658Z
LAST-MODIFIED:20230909T161232Z
UID:10009181-1797760800-1797764400@epworth.faith
SUMMARY:Blended ASL Worship Service (Sanctuary & Online)
DESCRIPTION:YouTube Livestream\nYouTube ASL Livestream\nFacebook Livestream
URL:https://epworth.faith/event/blended-worship-service-sanctuary-on-line-2/2026-12-20/
LOCATION:Epworth United Methodist Church\, 19285 Holland Glade Road\, Rehoboth Beach\, DE\, 19971\, United States
CATEGORIES:Worship
ORGANIZER;CN="Vicki Gordy-Stith":MAILTO:vgordy-stith@epworth.faith
END:VEVENT
BEGIN:VEVENT
DTSTART;TZID=America/New_York:20261227T100000
DTEND;TZID=America/New_York:20261227T110000
DTSTAMP:20260423T183455
CREATED:20230909T152658Z
LAST-MODIFIED:20230909T161232Z
UID:10009182-1798365600-1798369200@epworth.faith
SUMMARY:Blended ASL Worship Service (Sanctuary & Online)
DESCRIPTION:YouTube Livestream\nYouTube ASL Livestream\nFacebook Livestream
URL:https://epworth.faith/event/blended-worship-service-sanctuary-on-line-2/2026-12-27/
LOCATION:Epworth United Methodist Church\, 19285 Holland Glade Road\, Rehoboth Beach\, DE\, 19971\, United States
CATEGORIES:Worship
ORGANIZER;CN="Vicki Gordy-Stith":MAILTO:vgordy-stith@epworth.faith
END:VEVENT
BEGIN:VEVENT
DTSTART;TZID=America/New_York:20270103T100000
DTEND;TZID=America/New_York:20270103T110000
DTSTAMP:20260423T183455
CREATED:20230909T152658Z
LAST-MODIFIED:20230909T161232Z
UID:10009183-1798970400-1798974000@epworth.faith
SUMMARY:Blended ASL Worship Service (Sanctuary & Online)
DESCRIPTION:YouTube Livestream\nYouTube ASL Livestream\nFacebook Livestream
URL:https://epworth.faith/event/blended-worship-service-sanctuary-on-line-2/2027-01-03/
LOCATION:Epworth United Methodist Church\, 19285 Holland Glade Road\, Rehoboth Beach\, DE\, 19971\, United States
CATEGORIES:Worship
ORGANIZER;CN="Vicki Gordy-Stith":MAILTO:vgordy-stith@epworth.faith
END:VEVENT
BEGIN:VEVENT
DTSTART;TZID=America/New_York:20270110T100000
DTEND;TZID=America/New_York:20270110T110000
DTSTAMP:20260423T183455
CREATED:20230909T152658Z
LAST-MODIFIED:20230909T161232Z
UID:10009184-1799575200-1799578800@epworth.faith
SUMMARY:Blended ASL Worship Service (Sanctuary & Online)
DESCRIPTION:YouTube Livestream\nYouTube ASL Livestream\nFacebook Livestream
URL:https://epworth.faith/event/blended-worship-service-sanctuary-on-line-2/2027-01-10/
LOCATION:Epworth United Methodist Church\, 19285 Holland Glade Road\, Rehoboth Beach\, DE\, 19971\, United States
CATEGORIES:Worship
ORGANIZER;CN="Vicki Gordy-Stith":MAILTO:vgordy-stith@epworth.faith
END:VEVENT
BEGIN:VEVENT
DTSTART;TZID=America/New_York:20270117T100000
DTEND;TZID=America/New_York:20270117T110000
DTSTAMP:20260423T183455
CREATED:20230909T152658Z
LAST-MODIFIED:20230909T161232Z
UID:10009185-1800180000-1800183600@epworth.faith
SUMMARY:Blended ASL Worship Service (Sanctuary & Online)
DESCRIPTION:YouTube Livestream\nYouTube ASL Livestream\nFacebook Livestream
URL:https://epworth.faith/event/blended-worship-service-sanctuary-on-line-2/2027-01-17/
LOCATION:Epworth United Methodist Church\, 19285 Holland Glade Road\, Rehoboth Beach\, DE\, 19971\, United States
CATEGORIES:Worship
ORGANIZER;CN="Vicki Gordy-Stith":MAILTO:vgordy-stith@epworth.faith
END:VEVENT
BEGIN:VEVENT
DTSTART;TZID=America/New_York:20270124T100000
DTEND;TZID=America/New_York:20270124T110000
DTSTAMP:20260423T183455
CREATED:20230909T152658Z
LAST-MODIFIED:20230909T161232Z
UID:10009186-1800784800-1800788400@epworth.faith
SUMMARY:Blended ASL Worship Service (Sanctuary & Online)
DESCRIPTION:YouTube Livestream\nYouTube ASL Livestream\nFacebook Livestream
URL:https://epworth.faith/event/blended-worship-service-sanctuary-on-line-2/2027-01-24/
LOCATION:Epworth United Methodist Church\, 19285 Holland Glade Road\, Rehoboth Beach\, DE\, 19971\, United States
CATEGORIES:Worship
ORGANIZER;CN="Vicki Gordy-Stith":MAILTO:vgordy-stith@epworth.faith
END:VEVENT
BEGIN:VEVENT
DTSTART;TZID=America/New_York:20270131T100000
DTEND;TZID=America/New_York:20270131T110000
DTSTAMP:20260423T183455
CREATED:20230909T152658Z
LAST-MODIFIED:20230909T161232Z
UID:10009187-1801389600-1801393200@epworth.faith
SUMMARY:Blended ASL Worship Service (Sanctuary & Online)
DESCRIPTION:YouTube Livestream\nYouTube ASL Livestream\nFacebook Livestream
URL:https://epworth.faith/event/blended-worship-service-sanctuary-on-line-2/2027-01-31/
LOCATION:Epworth United Methodist Church\, 19285 Holland Glade Road\, Rehoboth Beach\, DE\, 19971\, United States
CATEGORIES:Worship
ORGANIZER;CN="Vicki Gordy-Stith":MAILTO:vgordy-stith@epworth.faith
END:VEVENT
BEGIN:VEVENT
DTSTART;TZID=America/New_York:20270207T100000
DTEND;TZID=America/New_York:20270207T110000
DTSTAMP:20260423T183455
CREATED:20230909T152658Z
LAST-MODIFIED:20230909T161232Z
UID:10009188-1801994400-1801998000@epworth.faith
SUMMARY:Blended ASL Worship Service (Sanctuary & Online)
DESCRIPTION:YouTube Livestream\nYouTube ASL Livestream\nFacebook Livestream
URL:https://epworth.faith/event/blended-worship-service-sanctuary-on-line-2/2027-02-07/
LOCATION:Epworth United Methodist Church\, 19285 Holland Glade Road\, Rehoboth Beach\, DE\, 19971\, United States
CATEGORIES:Worship
ORGANIZER;CN="Vicki Gordy-Stith":MAILTO:vgordy-stith@epworth.faith
END:VEVENT
BEGIN:VEVENT
DTSTART;TZID=America/New_York:20270214T100000
DTEND;TZID=America/New_York:20270214T110000
DTSTAMP:20260423T183455
CREATED:20230909T152658Z
LAST-MODIFIED:20230909T161232Z
UID:10009189-1802599200-1802602800@epworth.faith
SUMMARY:Blended ASL Worship Service (Sanctuary & Online)
DESCRIPTION:YouTube Livestream\nYouTube ASL Livestream\nFacebook Livestream
URL:https://epworth.faith/event/blended-worship-service-sanctuary-on-line-2/2027-02-14/
LOCATION:Epworth United Methodist Church\, 19285 Holland Glade Road\, Rehoboth Beach\, DE\, 19971\, United States
CATEGORIES:Worship
ORGANIZER;CN="Vicki Gordy-Stith":MAILTO:vgordy-stith@epworth.faith
END:VEVENT
BEGIN:VEVENT
DTSTART;TZID=America/New_York:20270221T100000
DTEND;TZID=America/New_York:20270221T110000
DTSTAMP:20260423T183455
CREATED:20230909T152658Z
LAST-MODIFIED:20230909T161232Z
UID:10009190-1803204000-1803207600@epworth.faith
SUMMARY:Blended ASL Worship Service (Sanctuary & Online)
DESCRIPTION:YouTube Livestream\nYouTube ASL Livestream\nFacebook Livestream
URL:https://epworth.faith/event/blended-worship-service-sanctuary-on-line-2/2027-02-21/
LOCATION:Epworth United Methodist Church\, 19285 Holland Glade Road\, Rehoboth Beach\, DE\, 19971\, United States
CATEGORIES:Worship
ORGANIZER;CN="Vicki Gordy-Stith":MAILTO:vgordy-stith@epworth.faith
END:VEVENT
BEGIN:VEVENT
DTSTART;TZID=America/New_York:20270228T100000
DTEND;TZID=America/New_York:20270228T110000
DTSTAMP:20260423T183455
CREATED:20230909T152658Z
LAST-MODIFIED:20230909T161232Z
UID:10009191-1803808800-1803812400@epworth.faith
SUMMARY:Blended ASL Worship Service (Sanctuary & Online)
DESCRIPTION:YouTube Livestream\nYouTube ASL Livestream\nFacebook Livestream
URL:https://epworth.faith/event/blended-worship-service-sanctuary-on-line-2/2027-02-28/
LOCATION:Epworth United Methodist Church\, 19285 Holland Glade Road\, Rehoboth Beach\, DE\, 19971\, United States
CATEGORIES:Worship
ORGANIZER;CN="Vicki Gordy-Stith":MAILTO:vgordy-stith@epworth.faith
END:VEVENT
BEGIN:VEVENT
DTSTART;TZID=America/New_York:20270307T100000
DTEND;TZID=America/New_York:20270307T110000
DTSTAMP:20260423T183455
CREATED:20230909T152658Z
LAST-MODIFIED:20230909T161232Z
UID:10009192-1804413600-1804417200@epworth.faith
SUMMARY:Blended ASL Worship Service (Sanctuary & Online)
DESCRIPTION:YouTube Livestream\nYouTube ASL Livestream\nFacebook Livestream
URL:https://epworth.faith/event/blended-worship-service-sanctuary-on-line-2/2027-03-07/
LOCATION:Epworth United Methodist Church\, 19285 Holland Glade Road\, Rehoboth Beach\, DE\, 19971\, United States
CATEGORIES:Worship
ORGANIZER;CN="Vicki Gordy-Stith":MAILTO:vgordy-stith@epworth.faith
END:VEVENT
BEGIN:VEVENT
DTSTART;TZID=America/New_York:20270314T100000
DTEND;TZID=America/New_York:20270314T110000
DTSTAMP:20260423T183455
CREATED:20230909T152658Z
LAST-MODIFIED:20230909T161232Z
UID:10009193-1805018400-1805022000@epworth.faith
SUMMARY:Blended ASL Worship Service (Sanctuary & Online)
DESCRIPTION:YouTube Livestream\nYouTube ASL Livestream\nFacebook Livestream
URL:https://epworth.faith/event/blended-worship-service-sanctuary-on-line-2/2027-03-14/
LOCATION:Epworth United Methodist Church\, 19285 Holland Glade Road\, Rehoboth Beach\, DE\, 19971\, United States
CATEGORIES:Worship
ORGANIZER;CN="Vicki Gordy-Stith":MAILTO:vgordy-stith@epworth.faith
END:VEVENT
BEGIN:VEVENT
DTSTART;TZID=America/New_York:20270321T100000
DTEND;TZID=America/New_York:20270321T110000
DTSTAMP:20260423T183455
CREATED:20230909T152658Z
LAST-MODIFIED:20230909T161232Z
UID:10009194-1805623200-1805626800@epworth.faith
SUMMARY:Blended ASL Worship Service (Sanctuary & Online)
DESCRIPTION:YouTube Livestream\nYouTube ASL Livestream\nFacebook Livestream
URL:https://epworth.faith/event/blended-worship-service-sanctuary-on-line-2/2027-03-21/
LOCATION:Epworth United Methodist Church\, 19285 Holland Glade Road\, Rehoboth Beach\, DE\, 19971\, United States
CATEGORIES:Worship
ORGANIZER;CN="Vicki Gordy-Stith":MAILTO:vgordy-stith@epworth.faith
END:VEVENT
BEGIN:VEVENT
DTSTART;TZID=America/New_York:20270328T100000
DTEND;TZID=America/New_York:20270328T110000
DTSTAMP:20260423T183455
CREATED:20230909T152658Z
LAST-MODIFIED:20230909T161232Z
UID:10009195-1806228000-1806231600@epworth.faith
SUMMARY:Blended ASL Worship Service (Sanctuary & Online)
DESCRIPTION:YouTube Livestream\nYouTube ASL Livestream\nFacebook Livestream
URL:https://epworth.faith/event/blended-worship-service-sanctuary-on-line-2/2027-03-28/
LOCATION:Epworth United Methodist Church\, 19285 Holland Glade Road\, Rehoboth Beach\, DE\, 19971\, United States
CATEGORIES:Worship
ORGANIZER;CN="Vicki Gordy-Stith":MAILTO:vgordy-stith@epworth.faith
END:VEVENT
BEGIN:VEVENT
DTSTART;TZID=America/New_York:20270404T100000
DTEND;TZID=America/New_York:20270404T110000
DTSTAMP:20260423T183455
CREATED:20230909T152658Z
LAST-MODIFIED:20230909T161232Z
UID:10009196-1806832800-1806836400@epworth.faith
SUMMARY:Blended ASL Worship Service (Sanctuary & Online)
DESCRIPTION:YouTube Livestream\nYouTube ASL Livestream\nFacebook Livestream
URL:https://epworth.faith/event/blended-worship-service-sanctuary-on-line-2/2027-04-04/
LOCATION:Epworth United Methodist Church\, 19285 Holland Glade Road\, Rehoboth Beach\, DE\, 19971\, United States
CATEGORIES:Worship
ORGANIZER;CN="Vicki Gordy-Stith":MAILTO:vgordy-stith@epworth.faith
END:VEVENT
BEGIN:VEVENT
DTSTART;TZID=America/New_York:20270411T100000
DTEND;TZID=America/New_York:20270411T110000
DTSTAMP:20260423T183455
CREATED:20230909T152658Z
LAST-MODIFIED:20230909T161232Z
UID:10009197-1807437600-1807441200@epworth.faith
SUMMARY:Blended ASL Worship Service (Sanctuary & Online)
DESCRIPTION:YouTube Livestream\nYouTube ASL Livestream\nFacebook Livestream
URL:https://epworth.faith/event/blended-worship-service-sanctuary-on-line-2/2027-04-11/
LOCATION:Epworth United Methodist Church\, 19285 Holland Glade Road\, Rehoboth Beach\, DE\, 19971\, United States
CATEGORIES:Worship
ORGANIZER;CN="Vicki Gordy-Stith":MAILTO:vgordy-stith@epworth.faith
END:VEVENT
BEGIN:VEVENT
DTSTART;TZID=America/New_York:20270418T100000
DTEND;TZID=America/New_York:20270418T110000
DTSTAMP:20260423T183455
CREATED:20230909T152658Z
LAST-MODIFIED:20230909T161232Z
UID:10009198-1808042400-1808046000@epworth.faith
SUMMARY:Blended ASL Worship Service (Sanctuary & Online)
DESCRIPTION:YouTube Livestream\nYouTube ASL Livestream\nFacebook Livestream
URL:https://epworth.faith/event/blended-worship-service-sanctuary-on-line-2/2027-04-18/
LOCATION:Epworth United Methodist Church\, 19285 Holland Glade Road\, Rehoboth Beach\, DE\, 19971\, United States
CATEGORIES:Worship
ORGANIZER;CN="Vicki Gordy-Stith":MAILTO:vgordy-stith@epworth.faith
END:VEVENT
BEGIN:VEVENT
DTSTART;TZID=America/New_York:20270425T100000
DTEND;TZID=America/New_York:20270425T110000
DTSTAMP:20260423T183455
CREATED:20230909T152658Z
LAST-MODIFIED:20230909T161232Z
UID:10009199-1808647200-1808650800@epworth.faith
SUMMARY:Blended ASL Worship Service (Sanctuary & Online)
DESCRIPTION:YouTube Livestream\nYouTube ASL Livestream\nFacebook Livestream
URL:https://epworth.faith/event/blended-worship-service-sanctuary-on-line-2/2027-04-25/
LOCATION:Epworth United Methodist Church\, 19285 Holland Glade Road\, Rehoboth Beach\, DE\, 19971\, United States
CATEGORIES:Worship
ORGANIZER;CN="Vicki Gordy-Stith":MAILTO:vgordy-stith@epworth.faith
END:VEVENT
BEGIN:VEVENT
DTSTART;TZID=America/New_York:20270502T100000
DTEND;TZID=America/New_York:20270502T110000
DTSTAMP:20260423T183455
CREATED:20230909T152658Z
LAST-MODIFIED:20230909T161232Z
UID:10009200-1809252000-1809255600@epworth.faith
SUMMARY:Blended ASL Worship Service (Sanctuary & Online)
DESCRIPTION:YouTube Livestream\nYouTube ASL Livestream\nFacebook Livestream
URL:https://epworth.faith/event/blended-worship-service-sanctuary-on-line-2/2027-05-02/
LOCATION:Epworth United Methodist Church\, 19285 Holland Glade Road\, Rehoboth Beach\, DE\, 19971\, United States
CATEGORIES:Worship
ORGANIZER;CN="Vicki Gordy-Stith":MAILTO:vgordy-stith@epworth.faith
END:VEVENT
END:VCALENDAR