BEGIN:VCALENDAR
VERSION:2.0
PRODID:-//Epworth UMC - ECPv6.15.20//NONSGML v1.0//EN
CALSCALE:GREGORIAN
METHOD:PUBLISH
X-ORIGINAL-URL:https://epworth.faith
X-WR-CALDESC:Events for Epworth UMC
REFRESH-INTERVAL;VALUE=DURATION:PT1H
X-Robots-Tag:noindex
X-PUBLISHED-TTL:PT1H
BEGIN:VTIMEZONE
TZID:America/New_York
BEGIN:DAYLIGHT
TZOFFSETFROM:-0500
TZOFFSETTO:-0400
TZNAME:EDT
DTSTART:20220313T070000
END:DAYLIGHT
BEGIN:STANDARD
TZOFFSETFROM:-0400
TZOFFSETTO:-0500
TZNAME:EST
DTSTART:20221106T060000
END:STANDARD
BEGIN:DAYLIGHT
TZOFFSETFROM:-0500
TZOFFSETTO:-0400
TZNAME:EDT
DTSTART:20230312T070000
END:DAYLIGHT
BEGIN:STANDARD
TZOFFSETFROM:-0400
TZOFFSETTO:-0500
TZNAME:EST
DTSTART:20231105T060000
END:STANDARD
BEGIN:DAYLIGHT
TZOFFSETFROM:-0500
TZOFFSETTO:-0400
TZNAME:EDT
DTSTART:20240310T070000
END:DAYLIGHT
BEGIN:STANDARD
TZOFFSETFROM:-0400
TZOFFSETTO:-0500
TZNAME:EST
DTSTART:20241103T060000
END:STANDARD
BEGIN:DAYLIGHT
TZOFFSETFROM:-0500
TZOFFSETTO:-0400
TZNAME:EDT
DTSTART:20250309T070000
END:DAYLIGHT
BEGIN:STANDARD
TZOFFSETFROM:-0400
TZOFFSETTO:-0500
TZNAME:EST
DTSTART:20251102T060000
END:STANDARD
BEGIN:DAYLIGHT
TZOFFSETFROM:-0500
TZOFFSETTO:-0400
TZNAME:EDT
DTSTART:20260308T070000
END:DAYLIGHT
BEGIN:STANDARD
TZOFFSETFROM:-0400
TZOFFSETTO:-0500
TZNAME:EST
DTSTART:20261101T060000
END:STANDARD
END:VTIMEZONE
BEGIN:VEVENT
DTSTART;TZID=America/New_York:20250808T170000
DTEND;TZID=America/New_York:20250808T203000
DTSTAMP:20260424T004827
CREATED:20250618T190523Z
LAST-MODIFIED:20250618T190523Z
UID:10016825-1754672400-1754685000@epworth.faith
SUMMARY:Vacation Bible School (Youth Room\, Music Room & Preschool #1)
DESCRIPTION:
URL:https://epworth.faith/event/vacation-bible-school-youth-room-music-room-preschool-1/2025-08-08/
LOCATION:Epworth United Methodist Church\, 19285 Holland Glade Road\, Rehoboth Beach\, DE\, 19971\, United States
CATEGORIES:Church,Youth
ORGANIZER;CN="Gwen Osborne":MAILTO:gosborne@epworth.faith
END:VEVENT
BEGIN:VEVENT
DTSTART;TZID=America/New_York:20250807T170000
DTEND;TZID=America/New_York:20250807T203000
DTSTAMP:20260424T004827
CREATED:20250618T190523Z
LAST-MODIFIED:20250618T190523Z
UID:10016824-1754586000-1754598600@epworth.faith
SUMMARY:Vacation Bible School (Youth Room\, Music Room & Preschool #1)
DESCRIPTION:
URL:https://epworth.faith/event/vacation-bible-school-youth-room-music-room-preschool-1/2025-08-07/
LOCATION:Epworth United Methodist Church\, 19285 Holland Glade Road\, Rehoboth Beach\, DE\, 19971\, United States
CATEGORIES:Church,Youth
ORGANIZER;CN="Gwen Osborne":MAILTO:gosborne@epworth.faith
END:VEVENT
BEGIN:VEVENT
DTSTART;TZID=America/New_York:20250806T170000
DTEND;TZID=America/New_York:20250806T203000
DTSTAMP:20260424T004827
CREATED:20250618T190523Z
LAST-MODIFIED:20250618T190523Z
UID:10016823-1754499600-1754512200@epworth.faith
SUMMARY:Vacation Bible School (Youth Room\, Music Room & Preschool #1)
DESCRIPTION:
URL:https://epworth.faith/event/vacation-bible-school-youth-room-music-room-preschool-1/2025-08-06/
LOCATION:Epworth United Methodist Church\, 19285 Holland Glade Road\, Rehoboth Beach\, DE\, 19971\, United States
CATEGORIES:Church,Youth
ORGANIZER;CN="Gwen Osborne":MAILTO:gosborne@epworth.faith
END:VEVENT
BEGIN:VEVENT
DTSTART;TZID=America/New_York:20250805T170000
DTEND;TZID=America/New_York:20250805T203000
DTSTAMP:20260424T004827
CREATED:20250618T190523Z
LAST-MODIFIED:20250618T190523Z
UID:10016822-1754413200-1754425800@epworth.faith
SUMMARY:Vacation Bible School (Youth Room\, Music Room & Preschool #1)
DESCRIPTION:
URL:https://epworth.faith/event/vacation-bible-school-youth-room-music-room-preschool-1/2025-08-05/
LOCATION:Epworth United Methodist Church\, 19285 Holland Glade Road\, Rehoboth Beach\, DE\, 19971\, United States
CATEGORIES:Church,Youth
ORGANIZER;CN="Gwen Osborne":MAILTO:gosborne@epworth.faith
END:VEVENT
BEGIN:VEVENT
DTSTART;TZID=America/New_York:20250804T170000
DTEND;TZID=America/New_York:20250804T203000
DTSTAMP:20260424T004827
CREATED:20250618T190523Z
LAST-MODIFIED:20250618T190523Z
UID:10016821-1754326800-1754339400@epworth.faith
SUMMARY:Vacation Bible School (Youth Room\, Music Room & Preschool #1)
DESCRIPTION:
URL:https://epworth.faith/event/vacation-bible-school-youth-room-music-room-preschool-1/2025-08-04/
LOCATION:Epworth United Methodist Church\, 19285 Holland Glade Road\, Rehoboth Beach\, DE\, 19971\, United States
CATEGORIES:Church,Youth
ORGANIZER;CN="Gwen Osborne":MAILTO:gosborne@epworth.faith
END:VEVENT
BEGIN:VEVENT
DTSTART;TZID=America/New_York:20240801T173000
DTEND;TZID=America/New_York:20240801T200000
DTSTAMP:20260424T004827
CREATED:20240701T194700Z
LAST-MODIFIED:20240716T180813Z
UID:10013600-1722533400-1722542400@epworth.faith
SUMMARY:Summer VBS:  SCUBA\, Diving into Friendship with God (Music Room)
DESCRIPTION:
URL:https://epworth.faith/event/summer-vbsscuba-diving-into-friendship-with-god/2024-08-01/
LOCATION:Epworth United Methodist Church\, 19285 Holland Glade Road\, Rehoboth Beach\, DE\, 19971\, United States
CATEGORIES:Church,Youth
ORGANIZER;CN="Gwen Osborne":MAILTO:gosborne@epworth.faith
END:VEVENT
BEGIN:VEVENT
DTSTART;TZID=America/New_York:20240731T173000
DTEND;TZID=America/New_York:20240731T200000
DTSTAMP:20260424T004827
CREATED:20240701T194700Z
LAST-MODIFIED:20240716T180813Z
UID:10013599-1722447000-1722456000@epworth.faith
SUMMARY:Summer VBS:  SCUBA\, Diving into Friendship with God (Music Room)
DESCRIPTION:
URL:https://epworth.faith/event/summer-vbsscuba-diving-into-friendship-with-god/2024-07-31/
LOCATION:Epworth United Methodist Church\, 19285 Holland Glade Road\, Rehoboth Beach\, DE\, 19971\, United States
CATEGORIES:Church,Youth
ORGANIZER;CN="Gwen Osborne":MAILTO:gosborne@epworth.faith
END:VEVENT
BEGIN:VEVENT
DTSTART;TZID=America/New_York:20240730T173000
DTEND;TZID=America/New_York:20240730T200000
DTSTAMP:20260424T004827
CREATED:20240701T194700Z
LAST-MODIFIED:20240716T180813Z
UID:10013598-1722360600-1722369600@epworth.faith
SUMMARY:Summer VBS:  SCUBA\, Diving into Friendship with God (Music Room)
DESCRIPTION:
URL:https://epworth.faith/event/summer-vbsscuba-diving-into-friendship-with-god/2024-07-30/
LOCATION:Epworth United Methodist Church\, 19285 Holland Glade Road\, Rehoboth Beach\, DE\, 19971\, United States
CATEGORIES:Church,Youth
ORGANIZER;CN="Gwen Osborne":MAILTO:gosborne@epworth.faith
END:VEVENT
BEGIN:VEVENT
DTSTART;TZID=America/New_York:20240729T173000
DTEND;TZID=America/New_York:20240729T200000
DTSTAMP:20260424T004827
CREATED:20240701T194700Z
LAST-MODIFIED:20240716T180813Z
UID:10013597-1722274200-1722283200@epworth.faith
SUMMARY:Summer VBS:  SCUBA\, Diving into Friendship with God (Music Room)
DESCRIPTION:
URL:https://epworth.faith/event/summer-vbsscuba-diving-into-friendship-with-god/2024-07-29/
LOCATION:Epworth United Methodist Church\, 19285 Holland Glade Road\, Rehoboth Beach\, DE\, 19971\, United States
CATEGORIES:Church,Youth
ORGANIZER;CN="Gwen Osborne":MAILTO:gosborne@epworth.faith
END:VEVENT
BEGIN:VEVENT
DTSTART;TZID=America/New_York:20240712T090000
DTEND;TZID=America/New_York:20240712T123000
DTSTAMP:20260424T004827
CREATED:20240312T184550Z
LAST-MODIFIED:20240709T134709Z
UID:10012370-1720774800-1720787400@epworth.faith
SUMMARY:Play Practice Boys & Girls Club (Sanctuary)
DESCRIPTION:
URL:https://epworth.faith/event/play-practice-boys-girls-club-sanctuary-2/
LOCATION:Epworth United Methodist Church\, 19285 Holland Glade Road\, Rehoboth Beach\, DE\, 19971\, United States
CATEGORIES:Church,Youth
ORGANIZER;CN="Demaris Miller":MAILTO:dmiller@bgclubs.org
END:VEVENT
BEGIN:VEVENT
DTSTART;TZID=America/New_York:20240711T150000
DTEND;TZID=America/New_York:20240711T173000
DTSTAMP:20260424T004827
CREATED:20240312T184530Z
LAST-MODIFIED:20240711T132115Z
UID:10012369-1720710000-1720719000@epworth.faith
SUMMARY:Play Practice Boys & Girls Club (Sanctuary)
DESCRIPTION:
URL:https://epworth.faith/event/play-practice-boys-girls-club-sanctuary/
LOCATION:Epworth United Methodist Church\, 19285 Holland Glade Road\, Rehoboth Beach\, DE\, 19971\, United States
CATEGORIES:Church,Youth
ORGANIZER;CN="Demaris Miller":MAILTO:dmiller@bgclubs.org
END:VEVENT
BEGIN:VEVENT
DTSTART;TZID=America/New_York:20240710T090000
DTEND;TZID=America/New_York:20240710T123000
DTSTAMP:20260424T004827
CREATED:20240709T134821Z
LAST-MODIFIED:20240709T134821Z
UID:10013606-1720602000-1720614600@epworth.faith
SUMMARY:Play Practice Boys & Girls Club (Sanctuary)
DESCRIPTION:
URL:https://epworth.faith/event/play-practice-boys-girls-club-sanctuary-4/
LOCATION:Epworth United Methodist Church\, 19285 Holland Glade Road\, Rehoboth Beach\, DE\, 19971\, United States
CATEGORIES:Church,Youth
ORGANIZER;CN="Demaris Miller":MAILTO:dmiller@bgclubs.org
END:VEVENT
BEGIN:VEVENT
DTSTART;TZID=America/New_York:20240709T090000
DTEND;TZID=America/New_York:20240709T123000
DTSTAMP:20260424T004827
CREATED:20240709T134758Z
LAST-MODIFIED:20240709T134758Z
UID:10013605-1720515600-1720528200@epworth.faith
SUMMARY:Play Practice Boys & Girls Club (Sanctuary)
DESCRIPTION:
URL:https://epworth.faith/event/play-practice-boys-girls-club-sanctuary-3/
LOCATION:Epworth United Methodist Church\, 19285 Holland Glade Road\, Rehoboth Beach\, DE\, 19971\, United States
CATEGORIES:Church,Youth
ORGANIZER;CN="Demaris Miller":MAILTO:dmiller@bgclubs.org
END:VEVENT
BEGIN:VEVENT
DTSTART;TZID=America/New_York:20240614T173000
DTEND;TZID=America/New_York:20240615T100000
DTSTAMP:20260424T004827
CREATED:20240129T154625Z
LAST-MODIFIED:20240129T154626Z
UID:10012271-1718386200-1718445600@epworth.faith
SUMMARY:Youth Lock In (Fellowship Hall)
DESCRIPTION:
URL:https://epworth.faith/event/youth-lock-in-fellowship-hall/
LOCATION:Epworth United Methodist Church\, 19285 Holland Glade Road\, Rehoboth Beach\, DE\, 19971\, United States
CATEGORIES:Church,Youth
ORGANIZER;CN="Joy Gordy-Stith & Tom Lewis":MAILTO:jgordy-stith@yahoo.com
END:VEVENT
BEGIN:VEVENT
DTSTART;TZID=America/New_York:20240405T130000
DTEND;TZID=America/New_York:20240405T150000
DTSTAMP:20260424T004827
CREATED:20240403T173258Z
LAST-MODIFIED:20240403T173359Z
UID:10012643-1712322000-1712329200@epworth.faith
SUMMARY:Boys & Girls Club Performance (Sanctuary)
DESCRIPTION:
URL:https://epworth.faith/event/boys-girls-club-performance-sanctuary/
LOCATION:Epworth United Methodist Church\, 19285 Holland Glade Road\, Rehoboth Beach\, DE\, 19971\, United States
CATEGORIES:Church,Youth
ORGANIZER;CN="Demaris Miller":MAILTO:dmiller@bgclubs.org
END:VEVENT
BEGIN:VEVENT
DTSTART;TZID=America/New_York:20240323T100000
DTEND;TZID=America/New_York:20240323T120000
DTSTAMP:20260424T004827
CREATED:20230815T151957Z
LAST-MODIFIED:20240129T154335Z
UID:10008975-1711188000-1711195200@epworth.faith
SUMMARY:Easter Egg Hunt (Outdoors)
DESCRIPTION:
URL:https://epworth.faith/event/easter-egg-hunt-outdoors/
LOCATION:Epworth United Methodist Church\, 19285 Holland Glade Road\, Rehoboth Beach\, DE\, 19971\, United States
CATEGORIES:Church,Youth
ORGANIZER;CN="Gwen Osborne":MAILTO:gosborne@epworth.faith
END:VEVENT
BEGIN:VEVENT
DTSTART;TZID=America/New_York:20240323T090000
DTEND;TZID=America/New_York:20240323T130000
DTSTAMP:20260424T004827
CREATED:20240123T143216Z
LAST-MODIFIED:20240123T143508Z
UID:10012265-1711184400-1711198800@epworth.faith
SUMMARY:Easter Egg Hunt - Fellowship and Sanctuary (In case of rain)
DESCRIPTION:
URL:https://epworth.faith/event/easter-egg-hunt-fellowship-and-sanctuary-in-case-of-rain/
LOCATION:Epworth United Methodist Church\, 19285 Holland Glade Road\, Rehoboth Beach\, DE\, 19971\, United States
CATEGORIES:Church,Youth
ORGANIZER;CN="Gwen Osborne":MAILTO:gosborne@epworth.faith
END:VEVENT
BEGIN:VEVENT
DTSTART;TZID=America/New_York:20240309T123000
DTEND;TZID=America/New_York:20240309T153000
DTSTAMP:20260424T004827
CREATED:20240129T153908Z
LAST-MODIFIED:20240129T153909Z
UID:10012270-1709987400-1709998200@epworth.faith
SUMMARY:Rise Against Hunger (Youth Participation)
DESCRIPTION:
URL:https://epworth.faith/event/rise-against-hunger-youth-participation/
LOCATION:Offsite
CATEGORIES:Church,Youth
ORGANIZER;CN="Joy Gordy-Stith & Tom Lewis":MAILTO:jgordy-stith@yahoo.com
END:VEVENT
BEGIN:VEVENT
DTSTART;TZID=America/New_York:20240303T110000
DTEND;TZID=America/New_York:20240303T130000
DTSTAMP:20260424T004827
CREATED:20240129T153406Z
LAST-MODIFIED:20240129T153406Z
UID:10012269-1709463600-1709470800@epworth.faith
SUMMARY:Youth Serves Community Meal (Fellowship Hall)
DESCRIPTION:
URL:https://epworth.faith/event/youth-serves-community-meal-fellowship-hall/
LOCATION:Epworth United Methodist Church\, 19285 Holland Glade Road\, Rehoboth Beach\, DE\, 19971\, United States
CATEGORIES:Church,Youth
ORGANIZER;CN="Joy Gordy-Stith & Tom Lewis":MAILTO:jgordy-stith@yahoo.com
END:VEVENT
BEGIN:VEVENT
DTSTART;TZID=America/New_York:20240216T100000
DTEND;TZID=America/New_York:20240216T140000
DTSTAMP:20260424T004827
CREATED:20240205T181252Z
LAST-MODIFIED:20240205T181252Z
UID:10012291-1708077600-1708092000@epworth.faith
SUMMARY:Boys & Girls Club (Branford Lounge)
DESCRIPTION:
URL:https://epworth.faith/event/boys-girls-club-branford-lounge/
LOCATION:Epworth United Methodist Church\, 19285 Holland Glade Road\, Rehoboth Beach\, DE\, 19971\, United States
CATEGORIES:Church,Youth
ORGANIZER;CN="Demaris Miller":MAILTO:dmiller@bgclubs.org
END:VEVENT
BEGIN:VEVENT
DTSTART;TZID=America/New_York:20240216T083000
DTEND;TZID=America/New_York:20240216T143000
DTSTAMP:20260424T004827
CREATED:20240205T181518Z
LAST-MODIFIED:20240205T181518Z
UID:10012292-1708072200-1708093800@epworth.faith
SUMMARY:Boys & Girls Club (Starnes Lounge)
DESCRIPTION:
URL:https://epworth.faith/event/boys-girls-club-starnes-lounge/
LOCATION:Epworth United Methodist Church\, 19285 Holland Glade Road\, Rehoboth Beach\, DE\, 19971\, United States
CATEGORIES:Church,Youth
ORGANIZER;CN="Demaris Miller":MAILTO:dmiller@bgclubs.org
END:VEVENT
BEGIN:VEVENT
DTSTART;TZID=America/New_York:20240204T120000
DTEND;TZID=America/New_York:20240204T133000
DTSTAMP:20260424T004827
CREATED:20240129T153115Z
LAST-MODIFIED:20240129T153116Z
UID:10012268-1707048000-1707053400@epworth.faith
SUMMARY:Polar Bear Plunge
DESCRIPTION:
URL:https://epworth.faith/event/polar-bear-plunge/
LOCATION:Rehoboth Beach Bandstand\, 1 Rehoboth Ave.\, Rehoboth Beach\, Delaware\, 19971
CATEGORIES:Church,Youth
ORGANIZER;CN="Joy Gordy-Stith & Tom Lewis":MAILTO:jgordy-stith@yahoo.com
END:VEVENT
BEGIN:VEVENT
DTSTART;TZID=America/New_York:20231217T120000
DTEND;TZID=America/New_York:20231217T133000
DTSTAMP:20260424T004827
CREATED:20231204T153117Z
LAST-MODIFIED:20231204T153117Z
UID:10011114-1702814400-1702819800@epworth.faith
SUMMARY:Children's Christmas Play - Practice (Sanctuary)
DESCRIPTION:
URL:https://epworth.faith/event/childrens-christmas-play-practice-sanctuary/
LOCATION:Epworth United Methodist Church\, 19285 Holland Glade Road\, Rehoboth Beach\, DE\, 19971\, United States
CATEGORIES:Church,Youth
ORGANIZER;CN="Adam Emel-Firestone":MAILTO:timidooso1@aol.com
END:VEVENT
BEGIN:VEVENT
DTSTART;TZID=America/New_York:20230625T111500
DTEND;TZID=America/New_York:20230625T121500
DTSTAMP:20260424T004827
CREATED:20221214T154431Z
LAST-MODIFIED:20230119T141224Z
UID:10007537-1687691700-1687695300@epworth.faith
SUMMARY:Youth Group (Youth Room)
DESCRIPTION:
URL:https://epworth.faith/event/youth-group-youth-room-3/2023-06-25/
LOCATION:Epworth United Methodist Church\, 19285 Holland Glade Road\, Rehoboth Beach\, DE\, 19971\, United States
CATEGORIES:Youth
ORGANIZER;CN="Joy Gordy-Stith & Tom Lewis":MAILTO:jgordy-stith@yahoo.com
END:VEVENT
BEGIN:VEVENT
DTSTART;TZID=America/New_York:20230618T111500
DTEND;TZID=America/New_York:20230618T121500
DTSTAMP:20260424T004827
CREATED:20221214T154431Z
LAST-MODIFIED:20230119T141224Z
UID:10007536-1687086900-1687090500@epworth.faith
SUMMARY:Youth Group (Youth Room)
DESCRIPTION:
URL:https://epworth.faith/event/youth-group-youth-room-3/2023-06-18/
LOCATION:Epworth United Methodist Church\, 19285 Holland Glade Road\, Rehoboth Beach\, DE\, 19971\, United States
CATEGORIES:Youth
ORGANIZER;CN="Joy Gordy-Stith & Tom Lewis":MAILTO:jgordy-stith@yahoo.com
END:VEVENT
BEGIN:VEVENT
DTSTART;TZID=America/New_York:20230611T111500
DTEND;TZID=America/New_York:20230611T121500
DTSTAMP:20260424T004827
CREATED:20221214T154431Z
LAST-MODIFIED:20230119T141224Z
UID:10007535-1686482100-1686485700@epworth.faith
SUMMARY:Youth Group (Youth Room)
DESCRIPTION:
URL:https://epworth.faith/event/youth-group-youth-room-3/2023-06-11/
LOCATION:Epworth United Methodist Church\, 19285 Holland Glade Road\, Rehoboth Beach\, DE\, 19971\, United States
CATEGORIES:Youth
ORGANIZER;CN="Joy Gordy-Stith & Tom Lewis":MAILTO:jgordy-stith@yahoo.com
END:VEVENT
BEGIN:VEVENT
DTSTART;TZID=America/New_York:20230604T111500
DTEND;TZID=America/New_York:20230604T121500
DTSTAMP:20260424T004827
CREATED:20221214T154431Z
LAST-MODIFIED:20230119T141224Z
UID:10007534-1685877300-1685880900@epworth.faith
SUMMARY:Youth Group (Youth Room)
DESCRIPTION:
URL:https://epworth.faith/event/youth-group-youth-room-3/2023-06-04/
LOCATION:Epworth United Methodist Church\, 19285 Holland Glade Road\, Rehoboth Beach\, DE\, 19971\, United States
CATEGORIES:Youth
ORGANIZER;CN="Joy Gordy-Stith & Tom Lewis":MAILTO:jgordy-stith@yahoo.com
END:VEVENT
BEGIN:VEVENT
DTSTART;TZID=America/New_York:20230602T170000
DTEND;TZID=America/New_York:20230603T170000
DTSTAMP:20260424T004827
CREATED:20230503T145917Z
LAST-MODIFIED:20230503T145917Z
UID:10008595-1685725200-1685811600@epworth.faith
SUMMARY:Youth Lock-In (Youth Room\, Branford Lounge\, FH\, Sanctuary)
DESCRIPTION:
URL:https://epworth.faith/event/youth-lock-in-youth-room-branford-lounge-fh-sanctuary/
LOCATION:Epworth United Methodist Church\, 19285 Holland Glade Road\, Rehoboth Beach\, DE\, 19971\, United States
CATEGORIES:Youth
ORGANIZER;CN="Joy Gordy-Stith & Tom Lewis":MAILTO:jgordy-stith@yahoo.com
END:VEVENT
BEGIN:VEVENT
DTSTART;TZID=America/New_York:20230528T111500
DTEND;TZID=America/New_York:20230528T121500
DTSTAMP:20260424T004827
CREATED:20221214T154431Z
LAST-MODIFIED:20230119T141224Z
UID:10007533-1685272500-1685276100@epworth.faith
SUMMARY:Youth Group (Youth Room)
DESCRIPTION:
URL:https://epworth.faith/event/youth-group-youth-room-3/2023-05-28/
LOCATION:Epworth United Methodist Church\, 19285 Holland Glade Road\, Rehoboth Beach\, DE\, 19971\, United States
CATEGORIES:Youth
ORGANIZER;CN="Joy Gordy-Stith & Tom Lewis":MAILTO:jgordy-stith@yahoo.com
END:VEVENT
BEGIN:VEVENT
DTSTART;TZID=America/New_York:20230521T111500
DTEND;TZID=America/New_York:20230521T121500
DTSTAMP:20260424T004827
CREATED:20221214T154431Z
LAST-MODIFIED:20230119T141224Z
UID:10007532-1684667700-1684671300@epworth.faith
SUMMARY:Youth Group (Youth Room)
DESCRIPTION:
URL:https://epworth.faith/event/youth-group-youth-room-3/2023-05-21/
LOCATION:Epworth United Methodist Church\, 19285 Holland Glade Road\, Rehoboth Beach\, DE\, 19971\, United States
CATEGORIES:Youth
ORGANIZER;CN="Joy Gordy-Stith & Tom Lewis":MAILTO:jgordy-stith@yahoo.com
END:VEVENT
END:VCALENDAR