BEGIN:VCALENDAR
VERSION:2.0
PRODID:-//Epworth UMC - ECPv6.15.20//NONSGML v1.0//EN
CALSCALE:GREGORIAN
METHOD:PUBLISH
X-WR-CALNAME:Epworth UMC
X-ORIGINAL-URL:https://epworth.faith
X-WR-CALDESC:Events for Epworth UMC
REFRESH-INTERVAL;VALUE=DURATION:PT1H
X-Robots-Tag:noindex
X-PUBLISHED-TTL:PT1H
BEGIN:VTIMEZONE
TZID:America/New_York
BEGIN:DAYLIGHT
TZOFFSETFROM:-0500
TZOFFSETTO:-0400
TZNAME:EDT
DTSTART:20210314T070000
END:DAYLIGHT
BEGIN:STANDARD
TZOFFSETFROM:-0400
TZOFFSETTO:-0500
TZNAME:EST
DTSTART:20211107T060000
END:STANDARD
BEGIN:DAYLIGHT
TZOFFSETFROM:-0500
TZOFFSETTO:-0400
TZNAME:EDT
DTSTART:20220313T070000
END:DAYLIGHT
BEGIN:STANDARD
TZOFFSETFROM:-0400
TZOFFSETTO:-0500
TZNAME:EST
DTSTART:20221106T060000
END:STANDARD
BEGIN:DAYLIGHT
TZOFFSETFROM:-0500
TZOFFSETTO:-0400
TZNAME:EDT
DTSTART:20230312T070000
END:DAYLIGHT
BEGIN:STANDARD
TZOFFSETFROM:-0400
TZOFFSETTO:-0500
TZNAME:EST
DTSTART:20231105T060000
END:STANDARD
END:VTIMEZONE
BEGIN:VEVENT
DTSTART;TZID=America/New_York:20221119T100000
DTEND;TZID=America/New_York:20221119T160000
DTSTAMP:20260424T161301
CREATED:20220907T155126Z
LAST-MODIFIED:20220907T155126Z
UID:10006862-1668852000-1668873600@epworth.faith
SUMMARY:Youth Group Volunteer Today
DESCRIPTION:
URL:https://epworth.faith/event/youth-group-volunteer-today/
LOCATION:Offsite
CATEGORIES:Youth
ORGANIZER;CN="Joy Gordy-Stith & Tom Lewis":MAILTO:jgordy-stith@yahoo.com
END:VEVENT
BEGIN:VEVENT
DTSTART;TZID=America/New_York:20221113T100000
DTEND;TZID=America/New_York:20221113T120000
DTSTAMP:20260424T161301
CREATED:20220622T192845Z
LAST-MODIFIED:20220907T143832Z
UID:10006717-1668333600-1668340800@epworth.faith
SUMMARY:Youth Group (Youth Room)
DESCRIPTION:
URL:https://epworth.faith/event/youth-group-youth-room-2-2022-09-11/2022-11-13/
LOCATION:Epworth United Methodist Church\, 19285 Holland Glade Road\, Rehoboth Beach\, DE\, 19971\, United States
CATEGORIES:Youth
ORGANIZER;CN="Joy Gordy-Stith & Tom Lewis":MAILTO:jgordy-stith@yahoo.com
END:VEVENT
BEGIN:VEVENT
DTSTART;TZID=America/New_York:20221106T100000
DTEND;TZID=America/New_York:20221106T120000
DTSTAMP:20260424T161301
CREATED:20220622T192845Z
LAST-MODIFIED:20220907T143832Z
UID:10006716-1667728800-1667736000@epworth.faith
SUMMARY:Youth Group (Youth Room)
DESCRIPTION:
URL:https://epworth.faith/event/youth-group-youth-room-2-2022-09-11/2022-11-06/
LOCATION:Epworth United Methodist Church\, 19285 Holland Glade Road\, Rehoboth Beach\, DE\, 19971\, United States
CATEGORIES:Youth
ORGANIZER;CN="Joy Gordy-Stith & Tom Lewis":MAILTO:jgordy-stith@yahoo.com
END:VEVENT
BEGIN:VEVENT
DTSTART;TZID=America/New_York:20221030T173000
DTEND;TZID=America/New_York:20221030T200000
DTSTAMP:20260424T161301
CREATED:20220907T155006Z
LAST-MODIFIED:20220907T155006Z
UID:10006861-1667151000-1667160000@epworth.faith
SUMMARY:Youth Group Halloween Party (Youth Room)
DESCRIPTION:
URL:https://epworth.faith/event/youth-group-halloween-party-youth-room/
LOCATION:Epworth United Methodist Church\, 19285 Holland Glade Road\, Rehoboth Beach\, DE\, 19971\, United States
CATEGORIES:Youth
ORGANIZER;CN="Joy Gordy-Stith & Tom Lewis":MAILTO:jgordy-stith@yahoo.com
END:VEVENT
BEGIN:VEVENT
DTSTART;TZID=America/New_York:20221030T100000
DTEND;TZID=America/New_York:20221030T120000
DTSTAMP:20260424T161301
CREATED:20220622T192845Z
LAST-MODIFIED:20220907T143832Z
UID:10006715-1667124000-1667131200@epworth.faith
SUMMARY:Youth Group (Youth Room)
DESCRIPTION:
URL:https://epworth.faith/event/youth-group-youth-room-2-2022-09-11/2022-10-30/
LOCATION:Epworth United Methodist Church\, 19285 Holland Glade Road\, Rehoboth Beach\, DE\, 19971\, United States
CATEGORIES:Youth
ORGANIZER;CN="Joy Gordy-Stith & Tom Lewis":MAILTO:jgordy-stith@yahoo.com
END:VEVENT
BEGIN:VEVENT
DTSTART;TZID=America/New_York:20221023T100000
DTEND;TZID=America/New_York:20221023T120000
DTSTAMP:20260424T161301
CREATED:20220622T192845Z
LAST-MODIFIED:20220907T143832Z
UID:10006714-1666519200-1666526400@epworth.faith
SUMMARY:Youth Group (Youth Room)
DESCRIPTION:
URL:https://epworth.faith/event/youth-group-youth-room-2-2022-09-11/2022-10-23/
LOCATION:Epworth United Methodist Church\, 19285 Holland Glade Road\, Rehoboth Beach\, DE\, 19971\, United States
CATEGORIES:Youth
ORGANIZER;CN="Joy Gordy-Stith & Tom Lewis":MAILTO:jgordy-stith@yahoo.com
END:VEVENT
BEGIN:VEVENT
DTSTART;TZID=America/New_York:20221016T100000
DTEND;TZID=America/New_York:20221016T120000
DTSTAMP:20260424T161301
CREATED:20220622T192845Z
LAST-MODIFIED:20220907T143832Z
UID:10006713-1665914400-1665921600@epworth.faith
SUMMARY:Youth Group (Youth Room)
DESCRIPTION:
URL:https://epworth.faith/event/youth-group-youth-room-2-2022-09-11/2022-10-16/
LOCATION:Epworth United Methodist Church\, 19285 Holland Glade Road\, Rehoboth Beach\, DE\, 19971\, United States
CATEGORIES:Youth
ORGANIZER;CN="Joy Gordy-Stith & Tom Lewis":MAILTO:jgordy-stith@yahoo.com
END:VEVENT
BEGIN:VEVENT
DTSTART;TZID=America/New_York:20221009T100000
DTEND;TZID=America/New_York:20221009T120000
DTSTAMP:20260424T161301
CREATED:20220622T192845Z
LAST-MODIFIED:20220907T143832Z
UID:10006712-1665309600-1665316800@epworth.faith
SUMMARY:Youth Group (Youth Room)
DESCRIPTION:
URL:https://epworth.faith/event/youth-group-youth-room-2-2022-09-11/2022-10-09/
LOCATION:Epworth United Methodist Church\, 19285 Holland Glade Road\, Rehoboth Beach\, DE\, 19971\, United States
CATEGORIES:Youth
ORGANIZER;CN="Joy Gordy-Stith & Tom Lewis":MAILTO:jgordy-stith@yahoo.com
END:VEVENT
BEGIN:VEVENT
DTSTART;TZID=America/New_York:20221008T150000
DTEND;TZID=America/New_York:20221008T170000
DTSTAMP:20260424T161301
CREATED:20220907T154905Z
LAST-MODIFIED:20220907T154905Z
UID:10006860-1665241200-1665248400@epworth.faith
SUMMARY:Youth Group at Dover Roller Rink
DESCRIPTION:
URL:https://epworth.faith/event/youth-group-at-dover-roller-rink/
LOCATION:DE
CATEGORIES:Youth
ORGANIZER;CN="Joy Gordy-Stith & Tom Lewis":MAILTO:jgordy-stith@yahoo.com
END:VEVENT
BEGIN:VEVENT
DTSTART;TZID=America/New_York:20221002T100000
DTEND;TZID=America/New_York:20221002T120000
DTSTAMP:20260424T161301
CREATED:20220622T192845Z
LAST-MODIFIED:20220907T143832Z
UID:10006711-1664704800-1664712000@epworth.faith
SUMMARY:Youth Group (Youth Room)
DESCRIPTION:
URL:https://epworth.faith/event/youth-group-youth-room-2-2022-09-11/2022-10-02/
LOCATION:Epworth United Methodist Church\, 19285 Holland Glade Road\, Rehoboth Beach\, DE\, 19971\, United States
CATEGORIES:Youth
ORGANIZER;CN="Joy Gordy-Stith & Tom Lewis":MAILTO:jgordy-stith@yahoo.com
END:VEVENT
BEGIN:VEVENT
DTSTART;TZID=America/New_York:20220925T100000
DTEND;TZID=America/New_York:20220925T120000
DTSTAMP:20260424T161301
CREATED:20220622T192845Z
LAST-MODIFIED:20220907T143832Z
UID:10006710-1664100000-1664107200@epworth.faith
SUMMARY:Youth Group (Youth Room)
DESCRIPTION:
URL:https://epworth.faith/event/youth-group-youth-room-2-2022-09-11/2022-09-25/
LOCATION:Epworth United Methodist Church\, 19285 Holland Glade Road\, Rehoboth Beach\, DE\, 19971\, United States
CATEGORIES:Youth
ORGANIZER;CN="Joy Gordy-Stith & Tom Lewis":MAILTO:jgordy-stith@yahoo.com
END:VEVENT
BEGIN:VEVENT
DTSTART;TZID=America/New_York:20220918T100000
DTEND;TZID=America/New_York:20220918T120000
DTSTAMP:20260424T161301
CREATED:20220622T192845Z
LAST-MODIFIED:20220907T143832Z
UID:10006709-1663495200-1663502400@epworth.faith
SUMMARY:Youth Group (Youth Room)
DESCRIPTION:
URL:https://epworth.faith/event/youth-group-youth-room-2-2022-09-11/2022-09-18/
LOCATION:Epworth United Methodist Church\, 19285 Holland Glade Road\, Rehoboth Beach\, DE\, 19971\, United States
CATEGORIES:Youth
ORGANIZER;CN="Joy Gordy-Stith & Tom Lewis":MAILTO:jgordy-stith@yahoo.com
END:VEVENT
BEGIN:VEVENT
DTSTART;TZID=America/New_York:20220911T113000
DTEND;TZID=America/New_York:20220911T123000
DTSTAMP:20260424T161301
CREATED:20220622T192845Z
LAST-MODIFIED:20220622T192845Z
UID:10006707-1662895800-1662899400@epworth.faith
SUMMARY:Youth Group (Youth Room)
DESCRIPTION:
URL:https://epworth.faith/event/youth-group-youth-room-2/2022-09-11/
LOCATION:Epworth United Methodist Church\, 19285 Holland Glade Road\, Rehoboth Beach\, DE\, 19971\, United States
CATEGORIES:Youth
ORGANIZER;CN="Joy Gordy-Stith & Tom Lewis":MAILTO:jgordy-stith@yahoo.com
END:VEVENT
BEGIN:VEVENT
DTSTART;TZID=America/New_York:20220911T100000
DTEND;TZID=America/New_York:20220911T120000
DTSTAMP:20260424T161301
CREATED:20220622T192845Z
LAST-MODIFIED:20220907T143832Z
UID:10006708-1662890400-1662897600@epworth.faith
SUMMARY:Youth Group (Youth Room)
DESCRIPTION:
URL:https://epworth.faith/event/youth-group-youth-room-2-2022-09-11/2022-09-11/
LOCATION:Epworth United Methodist Church\, 19285 Holland Glade Road\, Rehoboth Beach\, DE\, 19971\, United States
CATEGORIES:Youth
ORGANIZER;CN="Joy Gordy-Stith & Tom Lewis":MAILTO:jgordy-stith@yahoo.com
END:VEVENT
BEGIN:VEVENT
DTSTART;TZID=America/New_York:20220904T113000
DTEND;TZID=America/New_York:20220904T123000
DTSTAMP:20260424T161301
CREATED:20220622T192845Z
LAST-MODIFIED:20220622T192845Z
UID:10006706-1662291000-1662294600@epworth.faith
SUMMARY:Youth Group (Youth Room)
DESCRIPTION:
URL:https://epworth.faith/event/youth-group-youth-room-2/2022-09-04/
LOCATION:Epworth United Methodist Church\, 19285 Holland Glade Road\, Rehoboth Beach\, DE\, 19971\, United States
CATEGORIES:Youth
ORGANIZER;CN="Joy Gordy-Stith & Tom Lewis":MAILTO:jgordy-stith@yahoo.com
END:VEVENT
BEGIN:VEVENT
DTSTART;TZID=America/New_York:20220828T113000
DTEND;TZID=America/New_York:20220828T123000
DTSTAMP:20260424T161301
CREATED:20220622T192845Z
LAST-MODIFIED:20220622T192845Z
UID:10006705-1661686200-1661689800@epworth.faith
SUMMARY:Youth Group (Youth Room)
DESCRIPTION:
URL:https://epworth.faith/event/youth-group-youth-room-2/2022-08-28/
LOCATION:Epworth United Methodist Church\, 19285 Holland Glade Road\, Rehoboth Beach\, DE\, 19971\, United States
CATEGORIES:Youth
ORGANIZER;CN="Joy Gordy-Stith & Tom Lewis":MAILTO:jgordy-stith@yahoo.com
END:VEVENT
BEGIN:VEVENT
DTSTART;TZID=America/New_York:20220821T113000
DTEND;TZID=America/New_York:20220821T123000
DTSTAMP:20260424T161301
CREATED:20220622T192845Z
LAST-MODIFIED:20220622T192845Z
UID:10006704-1661081400-1661085000@epworth.faith
SUMMARY:Youth Group (Youth Room)
DESCRIPTION:
URL:https://epworth.faith/event/youth-group-youth-room-2/2022-08-21/
LOCATION:Epworth United Methodist Church\, 19285 Holland Glade Road\, Rehoboth Beach\, DE\, 19971\, United States
CATEGORIES:Youth
ORGANIZER;CN="Joy Gordy-Stith & Tom Lewis":MAILTO:jgordy-stith@yahoo.com
END:VEVENT
BEGIN:VEVENT
DTSTART;TZID=America/New_York:20220814T113000
DTEND;TZID=America/New_York:20220814T123000
DTSTAMP:20260424T161301
CREATED:20220622T192845Z
LAST-MODIFIED:20220622T192845Z
UID:10006703-1660476600-1660480200@epworth.faith
SUMMARY:Youth Group (Youth Room)
DESCRIPTION:
URL:https://epworth.faith/event/youth-group-youth-room-2/2022-08-14/
LOCATION:Epworth United Methodist Church\, 19285 Holland Glade Road\, Rehoboth Beach\, DE\, 19971\, United States
CATEGORIES:Youth
ORGANIZER;CN="Joy Gordy-Stith & Tom Lewis":MAILTO:jgordy-stith@yahoo.com
END:VEVENT
BEGIN:VEVENT
DTSTART;TZID=America/New_York:20220807T113000
DTEND;TZID=America/New_York:20220807T123000
DTSTAMP:20260424T161301
CREATED:20220622T192845Z
LAST-MODIFIED:20220622T192845Z
UID:10006702-1659871800-1659875400@epworth.faith
SUMMARY:Youth Group (Youth Room)
DESCRIPTION:
URL:https://epworth.faith/event/youth-group-youth-room-2/2022-08-07/
LOCATION:Epworth United Methodist Church\, 19285 Holland Glade Road\, Rehoboth Beach\, DE\, 19971\, United States
CATEGORIES:Youth
ORGANIZER;CN="Joy Gordy-Stith & Tom Lewis":MAILTO:jgordy-stith@yahoo.com
END:VEVENT
BEGIN:VEVENT
DTSTART;TZID=America/New_York:20220731T113000
DTEND;TZID=America/New_York:20220731T123000
DTSTAMP:20260424T161301
CREATED:20220622T192845Z
LAST-MODIFIED:20220622T192845Z
UID:10006701-1659267000-1659270600@epworth.faith
SUMMARY:Youth Group (Youth Room)
DESCRIPTION:
URL:https://epworth.faith/event/youth-group-youth-room-2/2022-07-31/
LOCATION:Epworth United Methodist Church\, 19285 Holland Glade Road\, Rehoboth Beach\, DE\, 19971\, United States
CATEGORIES:Youth
ORGANIZER;CN="Joy Gordy-Stith & Tom Lewis":MAILTO:jgordy-stith@yahoo.com
END:VEVENT
BEGIN:VEVENT
DTSTART;TZID=America/New_York:20220724T113000
DTEND;TZID=America/New_York:20220724T123000
DTSTAMP:20260424T161301
CREATED:20220622T192845Z
LAST-MODIFIED:20220622T192845Z
UID:10006700-1658662200-1658665800@epworth.faith
SUMMARY:Youth Group (Youth Room)
DESCRIPTION:
URL:https://epworth.faith/event/youth-group-youth-room-2/2022-07-24/
LOCATION:Epworth United Methodist Church\, 19285 Holland Glade Road\, Rehoboth Beach\, DE\, 19971\, United States
CATEGORIES:Youth
ORGANIZER;CN="Joy Gordy-Stith & Tom Lewis":MAILTO:jgordy-stith@yahoo.com
END:VEVENT
BEGIN:VEVENT
DTSTART;TZID=America/New_York:20220717T113000
DTEND;TZID=America/New_York:20220717T123000
DTSTAMP:20260424T161301
CREATED:20220622T192845Z
LAST-MODIFIED:20220622T192845Z
UID:10006699-1658057400-1658061000@epworth.faith
SUMMARY:Youth Group (Youth Room)
DESCRIPTION:
URL:https://epworth.faith/event/youth-group-youth-room-2/2022-07-17/
LOCATION:Epworth United Methodist Church\, 19285 Holland Glade Road\, Rehoboth Beach\, DE\, 19971\, United States
CATEGORIES:Youth
ORGANIZER;CN="Joy Gordy-Stith & Tom Lewis":MAILTO:jgordy-stith@yahoo.com
END:VEVENT
BEGIN:VEVENT
DTSTART;TZID=America/New_York:20220710T113000
DTEND;TZID=America/New_York:20220710T123000
DTSTAMP:20260424T161301
CREATED:20220622T192845Z
LAST-MODIFIED:20220622T192845Z
UID:10006698-1657452600-1657456200@epworth.faith
SUMMARY:Youth Group (Youth Room)
DESCRIPTION:
URL:https://epworth.faith/event/youth-group-youth-room-2/2022-07-10/
LOCATION:Epworth United Methodist Church\, 19285 Holland Glade Road\, Rehoboth Beach\, DE\, 19971\, United States
CATEGORIES:Youth
ORGANIZER;CN="Joy Gordy-Stith & Tom Lewis":MAILTO:jgordy-stith@yahoo.com
END:VEVENT
BEGIN:VEVENT
DTSTART;TZID=America/New_York:20220703T113000
DTEND;TZID=America/New_York:20220703T123000
DTSTAMP:20260424T161301
CREATED:20220622T192845Z
LAST-MODIFIED:20220622T192845Z
UID:10006697-1656847800-1656851400@epworth.faith
SUMMARY:Youth Group (Youth Room)
DESCRIPTION:
URL:https://epworth.faith/event/youth-group-youth-room-2/2022-07-03/
LOCATION:Epworth United Methodist Church\, 19285 Holland Glade Road\, Rehoboth Beach\, DE\, 19971\, United States
CATEGORIES:Youth
ORGANIZER;CN="Joy Gordy-Stith & Tom Lewis":MAILTO:jgordy-stith@yahoo.com
END:VEVENT
BEGIN:VEVENT
DTSTART;TZID=America/New_York:20220626T113000
DTEND;TZID=America/New_York:20220626T123000
DTSTAMP:20260424T161301
CREATED:20220112T205636Z
LAST-MODIFIED:20220112T205636Z
UID:10005077-1656243000-1656246600@epworth.faith
SUMMARY:Youth Group (Youth Room)
DESCRIPTION:Epworth’s Youth Group will be meeting in our Youth Room.
URL:https://epworth.faith/event/youth-group-youth-room/2022-06-26/
LOCATION:Epworth United Methodist Church\, 19285 Holland Glade Road\, Rehoboth Beach\, DE\, 19971\, United States
CATEGORIES:Youth
ORGANIZER;CN="Joy Gordy-Stith & Tom Lewis":MAILTO:jgordy-stith@yahoo.com
END:VEVENT
BEGIN:VEVENT
DTSTART;TZID=America/New_York:20220619T113000
DTEND;TZID=America/New_York:20220619T123000
DTSTAMP:20260424T161301
CREATED:20220112T205636Z
LAST-MODIFIED:20220112T205636Z
UID:10005076-1655638200-1655641800@epworth.faith
SUMMARY:Youth Group (Youth Room)
DESCRIPTION:Epworth’s Youth Group will be meeting in our Youth Room.
URL:https://epworth.faith/event/youth-group-youth-room/2022-06-19/
LOCATION:Epworth United Methodist Church\, 19285 Holland Glade Road\, Rehoboth Beach\, DE\, 19971\, United States
CATEGORIES:Youth
ORGANIZER;CN="Joy Gordy-Stith & Tom Lewis":MAILTO:jgordy-stith@yahoo.com
END:VEVENT
BEGIN:VEVENT
DTSTART;TZID=America/New_York:20220612T113000
DTEND;TZID=America/New_York:20220612T123000
DTSTAMP:20260424T161301
CREATED:20220112T205636Z
LAST-MODIFIED:20220112T205636Z
UID:10005075-1655033400-1655037000@epworth.faith
SUMMARY:Youth Group (Youth Room)
DESCRIPTION:Epworth’s Youth Group will be meeting in our Youth Room.
URL:https://epworth.faith/event/youth-group-youth-room/2022-06-12/
LOCATION:Epworth United Methodist Church\, 19285 Holland Glade Road\, Rehoboth Beach\, DE\, 19971\, United States
CATEGORIES:Youth
ORGANIZER;CN="Joy Gordy-Stith & Tom Lewis":MAILTO:jgordy-stith@yahoo.com
END:VEVENT
BEGIN:VEVENT
DTSTART;TZID=America/New_York:20220605T113000
DTEND;TZID=America/New_York:20220605T123000
DTSTAMP:20260424T161301
CREATED:20220112T205636Z
LAST-MODIFIED:20220112T205636Z
UID:10005074-1654428600-1654432200@epworth.faith
SUMMARY:Youth Group (Youth Room)
DESCRIPTION:Epworth’s Youth Group will be meeting in our Youth Room.
URL:https://epworth.faith/event/youth-group-youth-room/2022-06-05/
LOCATION:Epworth United Methodist Church\, 19285 Holland Glade Road\, Rehoboth Beach\, DE\, 19971\, United States
CATEGORIES:Youth
ORGANIZER;CN="Joy Gordy-Stith & Tom Lewis":MAILTO:jgordy-stith@yahoo.com
END:VEVENT
BEGIN:VEVENT
DTSTART;TZID=America/New_York:20220529T113000
DTEND;TZID=America/New_York:20220529T123000
DTSTAMP:20260424T161301
CREATED:20220112T205636Z
LAST-MODIFIED:20220112T205636Z
UID:10005073-1653823800-1653827400@epworth.faith
SUMMARY:Youth Group (Youth Room)
DESCRIPTION:Epworth’s Youth Group will be meeting in our Youth Room.
URL:https://epworth.faith/event/youth-group-youth-room/2022-05-29/
LOCATION:Epworth United Methodist Church\, 19285 Holland Glade Road\, Rehoboth Beach\, DE\, 19971\, United States
CATEGORIES:Youth
ORGANIZER;CN="Joy Gordy-Stith & Tom Lewis":MAILTO:jgordy-stith@yahoo.com
END:VEVENT
BEGIN:VEVENT
DTSTART;TZID=America/New_York:20220522T113000
DTEND;TZID=America/New_York:20220522T123000
DTSTAMP:20260424T161301
CREATED:20220112T205636Z
LAST-MODIFIED:20220112T205636Z
UID:10005072-1653219000-1653222600@epworth.faith
SUMMARY:Youth Group (Youth Room)
DESCRIPTION:Epworth’s Youth Group will be meeting in our Youth Room.
URL:https://epworth.faith/event/youth-group-youth-room/2022-05-22/
LOCATION:Epworth United Methodist Church\, 19285 Holland Glade Road\, Rehoboth Beach\, DE\, 19971\, United States
CATEGORIES:Youth
ORGANIZER;CN="Joy Gordy-Stith & Tom Lewis":MAILTO:jgordy-stith@yahoo.com
END:VEVENT
END:VCALENDAR