BEGIN:VCALENDAR
VERSION:2.0
PRODID:-//Epworth UMC - ECPv6.15.20//NONSGML v1.0//EN
CALSCALE:GREGORIAN
METHOD:PUBLISH
X-WR-CALNAME:Epworth UMC
X-ORIGINAL-URL:https://epworth.faith
X-WR-CALDESC:Events for Epworth UMC
REFRESH-INTERVAL;VALUE=DURATION:PT1H
X-Robots-Tag:noindex
X-PUBLISHED-TTL:PT1H
BEGIN:VTIMEZONE
TZID:America/New_York
BEGIN:DAYLIGHT
TZOFFSETFROM:-0500
TZOFFSETTO:-0400
TZNAME:EDT
DTSTART:20230312T070000
END:DAYLIGHT
BEGIN:STANDARD
TZOFFSETFROM:-0400
TZOFFSETTO:-0500
TZNAME:EST
DTSTART:20231105T060000
END:STANDARD
BEGIN:DAYLIGHT
TZOFFSETFROM:-0500
TZOFFSETTO:-0400
TZNAME:EDT
DTSTART:20240310T070000
END:DAYLIGHT
BEGIN:STANDARD
TZOFFSETFROM:-0400
TZOFFSETTO:-0500
TZNAME:EST
DTSTART:20241103T060000
END:STANDARD
BEGIN:DAYLIGHT
TZOFFSETFROM:-0500
TZOFFSETTO:-0400
TZNAME:EDT
DTSTART:20250309T070000
END:DAYLIGHT
BEGIN:STANDARD
TZOFFSETFROM:-0400
TZOFFSETTO:-0500
TZNAME:EST
DTSTART:20251102T060000
END:STANDARD
END:VTIMEZONE
BEGIN:VEVENT
DTSTART;TZID=America/New_York:20241202T170000
DTEND;TZID=America/New_York:20241202T180000
DTSTAMP:20260425T230231
CREATED:20231211T172903Z
LAST-MODIFIED:20231211T172903Z
UID:10011240-1733158800-1733162400@epworth.faith
SUMMARY:ALANON Newcomers (Bakers Lounge)
DESCRIPTION:
URL:https://epworth.faith/event/alanon-newcomers-bakers-lounge/2024-12-02/
LOCATION:Epworth United Methodist Church\, 19285 Holland Glade Road\, Rehoboth Beach\, DE\, 19971\, United States
CATEGORIES:Facility Rentals,Neighborhood/Community Groups
END:VEVENT
BEGIN:VEVENT
DTSTART;TZID=America/New_York:20241202T180000
DTEND;TZID=America/New_York:20241202T180000
DTSTAMP:20260425T230231
CREATED:20231211T223614Z
LAST-MODIFIED:20231211T223614Z
UID:10011702-1733162400-1733162400@epworth.faith
SUMMARY:ALANON (Branford Lounge)
DESCRIPTION:
URL:https://epworth.faith/event/alanon-branford-lounge-3/2024-12-02/
LOCATION:Epworth United Methodist Church\, 19285 Holland Glade Road\, Rehoboth Beach\, DE\, 19971\, United States
CATEGORIES:Facility Rentals,Neighborhood/Community Groups
END:VEVENT
BEGIN:VEVENT
DTSTART;TZID=America/New_York:20241203T180000
DTEND;TZID=America/New_York:20241203T190000
DTSTAMP:20260425T230231
CREATED:20231211T173536Z
LAST-MODIFIED:20231211T174300Z
UID:10011292-1733248800-1733252400@epworth.faith
SUMMARY:ALANON (Branford Lounge)
DESCRIPTION:
URL:https://epworth.faith/event/alanon-11/2024-12-03/
LOCATION:Epworth United Methodist Church\, 19285 Holland Glade Road\, Rehoboth Beach\, DE\, 19971\, United States
CATEGORIES:Facility Rentals,Neighborhood/Community Groups
END:VEVENT
BEGIN:VEVENT
DTSTART;TZID=America/New_York:20241203T190000
DTEND;TZID=America/New_York:20241203T200000
DTSTAMP:20260425T230231
CREATED:20231211T175811Z
LAST-MODIFIED:20231211T175811Z
UID:10011345-1733252400-1733256000@epworth.faith
SUMMARY:AA (Music Room)
DESCRIPTION:
URL:https://epworth.faith/event/aa-music-room/2024-12-03/
LOCATION:Epworth United Methodist Church\, 19285 Holland Glade Road\, Rehoboth Beach\, DE\, 19971\, United States
CATEGORIES:Facility Rentals,Neighborhood/Community Groups
END:VEVENT
BEGIN:VEVENT
DTSTART;TZID=America/New_York:20241203T190000
DTEND;TZID=America/New_York:20241203T200000
DTSTAMP:20260425T230231
CREATED:20231211T224614Z
LAST-MODIFIED:20231211T224614Z
UID:10011755-1733252400-1733256000@epworth.faith
SUMMARY:ALANON (Baker Lounge)
DESCRIPTION:
URL:https://epworth.faith/event/alanon-baker-lounge-5/2024-12-03/
LOCATION:Epworth United Methodist Church\, 19285 Holland Glade Road\, Rehoboth Beach\, DE\, 19971\, United States
CATEGORIES:Facility Rentals,Neighborhood/Community Groups
ORGANIZER;CN="Gail Tarlecky":MAILTO:gr8fulgail@comcast.net
END:VEVENT
BEGIN:VEVENT
DTSTART;TZID=America/New_York:20241203T190000
DTEND;TZID=America/New_York:20241203T220000
DTSTAMP:20260425T230231
CREATED:20240604T135045Z
LAST-MODIFIED:20240604T135046Z
UID:10013549-1733252400-1733263200@epworth.faith
SUMMARY:Southern Delaware Chorale Winter Concert Rehearsal (Sanctuary & Music Room)
DESCRIPTION:
URL:https://epworth.faith/event/southern-delaware-chorale-winter-concert-rehearsal-sanctuary-music-room/
LOCATION:Epworth United Methodist Church\, 19285 Holland Glade Road\, Rehoboth Beach\, DE\, 19971\, United States
CATEGORIES:Church,Concerts,Facility Rentals
ORGANIZER;CN="Denise Adkins":MAILTO:deniseadkins1959@gmail.com
END:VEVENT
BEGIN:VEVENT
DTSTART;TZID=America/New_York:20241204T180000
DTEND;TZID=America/New_York:20241204T190000
DTSTAMP:20260425T230231
CREATED:20231211T213445Z
LAST-MODIFIED:20231211T213445Z
UID:10011447-1733335200-1733338800@epworth.faith
SUMMARY:OA (Branford Lounge)
DESCRIPTION:
URL:https://epworth.faith/event/oa-branford-lounge/2024-12-04/
LOCATION:Epworth United Methodist Church\, 19285 Holland Glade Road\, Rehoboth Beach\, DE\, 19971\, United States
CATEGORIES:Facility Rentals,Neighborhood/Community Groups
ORGANIZER;CN="Gail Tarlecky":MAILTO:gr8fulgail@comcast.net
END:VEVENT
BEGIN:VEVENT
DTSTART;TZID=America/New_York:20241205T120000
DTEND;TZID=America/New_York:20241205T130000
DTSTAMP:20260425T230231
CREATED:20231211T214627Z
LAST-MODIFIED:20231211T214627Z
UID:10011498-1733400000-1733403600@epworth.faith
SUMMARY:ALANON (Branford Lounge)
DESCRIPTION:
URL:https://epworth.faith/event/alanon-branford-lounge-2/2024-12-05/
LOCATION:Epworth United Methodist Church\, 19285 Holland Glade Road\, Rehoboth Beach\, DE\, 19971\, United States
CATEGORIES:Facility Rentals,Neighborhood/Community Groups
END:VEVENT
BEGIN:VEVENT
DTSTART;TZID=America/New_York:20241205T193000
DTEND;TZID=America/New_York:20241205T203000
DTSTAMP:20260425T230231
CREATED:20231214T170139Z
LAST-MODIFIED:20231214T170223Z
UID:10012031-1733427000-1733430600@epworth.faith
SUMMARY:AA Meeting (Baker Lounge)
DESCRIPTION:
URL:https://epworth.faith/event/aa-meeting-baker-lounge/2024-12-05/
LOCATION:Epworth United Methodist Church\, 19285 Holland Glade Road\, Rehoboth Beach\, DE\, 19971\, United States
CATEGORIES:Church,Facility Rentals
ORGANIZER;CN="Chip Seale":MAILTO:prftbdy4ever@gmail.com
END:VEVENT
BEGIN:VEVENT
DTSTART;TZID=America/New_York:20241207T090000
DTEND;TZID=America/New_York:20241207T100000
DTSTAMP:20260425T230231
CREATED:20231211T215002Z
LAST-MODIFIED:20231211T215002Z
UID:10011549-1733562000-1733565600@epworth.faith
SUMMARY:ACA (Baker Lounge)
DESCRIPTION:
URL:https://epworth.faith/event/aca-baker-lounge/2024-12-07/
LOCATION:Epworth United Methodist Church\, 19285 Holland Glade Road\, Rehoboth Beach\, DE\, 19971\, United States
CATEGORIES:Facility Rentals,Neighborhood/Community Groups
ORGANIZER;CN="Gail Tarlecky":MAILTO:gr8fulgail@comcast.net
END:VEVENT
BEGIN:VEVENT
DTSTART;TZID=America/New_York:20241207T090000
DTEND;TZID=America/New_York:20241207T120000
DTSTAMP:20260425T230231
CREATED:20240514T163047Z
LAST-MODIFIED:20240514T163047Z
UID:10013516-1733562000-1733572800@epworth.faith
SUMMARY:Wellsley HOA Association Meeting (Sanctuary)
DESCRIPTION:
URL:https://epworth.faith/event/wellsley-hoa-association-meeting-sanctuary/
LOCATION:Epworth United Methodist Church\, 19285 Holland Glade Road\, Rehoboth Beach\, DE\, 19971\, United States
CATEGORIES:Church,Facility Rentals,Neighborhood/Community Groups
ORGANIZER;CN="Brenda Brant":MAILTO:brenda.brant@casinc.biz
END:VEVENT
BEGIN:VEVENT
DTSTART;TZID=America/New_York:20241207T120000
DTEND;TZID=America/New_York:20241207T140000
DTSTAMP:20260425T230231
CREATED:20240514T163134Z
LAST-MODIFIED:20240514T163134Z
UID:10013517-1733572800-1733580000@epworth.faith
SUMMARY:Welchs Pond HOA Association Meeting (Sanctuary)
DESCRIPTION:
URL:https://epworth.faith/event/welchs-pond-hoa-association-meeting-sanctuary/
LOCATION:Epworth United Methodist Church\, 19285 Holland Glade Road\, Rehoboth Beach\, DE\, 19971\, United States
CATEGORIES:Church,Facility Rentals,Neighborhood/Community Groups
ORGANIZER;CN="Brenda Brant":MAILTO:brenda.brant@casinc.biz
END:VEVENT
BEGIN:VEVENT
DTSTART;TZID=America/New_York:20241207T140000
DTEND;TZID=America/New_York:20241207T190000
DTSTAMP:20260425T230231
CREATED:20240604T134859Z
LAST-MODIFIED:20240604T134900Z
UID:10013548-1733580000-1733598000@epworth.faith
SUMMARY:Southern Delaware Chorale Winter Concert (Sanctuary & Music Room)
DESCRIPTION:
URL:https://epworth.faith/event/southern-delaware-chorale-winter-concert-sanctuary-music-room/
LOCATION:Epworth United Methodist Church\, 19285 Holland Glade Road\, Rehoboth Beach\, DE\, 19971\, United States
CATEGORIES:Church,Concerts,Facility Rentals
ORGANIZER;CN="Denise Adkins":MAILTO:deniseadkins1959@gmail.com
END:VEVENT
BEGIN:VEVENT
DTSTART;TZID=America/New_York:20241207T180000
DTEND;TZID=America/New_York:20241207T180000
DTSTAMP:20260425T230231
CREATED:20231211T220725Z
LAST-MODIFIED:20231211T220725Z
UID:10011600-1733594400-1733594400@epworth.faith
SUMMARY:AA (Branford Lounge)
DESCRIPTION:
URL:https://epworth.faith/event/aa-branford-lounge-3/2024-12-07/
LOCATION:Epworth United Methodist Church\, 19285 Holland Glade Road\, Rehoboth Beach\, DE\, 19971\, United States
CATEGORIES:Facility Rentals,Neighborhood/Community Groups
ORGANIZER;CN="Larry Karnbach":MAILTO:aklk22@verizon.net
END:VEVENT
BEGIN:VEVENT
DTSTART;TZID=America/New_York:20241207T180000
DTEND;TZID=America/New_York:20241207T190000
DTSTAMP:20260425T230231
CREATED:20231211T225009Z
LAST-MODIFIED:20231211T225009Z
UID:10011807-1733594400-1733598000@epworth.faith
SUMMARY:ALANON (Bakers' Lounge)
DESCRIPTION:
URL:https://epworth.faith/event/alanon-bakers-lounge/2024-12-07/
LOCATION:Epworth United Methodist Church\, 19285 Holland Glade Road\, Rehoboth Beach\, DE\, 19971\, United States
CATEGORIES:Facility Rentals,Neighborhood/Community Groups
END:VEVENT
BEGIN:VEVENT
DTSTART;TZID=America/New_York:20241208T053000
DTEND;TZID=America/New_York:20241208T220000
DTSTAMP:20260425T230231
CREATED:20240827T200025Z
LAST-MODIFIED:20240827T200029Z
UID:10014075-1733635800-1733695200@epworth.faith
SUMMARY:Compassionate Friends Candlelight Ceremony (Sanctuary)
DESCRIPTION:
URL:https://epworth.faith/event/compassionate-friends-candlelight-ceremony-sanctuary/
LOCATION:Epworth United Methodist Church\, 19285 Holland Glade Road\, Rehoboth Beach\, DE\, 19971\, United States
CATEGORIES:Church,Facility Rentals,Groups,Neighborhood/Community Groups
END:VEVENT
BEGIN:VEVENT
DTSTART;TZID=America/New_York:20241209T170000
DTEND;TZID=America/New_York:20241209T180000
DTSTAMP:20260425T230231
CREATED:20231211T172903Z
LAST-MODIFIED:20231211T172903Z
UID:10011241-1733763600-1733767200@epworth.faith
SUMMARY:ALANON Newcomers (Bakers Lounge)
DESCRIPTION:
URL:https://epworth.faith/event/alanon-newcomers-bakers-lounge/2024-12-09/
LOCATION:Epworth United Methodist Church\, 19285 Holland Glade Road\, Rehoboth Beach\, DE\, 19971\, United States
CATEGORIES:Facility Rentals,Neighborhood/Community Groups
END:VEVENT
BEGIN:VEVENT
DTSTART;TZID=America/New_York:20241209T180000
DTEND;TZID=America/New_York:20241209T180000
DTSTAMP:20260425T230231
CREATED:20231211T223614Z
LAST-MODIFIED:20231211T223614Z
UID:10011703-1733767200-1733767200@epworth.faith
SUMMARY:ALANON (Branford Lounge)
DESCRIPTION:
URL:https://epworth.faith/event/alanon-branford-lounge-3/2024-12-09/
LOCATION:Epworth United Methodist Church\, 19285 Holland Glade Road\, Rehoboth Beach\, DE\, 19971\, United States
CATEGORIES:Facility Rentals,Neighborhood/Community Groups
END:VEVENT
BEGIN:VEVENT
DTSTART;TZID=America/New_York:20241210T180000
DTEND;TZID=America/New_York:20241210T190000
DTSTAMP:20260425T230231
CREATED:20231211T173536Z
LAST-MODIFIED:20231211T174300Z
UID:10011293-1733853600-1733857200@epworth.faith
SUMMARY:ALANON (Branford Lounge)
DESCRIPTION:
URL:https://epworth.faith/event/alanon-11/2024-12-10/
LOCATION:Epworth United Methodist Church\, 19285 Holland Glade Road\, Rehoboth Beach\, DE\, 19971\, United States
CATEGORIES:Facility Rentals,Neighborhood/Community Groups
END:VEVENT
BEGIN:VEVENT
DTSTART;TZID=America/New_York:20241210T190000
DTEND;TZID=America/New_York:20241210T200000
DTSTAMP:20260425T230231
CREATED:20231211T175811Z
LAST-MODIFIED:20231211T175811Z
UID:10011346-1733857200-1733860800@epworth.faith
SUMMARY:AA (Music Room)
DESCRIPTION:
URL:https://epworth.faith/event/aa-music-room/2024-12-10/
LOCATION:Epworth United Methodist Church\, 19285 Holland Glade Road\, Rehoboth Beach\, DE\, 19971\, United States
CATEGORIES:Facility Rentals,Neighborhood/Community Groups
END:VEVENT
BEGIN:VEVENT
DTSTART;TZID=America/New_York:20241210T190000
DTEND;TZID=America/New_York:20241210T200000
DTSTAMP:20260425T230231
CREATED:20231211T224614Z
LAST-MODIFIED:20231211T224614Z
UID:10011756-1733857200-1733860800@epworth.faith
SUMMARY:ALANON (Baker Lounge)
DESCRIPTION:
URL:https://epworth.faith/event/alanon-baker-lounge-5/2024-12-10/
LOCATION:Epworth United Methodist Church\, 19285 Holland Glade Road\, Rehoboth Beach\, DE\, 19971\, United States
CATEGORIES:Facility Rentals,Neighborhood/Community Groups
ORGANIZER;CN="Gail Tarlecky":MAILTO:gr8fulgail@comcast.net
END:VEVENT
BEGIN:VEVENT
DTSTART;TZID=America/New_York:20241211T180000
DTEND;TZID=America/New_York:20241211T190000
DTSTAMP:20260425T230231
CREATED:20231211T213445Z
LAST-MODIFIED:20231211T213445Z
UID:10011448-1733940000-1733943600@epworth.faith
SUMMARY:OA (Branford Lounge)
DESCRIPTION:
URL:https://epworth.faith/event/oa-branford-lounge/2024-12-11/
LOCATION:Epworth United Methodist Church\, 19285 Holland Glade Road\, Rehoboth Beach\, DE\, 19971\, United States
CATEGORIES:Facility Rentals,Neighborhood/Community Groups
ORGANIZER;CN="Gail Tarlecky":MAILTO:gr8fulgail@comcast.net
END:VEVENT
BEGIN:VEVENT
DTSTART;TZID=America/New_York:20241212T100000
DTEND;TZID=America/New_York:20241212T140000
DTSTAMP:20260425T230231
CREATED:20240725T162505Z
LAST-MODIFIED:20240725T162505Z
UID:10013991-1733997600-1734012000@epworth.faith
SUMMARY:Sussex Technical High School Winter Concert Rehearsal (Sanctuary)
DESCRIPTION:
URL:https://epworth.faith/event/sussex-technical-high-school-winter-concert-rehearsal-sanctuary/
LOCATION:Epworth United Methodist Church\, 19285 Holland Glade Road\, Rehoboth Beach\, DE\, 19971\, United States
CATEGORIES:Church,Concerts,Facility Rentals
ORGANIZER;CN="Sarah Rose":MAILTO:Sarah.Rose@sussexvt.k12.de.us
END:VEVENT
BEGIN:VEVENT
DTSTART;TZID=America/New_York:20241212T120000
DTEND;TZID=America/New_York:20241212T130000
DTSTAMP:20260425T230231
CREATED:20231211T214627Z
LAST-MODIFIED:20231211T214627Z
UID:10011499-1734004800-1734008400@epworth.faith
SUMMARY:ALANON (Branford Lounge)
DESCRIPTION:
URL:https://epworth.faith/event/alanon-branford-lounge-2/2024-12-12/
LOCATION:Epworth United Methodist Church\, 19285 Holland Glade Road\, Rehoboth Beach\, DE\, 19971\, United States
CATEGORIES:Facility Rentals,Neighborhood/Community Groups
END:VEVENT
BEGIN:VEVENT
DTSTART;TZID=America/New_York:20241212T193000
DTEND;TZID=America/New_York:20241212T203000
DTSTAMP:20260425T230231
CREATED:20231214T170139Z
LAST-MODIFIED:20231214T170223Z
UID:10012032-1734031800-1734035400@epworth.faith
SUMMARY:AA Meeting (Baker Lounge)
DESCRIPTION:
URL:https://epworth.faith/event/aa-meeting-baker-lounge/2024-12-12/
LOCATION:Epworth United Methodist Church\, 19285 Holland Glade Road\, Rehoboth Beach\, DE\, 19971\, United States
CATEGORIES:Church,Facility Rentals
ORGANIZER;CN="Chip Seale":MAILTO:prftbdy4ever@gmail.com
END:VEVENT
BEGIN:VEVENT
DTSTART;TZID=America/New_York:20241213T170000
DTEND;TZID=America/New_York:20241213T210000
DTSTAMP:20260425T230231
CREATED:20240703T170313Z
LAST-MODIFIED:20240703T170314Z
UID:10013602-1734109200-1734123600@epworth.faith
SUMMARY:Encore Winter Concert (Sanctuary\, Music Room)
DESCRIPTION:
URL:https://epworth.faith/event/encore-winter-concert-sanctuary-music-room/
LOCATION:Epworth United Methodist Church\, 19285 Holland Glade Road\, Rehoboth Beach\, DE\, 19971\, United States
CATEGORIES:Church,Concerts,Facility Rentals
ORGANIZER;CN="Ethan Lolley":MAILTO:ethan.lolley@encorecreativity.org
END:VEVENT
BEGIN:VEVENT
DTSTART;TZID=America/New_York:20241214T090000
DTEND;TZID=America/New_York:20241214T100000
DTSTAMP:20260425T230231
CREATED:20231211T215002Z
LAST-MODIFIED:20231211T215002Z
UID:10011550-1734166800-1734170400@epworth.faith
SUMMARY:ACA (Baker Lounge)
DESCRIPTION:
URL:https://epworth.faith/event/aca-baker-lounge/2024-12-14/
LOCATION:Epworth United Methodist Church\, 19285 Holland Glade Road\, Rehoboth Beach\, DE\, 19971\, United States
CATEGORIES:Facility Rentals,Neighborhood/Community Groups
ORGANIZER;CN="Gail Tarlecky":MAILTO:gr8fulgail@comcast.net
END:VEVENT
BEGIN:VEVENT
DTSTART;TZID=America/New_York:20241214T180000
DTEND;TZID=America/New_York:20241214T180000
DTSTAMP:20260425T230231
CREATED:20231211T220725Z
LAST-MODIFIED:20231211T220725Z
UID:10011601-1734199200-1734199200@epworth.faith
SUMMARY:AA (Branford Lounge)
DESCRIPTION:
URL:https://epworth.faith/event/aa-branford-lounge-3/2024-12-14/
LOCATION:Epworth United Methodist Church\, 19285 Holland Glade Road\, Rehoboth Beach\, DE\, 19971\, United States
CATEGORIES:Facility Rentals,Neighborhood/Community Groups
ORGANIZER;CN="Larry Karnbach":MAILTO:aklk22@verizon.net
END:VEVENT
BEGIN:VEVENT
DTSTART;TZID=America/New_York:20241214T180000
DTEND;TZID=America/New_York:20241214T190000
DTSTAMP:20260425T230231
CREATED:20231211T225009Z
LAST-MODIFIED:20231211T225009Z
UID:10011808-1734199200-1734202800@epworth.faith
SUMMARY:ALANON (Bakers' Lounge)
DESCRIPTION:
URL:https://epworth.faith/event/alanon-bakers-lounge/2024-12-14/
LOCATION:Epworth United Methodist Church\, 19285 Holland Glade Road\, Rehoboth Beach\, DE\, 19971\, United States
CATEGORIES:Facility Rentals,Neighborhood/Community Groups
END:VEVENT
BEGIN:VEVENT
DTSTART;TZID=America/New_York:20241216T170000
DTEND;TZID=America/New_York:20241216T180000
DTSTAMP:20260425T230231
CREATED:20231211T172903Z
LAST-MODIFIED:20231211T172903Z
UID:10011242-1734368400-1734372000@epworth.faith
SUMMARY:ALANON Newcomers (Bakers Lounge)
DESCRIPTION:
URL:https://epworth.faith/event/alanon-newcomers-bakers-lounge/2024-12-16/
LOCATION:Epworth United Methodist Church\, 19285 Holland Glade Road\, Rehoboth Beach\, DE\, 19971\, United States
CATEGORIES:Facility Rentals,Neighborhood/Community Groups
END:VEVENT
END:VCALENDAR