BEGIN:VCALENDAR
VERSION:2.0
PRODID:-//Epworth UMC - ECPv6.15.20//NONSGML v1.0//EN
CALSCALE:GREGORIAN
METHOD:PUBLISH
X-ORIGINAL-URL:https://epworth.faith
X-WR-CALDESC:Events for Epworth UMC
REFRESH-INTERVAL;VALUE=DURATION:PT1H
X-Robots-Tag:noindex
X-PUBLISHED-TTL:PT1H
BEGIN:VTIMEZONE
TZID:America/New_York
BEGIN:DAYLIGHT
TZOFFSETFROM:-0500
TZOFFSETTO:-0400
TZNAME:EDT
DTSTART:20240310T070000
END:DAYLIGHT
BEGIN:STANDARD
TZOFFSETFROM:-0400
TZOFFSETTO:-0500
TZNAME:EST
DTSTART:20241103T060000
END:STANDARD
BEGIN:DAYLIGHT
TZOFFSETFROM:-0500
TZOFFSETTO:-0400
TZNAME:EDT
DTSTART:20250309T070000
END:DAYLIGHT
BEGIN:STANDARD
TZOFFSETFROM:-0400
TZOFFSETTO:-0500
TZNAME:EST
DTSTART:20251102T060000
END:STANDARD
BEGIN:DAYLIGHT
TZOFFSETFROM:-0500
TZOFFSETTO:-0400
TZNAME:EDT
DTSTART:20260308T070000
END:DAYLIGHT
BEGIN:STANDARD
TZOFFSETFROM:-0400
TZOFFSETTO:-0500
TZNAME:EST
DTSTART:20261101T060000
END:STANDARD
END:VTIMEZONE
BEGIN:VEVENT
DTSTART;TZID=America/New_York:20250405T130000
DTEND;TZID=America/New_York:20250405T190000
DTSTAMP:20260425T072128
CREATED:20240318T184908Z
LAST-MODIFIED:20250314T161456Z
UID:10012437-1743858000-1743879600@epworth.faith
SUMMARY:Mid-Atlantic Symphony Orchestra (Concert: 3:00pm to 5:00pm) (Sanctuary\, Music Room & Branford)
DESCRIPTION:Mid-Atlantic Symphony Masterworks Concerts – Mozart’s Jupiter (Symphony No. 1\, 40\, & 41) Saturday\, April 5\, 3 pm (tickets\, $55) \nBuilding and Tech: 1-6 pm
URL:https://epworth.faith/event/mid-atlantic-symphony-orchestra-sanctuary-music-room-2/
LOCATION:Epworth United Methodist Church\, 19285 Holland Glade Road\, Rehoboth Beach\, DE\, 19971\, United States
CATEGORIES:Church,Concerts,Music
ORGANIZER;CN="Dane Krich":MAILTO:dane@midatlanticsymphony.org
END:VEVENT
BEGIN:VEVENT
DTSTART;TZID=America/New_York:20250412T090000
DTEND;TZID=America/New_York:20250412T150000
DTSTAMP:20260425T072128
CREATED:20250227T164821Z
LAST-MODIFIED:20250227T164825Z
UID:10015551-1744448400-1744470000@epworth.faith
SUMMARY:Women's Fest Corn Hole Tournament - Event = 4 Hours (Fellowship Hall)
DESCRIPTION:
URL:https://epworth.faith/event/womens-fest-corn-hole-tournament-event-4-hours-fellowship-hall/
LOCATION:Epworth United Methodist Church\, 19285 Holland Glade Road\, Rehoboth Beach\, DE\, 19971\, United States
CATEGORIES:Church,Facility Rentals,Neighborhood/Community Groups
ORGANIZER;CN="Rina Pellegrini":MAILTO:rpelle6469@gmail.com
END:VEVENT
BEGIN:VEVENT
DTSTART;TZID=America/New_York:20250412T100000
DTEND;TZID=America/New_York:20250412T120000
DTSTAMP:20260425T072128
CREATED:20250312T120712Z
LAST-MODIFIED:20250328T010953Z
UID:10015833-1744452000-1744459200@epworth.faith
SUMMARY:Easter Egg Hunt (Outside or Inside if Rain)
DESCRIPTION:Easter egg hunt\, magic show\, appearance by the Easter Bunny\, refreshments\, and more! \n10 a.m. to noon on Saturday\, April 12. A rain or shine event. Free.
URL:https://epworth.faith/event/easter-egg-hunt-outside-or-inside-if-rain/
LOCATION:Epworth United Methodist Church\, 19285 Holland Glade Road\, Rehoboth Beach\, DE\, 19971\, United States
CATEGORIES:Church,Holy Week 2025,Neighborhood/Community Groups
ATTACH;FMTTYPE=image/jpeg:https://epworth.faith/wp-content/uploads/2025/03/easter-eggs-2025-02-19-03-54-22-utc.jpg
ORGANIZER;CN="Mickie McManamon":MAILTO:mmcmanamon@epworth.faith
END:VEVENT
BEGIN:VEVENT
DTSTART;TZID=America/New_York:20250420T060000
DTEND;TZID=America/New_York:20250420T064500
DTSTAMP:20260425T072128
CREATED:20250317T161431Z
LAST-MODIFIED:20250417T133035Z
UID:10015905-1745128800-1745131500@epworth.faith
SUMMARY:Easter Sunrise Worship Service
DESCRIPTION:Members of Epworth’s Praise Team led by Doug Yetter join Pastors Vicki and Bo Gordy-Stith to celebrate the miracle of the resurrection by the Rehoboth Beach bandstand. \nThe service begins at 6 a.m. Sunday\, April 20 and lasts about 45 minutes.
URL:https://epworth.faith/event/easter-sunrise-worship-service-600am-645am-rehoboth-beach-bandstand-area/
LOCATION:Rehoboth Beach Bandstand\, 1 Rehoboth Ave.\, Rehoboth Beach\, Delaware\, 19971
CATEGORIES:Holy Week 2025,Neighborhood/Community Groups,Worship
ATTACH;FMTTYPE=image/jpeg:https://epworth.faith/wp-content/uploads/2025/03/Sunrise.jpg
ORGANIZER;CN="Vicki Gordy-Stith":MAILTO:vgordy-stith@epworth.faith
END:VEVENT
BEGIN:VEVENT
DTSTART;TZID=America/New_York:20250426T153000
DTEND;TZID=America/New_York:20250426T220000
DTSTAMP:20260425T072128
CREATED:20240408T131437Z
LAST-MODIFIED:20240408T131437Z
UID:10012646-1745681400-1745704800@epworth.faith
SUMMARY:SODELO Concert (Sanctuary and Music Room)
DESCRIPTION:
URL:https://epworth.faith/event/sodelo-concert-sanctuary-and-music-room/
LOCATION:Epworth United Methodist Church\, 19285 Holland Glade Road\, Rehoboth Beach\, DE\, 19971\, United States
CATEGORIES:Church,Concerts,Facility Rentals
ORGANIZER;CN="Eva DelGallo":MAILTO:delgalloviolin@gmail.com
END:VEVENT
BEGIN:VEVENT
DTSTART;TZID=America/New_York:20250427T153000
DTEND;TZID=America/New_York:20250427T220000
DTSTAMP:20260425T072128
CREATED:20240408T131500Z
LAST-MODIFIED:20240408T131500Z
UID:10012647-1745767800-1745791200@epworth.faith
SUMMARY:SODELO Concert (Sanctuary and Music Room)
DESCRIPTION:
URL:https://epworth.faith/event/sodelo-concert-sanctuary-and-music-room-2/
LOCATION:Epworth United Methodist Church\, 19285 Holland Glade Road\, Rehoboth Beach\, DE\, 19971\, United States
CATEGORIES:Church,Concerts,Facility Rentals
ORGANIZER;CN="Eva DelGallo":MAILTO:delgalloviolin@gmail.com
END:VEVENT
BEGIN:VEVENT
DTSTART;TZID=America/New_York:20250430T130000
DTEND;TZID=America/New_York:20250430T233000
DTSTAMP:20260425T072128
CREATED:20250429T142845Z
LAST-MODIFIED:20250429T142845Z
UID:10016021-1746018000-1746055800@epworth.faith
SUMMARY:Plant Sale Storage of Plants (Starnes Room)
DESCRIPTION:
URL:https://epworth.faith/event/plant-sale-storage-of-plants-starnes-room/
LOCATION:Epworth United Methodist Church\, 19285 Holland Glade Road\, Rehoboth Beach\, DE\, 19971\, United States
CATEGORIES:Church,Neighborhood/Community Groups
ORGANIZER;CN="Susan Jimenez":MAILTO:saj19971@gmail.com
END:VEVENT
END:VCALENDAR