BEGIN:VCALENDAR
VERSION:2.0
PRODID:-//Epworth UMC - ECPv6.15.20//NONSGML v1.0//EN
CALSCALE:GREGORIAN
METHOD:PUBLISH
X-WR-CALNAME:Epworth UMC
X-ORIGINAL-URL:https://epworth.faith
X-WR-CALDESC:Events for Epworth UMC
REFRESH-INTERVAL;VALUE=DURATION:PT1H
X-Robots-Tag:noindex
X-PUBLISHED-TTL:PT1H
BEGIN:VTIMEZONE
TZID:America/New_York
BEGIN:DAYLIGHT
TZOFFSETFROM:-0500
TZOFFSETTO:-0400
TZNAME:EDT
DTSTART:20240310T070000
END:DAYLIGHT
BEGIN:STANDARD
TZOFFSETFROM:-0400
TZOFFSETTO:-0500
TZNAME:EST
DTSTART:20241103T060000
END:STANDARD
BEGIN:DAYLIGHT
TZOFFSETFROM:-0500
TZOFFSETTO:-0400
TZNAME:EDT
DTSTART:20250309T070000
END:DAYLIGHT
BEGIN:STANDARD
TZOFFSETFROM:-0400
TZOFFSETTO:-0500
TZNAME:EST
DTSTART:20251102T060000
END:STANDARD
BEGIN:DAYLIGHT
TZOFFSETFROM:-0500
TZOFFSETTO:-0400
TZNAME:EDT
DTSTART:20260308T070000
END:DAYLIGHT
BEGIN:STANDARD
TZOFFSETFROM:-0400
TZOFFSETTO:-0500
TZNAME:EST
DTSTART:20261101T060000
END:STANDARD
END:VTIMEZONE
BEGIN:VEVENT
DTSTART;VALUE=DATE:20250501
DTEND;VALUE=DATE:20250503
DTSTAMP:20260425T073345
CREATED:20250429T143116Z
LAST-MODIFIED:20250429T143116Z
UID:10016022-1746057600-1746230399@epworth.faith
SUMMARY:Plant Sale Storage (Starnes Room)
DESCRIPTION:
URL:https://epworth.faith/event/plant-sale-storage-starnes-room/
LOCATION:Epworth United Methodist Church\, 19285 Holland Glade Road\, Rehoboth Beach\, DE\, 19971\, United States
CATEGORIES:Church,Neighborhood/Community Groups
ORGANIZER;CN="Susan Jimenez":MAILTO:saj19971@gmail.com
END:VEVENT
BEGIN:VEVENT
DTSTART;TZID=America/New_York:20250503T090000
DTEND;TZID=America/New_York:20250503T140000
DTSTAMP:20260425T073345
CREATED:20250417T121749Z
LAST-MODIFIED:20250417T121749Z
UID:10016014-1746262800-1746280800@epworth.faith
SUMMARY:Plant Sale Event (Parking Lot)
DESCRIPTION:
URL:https://epworth.faith/event/plant-sale-event-parking-lot/
LOCATION:Epworth United Methodist Church\, 19285 Holland Glade Road\, Rehoboth Beach\, DE\, 19971\, United States
CATEGORIES:Church,Neighborhood/Community Groups
ORGANIZER;CN="Susan Jimenez":MAILTO:saj19971@gmail.com
END:VEVENT
BEGIN:VEVENT
DTSTART;TZID=America/New_York:20250503T140000
DTEND;TZID=America/New_York:20250503T180000
DTSTAMP:20260425T073345
CREATED:20241022T201906Z
LAST-MODIFIED:20250416T161346Z
UID:10015108-1746280800-1746295200@epworth.faith
SUMMARY:Mispillion Performance Series - New Orleans Ensemble (Concert - 3:00pm) (Sanctuary & Music Room)
DESCRIPTION:
URL:https://epworth.faith/event/mispillion-performance-series-new-orleans-ensemble-sanctuary-music-room/
LOCATION:Epworth United Methodist Church\, 19285 Holland Glade Road\, Rehoboth Beach\, DE\, 19971\, United States
CATEGORIES:Church,Concerts,Facility Rentals
ORGANIZER;CN="Jody Stein":MAILTO:jodye.stein@gmail.com
END:VEVENT
BEGIN:VEVENT
DTSTART;TZID=America/New_York:20250506T190000
DTEND;TZID=America/New_York:20250506T220000
DTSTAMP:20260425T073345
CREATED:20240604T143123Z
LAST-MODIFIED:20240604T143124Z
UID:10013553-1746558000-1746568800@epworth.faith
SUMMARY:Southern Delaware Chorale Spring Concert Rehearsal (Sanctuary and Music Room)
DESCRIPTION:
URL:https://epworth.faith/event/southern-delaware-chorale-spring-concert-rehearsal-sanctuary-and-music-room/
LOCATION:Epworth United Methodist Church\, 19285 Holland Glade Road\, Rehoboth Beach\, DE\, 19971\, United States
CATEGORIES:Church,Concerts,Facility Rentals
ORGANIZER;CN="Denise Adkins":MAILTO:deniseadkins1959@gmail.com
END:VEVENT
BEGIN:VEVENT
DTSTART;TZID=America/New_York:20250509T180000
DTEND;TZID=America/New_York:20250509T220000
DTSTAMP:20260425T073345
CREATED:20241114T144214Z
LAST-MODIFIED:20250428T190338Z
UID:10015180-1746813600-1746828000@epworth.faith
SUMMARY:Encore Creativity Spring Concert (Concert - 7:00pm-9:00pm)(Sanctuary & Music Room)
DESCRIPTION:
URL:https://epworth.faith/event/encore-creativity-spring-concert-sanctuary/
LOCATION:Epworth United Methodist Church\, 19285 Holland Glade Road\, Rehoboth Beach\, DE\, 19971\, United States
CATEGORIES:Church,Concerts,Facility Rentals
ORGANIZER;CN="Ethan Lolley":MAILTO:ethan.lolley@encorecreativity.org
END:VEVENT
BEGIN:VEVENT
DTSTART;TZID=America/New_York:20250510T133000
DTEND;TZID=America/New_York:20250510T180000
DTSTAMP:20260425T073345
CREATED:20240604T143018Z
LAST-MODIFIED:20250428T195154Z
UID:10013552-1746883800-1746900000@epworth.faith
SUMMARY:Southern Delaware Chorale Spring Concert (Concert 3:00pm-5:00pm) (Sanctuary and Music Room)
DESCRIPTION:
URL:https://epworth.faith/event/southern-delaware-chorale-spring-concert-sanctuary-and-music-room/
LOCATION:Epworth United Methodist Church\, 19285 Holland Glade Road\, Rehoboth Beach\, DE\, 19971\, United States
CATEGORIES:Church,Concerts,Facility Rentals
ORGANIZER;CN="Denise Adkins":MAILTO:deniseadkins1959@gmail.com
END:VEVENT
BEGIN:VEVENT
DTSTART;TZID=America/New_York:20250513T100000
DTEND;TZID=America/New_York:20250513T140000
DTSTAMP:20260425T073345
CREATED:20250317T155504Z
LAST-MODIFIED:20250317T155504Z
UID:10015904-1747130400-1747144800@epworth.faith
SUMMARY:Sussex Tech Spring Concert - Dress Rehearsal (Sanctuary)
DESCRIPTION:
URL:https://epworth.faith/event/sussex-tech-spring-concert-dress-rehearsal-sanctuary/
LOCATION:Epworth United Methodist Church\, 19285 Holland Glade Road\, Rehoboth Beach\, DE\, 19971\, United States
CATEGORIES:Church,Concerts,Facility Rentals
ORGANIZER;CN="Sarah Rose":MAILTO:Sarah.Rose@sussexvt.k12.de.us
END:VEVENT
BEGIN:VEVENT
DTSTART;TZID=America/New_York:20250517T170000
DTEND;TZID=America/New_York:20250517T220000
DTSTAMP:20260425T073345
CREATED:20240409T123022Z
LAST-MODIFIED:20250314T165603Z
UID:10012651-1747501200-1747519200@epworth.faith
SUMMARY:Mid-Atlantic Symphony Orchestra (Concert:  7:00pm-9:00pm) (Sanctuary\, Branford Lounge & Music Room)
DESCRIPTION:
URL:https://epworth.faith/event/mid-atlantic-symphony-orchestra-sanctuary-branford-lounge-music-room-4/
LOCATION:Epworth United Methodist Church\, 19285 Holland Glade Road\, Rehoboth Beach\, DE\, 19971\, United States
CATEGORIES:Church,Concerts,Facility Rentals
ORGANIZER;CN="Dane Krich":MAILTO:dane@midatlanticsymphony.org
END:VEVENT
BEGIN:VEVENT
DTSTART;TZID=America/New_York:20250519T170000
DTEND;TZID=America/New_York:20250519T210000
DTSTAMP:20260425T073345
CREATED:20250312T184336Z
LAST-MODIFIED:20250312T184338Z
UID:10015834-1747674000-1747688400@epworth.faith
SUMMARY:Sussex Tech Spring Concert - 7:00pm to 8:30pm (Sanctuary & Music Room)
DESCRIPTION:
URL:https://epworth.faith/event/sussex-tech-spring-concert-700pm-to-830pm-sanctuary-music-room/
LOCATION:Epworth United Methodist Church\, 19285 Holland Glade Road\, Rehoboth Beach\, DE\, 19971\, United States
CATEGORIES:Church,Concerts,Facility Rentals
ORGANIZER;CN="Sarah Rose":MAILTO:Sarah.Rose@sussexvt.k12.de.us
END:VEVENT
BEGIN:VEVENT
DTSTART;TZID=America/New_York:20250520T130000
DTEND;TZID=America/New_York:20250520T170000
DTSTAMP:20260425T073345
CREATED:20240626T203609Z
LAST-MODIFIED:20240626T203609Z
UID:10013595-1747746000-1747760400@epworth.faith
SUMMARY:Margaret H. Rollins School of Nursing - Rehearsal (Sanctuary & Fellowship Hall)
DESCRIPTION:
URL:https://epworth.faith/event/margaret-h-rollins-school-of-nursing-rehearsal-sanctuary-fellowship-hall/
LOCATION:Epworth United Methodist Church\, 19285 Holland Glade Road\, Rehoboth Beach\, DE\, 19971\, United States
CATEGORIES:Church,Facility Rentals,Neighborhood/Community Groups
END:VEVENT
BEGIN:VEVENT
DTSTART;TZID=America/New_York:20250521T140000
DTEND;TZID=America/New_York:20250521T210000
DTSTAMP:20260425T073345
CREATED:20240626T203718Z
LAST-MODIFIED:20250304T165410Z
UID:10013596-1747836000-1747861200@epworth.faith
SUMMARY:Margaret H. Rollins School of Nursing - Graduation (Sanctuary & Fellowship Hall)
DESCRIPTION:
URL:https://epworth.faith/event/margaret-h-rollins-school-of-nursing-graduation-sanctuary-fellowship-hall/
LOCATION:Epworth United Methodist Church\, 19285 Holland Glade Road\, Rehoboth Beach\, DE\, 19971\, United States
CATEGORIES:Church,Facility Rentals,Neighborhood/Community Groups
END:VEVENT
BEGIN:VEVENT
DTSTART;TZID=America/New_York:20250530T190000
DTEND;TZID=America/New_York:20250530T203000
DTSTAMP:20260425T073345
CREATED:20250325T192303Z
LAST-MODIFIED:20250325T192304Z
UID:10016006-1748631600-1748637000@epworth.faith
SUMMARY:Peace Prayer Vigil (Parking Lot)
DESCRIPTION:
URL:https://epworth.faith/event/peace-prayer-vigil-parking-lot/
LOCATION:Epworth United Methodist Church\, 19285 Holland Glade Road\, Rehoboth Beach\, DE\, 19971\, United States
CATEGORIES:Church,Neighborhood/Community Groups
ORGANIZER;CN="Vicki Gordy-Stith":MAILTO:vgordy-stith@epworth.faith
END:VEVENT
END:VCALENDAR