BEGIN:VCALENDAR
VERSION:2.0
PRODID:-//Epworth UMC - ECPv6.15.20//NONSGML v1.0//EN
CALSCALE:GREGORIAN
METHOD:PUBLISH
X-ORIGINAL-URL:https://epworth.faith
X-WR-CALDESC:Events for Epworth UMC
REFRESH-INTERVAL;VALUE=DURATION:PT1H
X-Robots-Tag:noindex
X-PUBLISHED-TTL:PT1H
BEGIN:VTIMEZONE
TZID:America/New_York
BEGIN:DAYLIGHT
TZOFFSETFROM:-0500
TZOFFSETTO:-0400
TZNAME:EDT
DTSTART:20250309T070000
END:DAYLIGHT
BEGIN:STANDARD
TZOFFSETFROM:-0400
TZOFFSETTO:-0500
TZNAME:EST
DTSTART:20251102T060000
END:STANDARD
BEGIN:DAYLIGHT
TZOFFSETFROM:-0500
TZOFFSETTO:-0400
TZNAME:EDT
DTSTART:20260308T070000
END:DAYLIGHT
BEGIN:STANDARD
TZOFFSETFROM:-0400
TZOFFSETTO:-0500
TZNAME:EST
DTSTART:20261101T060000
END:STANDARD
BEGIN:DAYLIGHT
TZOFFSETFROM:-0500
TZOFFSETTO:-0400
TZNAME:EDT
DTSTART:20270314T070000
END:DAYLIGHT
BEGIN:STANDARD
TZOFFSETFROM:-0400
TZOFFSETTO:-0500
TZNAME:EST
DTSTART:20271107T060000
END:STANDARD
END:VTIMEZONE
BEGIN:VEVENT
DTSTART;TZID=America/New_York:20260502T110000
DTEND;TZID=America/New_York:20260502T130000
DTSTAMP:20260423T152708
CREATED:20260331T130734Z
LAST-MODIFIED:20260416T205627Z
UID:10022170-1777719600-1777726800@epworth.faith
SUMMARY:AccentCare Hospice Celebration of Life (Sanctuary)
DESCRIPTION:
URL:https://epworth.faith/event/celebration-of-life-for-those-who-departed-sanctuary/
LOCATION:Epworth United Methodist Church\, 19285 Holland Glade Road\, Rehoboth Beach\, DE\, 19971\, United States
CATEGORIES:Church,Facility Rentals,Worship - Ecumenical
ORGANIZER;CN="Vicki Gordy-Stith":MAILTO:vgordy-stith@epworth.faith
END:VEVENT
BEGIN:VEVENT
DTSTART;TZID=America/New_York:20260504T120000
DTEND;TZID=America/New_York:20260504T143000
DTSTAMP:20260423T152708
CREATED:20260420T162155Z
LAST-MODIFIED:20260420T162155Z
UID:10022202-1777896000-1777905000@epworth.faith
SUMMARY:Seascape Property Mgmt. Lifestyle Meeting (Fellowship Hall)
DESCRIPTION:
URL:https://epworth.faith/event/seascape-property-mgmt-lifestyle-meeting-fellowship-hall/
LOCATION:Epworth United Methodist Church\, 19285 Holland Glade Road\, Rehoboth Beach\, DE\, 19971\, United States
CATEGORIES:Church,Facility Rentals,Neighborhood/Community Groups
ORGANIZER;CN="Doug Nichols":MAILTO:dnichols@seascapepm.com
END:VEVENT
BEGIN:VEVENT
DTSTART;TZID=America/New_York:20260508T190000
DTEND;TZID=America/New_York:20260508T210000
DTSTAMP:20260423T152708
CREATED:20251106T170057Z
LAST-MODIFIED:20251106T170104Z
UID:10020837-1778266800-1778274000@epworth.faith
SUMMARY:Encore Creativity Concert (Sanctuary)
DESCRIPTION:
URL:https://epworth.faith/event/encore-creativity-concert-sanctuary/
LOCATION:Epworth United Methodist Church\, 19285 Holland Glade Road\, Rehoboth Beach\, DE\, 19971\, United States
CATEGORIES:Church,Concerts,Facility Rentals
ORGANIZER;CN="Ethan Lolley":MAILTO:ethan.lolley@encorecreativity.org
END:VEVENT
BEGIN:VEVENT
DTSTART;TZID=America/New_York:20260515T093000
DTEND;TZID=America/New_York:20260515T140000
DTSTAMP:20260423T152708
CREATED:20260420T210429Z
LAST-MODIFIED:20260420T210429Z
UID:10022203-1778837400-1778853600@epworth.faith
SUMMARY:Sussex Tech Spring Concert Dress Rehearsal (Sanctuary)
DESCRIPTION:
URL:https://epworth.faith/event/sussex-tech-spring-concert-dress-rehearsal-sanctuary-2/
LOCATION:Epworth United Methodist Church\, 19285 Holland Glade Road\, Rehoboth Beach\, DE\, 19971\, United States
CATEGORIES:Church,Concerts,Facility Rentals
ORGANIZER;CN="Sarah Rose":MAILTO:Sarah.Rose@sussexvt.k12.de.us
END:VEVENT
BEGIN:VEVENT
DTSTART;TZID=America/New_York:20260516T123000
DTEND;TZID=America/New_York:20260516T180000
DTSTAMP:20260423T152708
CREATED:20250410T154949Z
LAST-MODIFIED:20250410T154952Z
UID:10016012-1778934600-1778954400@epworth.faith
SUMMARY:Mid-Atlantic Symphony Orchestra (Concert Time 3:00pm-5:00pm) (Sanctuary\, Music Room & Branford Room)
DESCRIPTION:
URL:https://epworth.faith/event/mid-atlantic-symphony-orchestra-concert-time-300pm-500pm-sanctuary-music-room-branford-room-2/
LOCATION:Epworth United Methodist Church\, 19285 Holland Glade Road\, Rehoboth Beach\, DE\, 19971\, United States
CATEGORIES:Church,Concerts,Facility Rentals
ORGANIZER;CN="Dane Krich":MAILTO:dane@midatlanticsymphony.org
END:VEVENT
BEGIN:VEVENT
DTSTART;TZID=America/New_York:20260518T190000
DTEND;TZID=America/New_York:20260518T203000
DTSTAMP:20260423T152708
CREATED:20260209T171243Z
LAST-MODIFIED:20260209T171244Z
UID:10021211-1779130800-1779136200@epworth.faith
SUMMARY:Sussex Tech Spring Concert (Sanctuary & Music Room)
DESCRIPTION:
URL:https://epworth.faith/event/sussex-tech-spring-concert-sanctuary-music-room/
LOCATION:Epworth United Methodist Church\, 19285 Holland Glade Road\, Rehoboth Beach\, DE\, 19971\, United States
CATEGORIES:Church,Concerts,Facility Rentals
ORGANIZER;CN="Sarah Rose":MAILTO:Sarah.Rose@sussexvt.k12.de.us
END:VEVENT
BEGIN:VEVENT
DTSTART;TZID=America/New_York:20260519T130000
DTEND;TZID=America/New_York:20260519T170000
DTSTAMP:20260423T152708
CREATED:20250609T164240Z
LAST-MODIFIED:20250609T164240Z
UID:10016815-1779195600-1779210000@epworth.faith
SUMMARY:Margaret H. Rollins School of Nursing Graduation Rehearsal (Sanctuary)
DESCRIPTION:
URL:https://epworth.faith/event/margaret-h-rollins-school-of-nursing-graduation-rehearsal-sanctuary/
LOCATION:Epworth United Methodist Church\, 19285 Holland Glade Road\, Rehoboth Beach\, DE\, 19971\, United States
CATEGORIES:Church,Neighborhood/Community Groups
END:VEVENT
BEGIN:VEVENT
DTSTART;TZID=America/New_York:20260520T140000
DTEND;TZID=America/New_York:20260520T210000
DTSTAMP:20260423T152708
CREATED:20250609T164434Z
LAST-MODIFIED:20250609T164434Z
UID:10016816-1779285600-1779310800@epworth.faith
SUMMARY:Margaret H. Rollins School of Nursing Graduation (Sanctuary & Fellowship Hall)
DESCRIPTION:
URL:https://epworth.faith/event/margaret-h-rollins-school-of-nursing-graduation-sanctuary-fellowship-hall-2/
LOCATION:Epworth United Methodist Church\, 19285 Holland Glade Road\, Rehoboth Beach\, DE\, 19971\, United States
CATEGORIES:Church,Neighborhood/Community Groups
END:VEVENT
END:VCALENDAR