BEGIN:VCALENDAR
VERSION:2.0
PRODID:-//Epworth UMC - ECPv6.15.20//NONSGML v1.0//EN
CALSCALE:GREGORIAN
METHOD:PUBLISH
X-WR-CALNAME:Epworth UMC
X-ORIGINAL-URL:https://epworth.faith
X-WR-CALDESC:Events for Epworth UMC
REFRESH-INTERVAL;VALUE=DURATION:PT1H
X-Robots-Tag:noindex
X-PUBLISHED-TTL:PT1H
BEGIN:VTIMEZONE
TZID:America/New_York
BEGIN:DAYLIGHT
TZOFFSETFROM:-0500
TZOFFSETTO:-0400
TZNAME:EDT
DTSTART:20250309T070000
END:DAYLIGHT
BEGIN:STANDARD
TZOFFSETFROM:-0400
TZOFFSETTO:-0500
TZNAME:EST
DTSTART:20251102T060000
END:STANDARD
BEGIN:DAYLIGHT
TZOFFSETFROM:-0500
TZOFFSETTO:-0400
TZNAME:EDT
DTSTART:20260308T070000
END:DAYLIGHT
BEGIN:STANDARD
TZOFFSETFROM:-0400
TZOFFSETTO:-0500
TZNAME:EST
DTSTART:20261101T060000
END:STANDARD
BEGIN:DAYLIGHT
TZOFFSETFROM:-0500
TZOFFSETTO:-0400
TZNAME:EDT
DTSTART:20270314T070000
END:DAYLIGHT
BEGIN:STANDARD
TZOFFSETFROM:-0400
TZOFFSETTO:-0500
TZNAME:EST
DTSTART:20271107T060000
END:STANDARD
END:VTIMEZONE
BEGIN:VEVENT
DTSTART;TZID=America/New_York:20260608T183000
DTEND;TZID=America/New_York:20260608T203000
DTSTAMP:20260423T185022
CREATED:20260203T211643Z
LAST-MODIFIED:20260203T211643Z
UID:10021104-1780943400-1780950600@epworth.faith
SUMMARY:Camp Rehoboth Chorus Concert Rehearsal (Sanctuary & Music Room)
DESCRIPTION:
URL:https://epworth.faith/event/camp-rehoboth-chorus-concert-rehearsal-sanctuary-music-room/
LOCATION:Epworth United Methodist Church\, 19285 Holland Glade Road\, Rehoboth Beach\, DE\, 19971\, United States
CATEGORIES:Church,Concerts,Facility Rentals,Groups
ORGANIZER;CN="David Scuccimarra":MAILTO:Scuch@aol.com
END:VEVENT
BEGIN:VEVENT
DTSTART;TZID=America/New_York:20260615T183000
DTEND;TZID=America/New_York:20260615T203000
DTSTAMP:20260423T185022
CREATED:20260108T211831Z
LAST-MODIFIED:20260108T211831Z
UID:10020969-1781548200-1781555400@epworth.faith
SUMMARY:Camp Rehoboth Chorus Rehearsal (Sanctuary & Music Room)
DESCRIPTION:
URL:https://epworth.faith/event/camp-rehoboth-chorus-rehearsal-sanctuary-music-room/
LOCATION:Epworth United Methodist Church\, 19285 Holland Glade Road\, Rehoboth Beach\, DE\, 19971\, United States
CATEGORIES:Church,Concerts,Facility Rentals
ORGANIZER;CN="David Scuccimarra":MAILTO:Scuch@aol.com
END:VEVENT
BEGIN:VEVENT
DTSTART;TZID=America/New_York:20260619T190000
DTEND;TZID=America/New_York:20260619T210000
DTSTAMP:20260423T185022
CREATED:20260108T211439Z
LAST-MODIFIED:20260115T200503Z
UID:10020966-1781895600-1781902800@epworth.faith
SUMMARY:Camp Rehoboth Chorus Concert - "I Hear America Singing" (Sanctuary & Music Room)
DESCRIPTION:
URL:https://epworth.faith/event/camp-rehoboth-chorus-concert-sanctuary-music-room-12/
LOCATION:Epworth United Methodist Church\, 19285 Holland Glade Road\, Rehoboth Beach\, DE\, 19971\, United States
CATEGORIES:Church,Concerts,Facility Rentals
ORGANIZER;CN="David Scuccimarra":MAILTO:Scuch@aol.com
END:VEVENT
BEGIN:VEVENT
DTSTART;TZID=America/New_York:20260620T190000
DTEND;TZID=America/New_York:20260620T210000
DTSTAMP:20260423T185022
CREATED:20260108T211507Z
LAST-MODIFIED:20260115T200411Z
UID:10020967-1781982000-1781989200@epworth.faith
SUMMARY:Camp Rehoboth Chorus Concert - "I Hear America Singing" (Sanctuary & Music Room)
DESCRIPTION:
URL:https://epworth.faith/event/camp-rehoboth-chorus-concert-sanctuary-music-room-13/
LOCATION:Epworth United Methodist Church\, 19285 Holland Glade Road\, Rehoboth Beach\, DE\, 19971\, United States
CATEGORIES:Church,Concerts,Facility Rentals
ORGANIZER;CN="David Scuccimarra":MAILTO:Scuch@aol.com
END:VEVENT
BEGIN:VEVENT
DTSTART;TZID=America/New_York:20260621T150000
DTEND;TZID=America/New_York:20260621T170000
DTSTAMP:20260423T185022
CREATED:20260108T211555Z
LAST-MODIFIED:20260115T200338Z
UID:10020968-1782054000-1782061200@epworth.faith
SUMMARY:Camp Rehoboth Chorus Concert - "I Hear America Singing" (Sanctuary & Music Room)
DESCRIPTION:
URL:https://epworth.faith/event/camp-rehoboth-chorus-concert-sanctuary-music-room-14/
LOCATION:Epworth United Methodist Church\, 19285 Holland Glade Road\, Rehoboth Beach\, DE\, 19971\, United States
CATEGORIES:Church,Concerts,Facility Rentals
ORGANIZER;CN="David Scuccimarra":MAILTO:Scuch@aol.com
END:VEVENT
BEGIN:VEVENT
DTSTART;TZID=America/New_York:20260627T170000
DTEND;TZID=America/New_York:20260627T190000
DTSTAMP:20260423T185022
CREATED:20260226T160257Z
LAST-MODIFIED:20260226T160258Z
UID:10021697-1782579600-1782586800@epworth.faith
SUMMARY:Gay Women of Rehoboth Concert (Sanctuary & Music Room)
DESCRIPTION:
URL:https://epworth.faith/event/gay-women-of-rehoboth-concert-sanctuary-music-room/
LOCATION:Epworth United Methodist Church\, 19285 Holland Glade Road\, Rehoboth Beach\, DE\, 19971\, United States
CATEGORIES:Church,Concerts,Facility Rentals
ORGANIZER;CN="Lisa Soens":MAILTO:lsoens@earthlink.net
END:VEVENT
BEGIN:VEVENT
DTSTART;TZID=America/New_York:20260629T130000
DTEND;TZID=America/New_York:20260629T230000
DTSTAMP:20260423T185022
CREATED:20260212T143116Z
LAST-MODIFIED:20260212T143119Z
UID:10021224-1782738000-1782774000@epworth.faith
SUMMARY:Raleigh Ringers Handbell Ensemble (Sanctuary\, Fellowship Hall\, Music Room & Youth Room)
DESCRIPTION:
URL:https://epworth.faith/event/raleigh-ringers-handbell-ensemble-sanctuary-fellowship-hall-music-room-youth-room/
LOCATION:Epworth United Methodist Church\, 19285 Holland Glade Road\, Rehoboth Beach\, DE\, 19971\, United States
CATEGORIES:Church,Concerts,Facility Rentals
ORGANIZER;CN="Christine Fox-Roberts":MAILTO:christine.fox.roberts@gmail.com
END:VEVENT
END:VCALENDAR