BEGIN:VCALENDAR
VERSION:2.0
PRODID:-//Epworth UMC - ECPv6.15.20//NONSGML v1.0//EN
CALSCALE:GREGORIAN
METHOD:PUBLISH
X-WR-CALNAME:Epworth UMC
X-ORIGINAL-URL:https://epworth.faith
X-WR-CALDESC:Events for Epworth UMC
REFRESH-INTERVAL;VALUE=DURATION:PT1H
X-Robots-Tag:noindex
X-PUBLISHED-TTL:PT1H
BEGIN:VTIMEZONE
TZID:America/New_York
BEGIN:DAYLIGHT
TZOFFSETFROM:-0500
TZOFFSETTO:-0400
TZNAME:EDT
DTSTART:20250309T070000
END:DAYLIGHT
BEGIN:STANDARD
TZOFFSETFROM:-0400
TZOFFSETTO:-0500
TZNAME:EST
DTSTART:20251102T060000
END:STANDARD
BEGIN:DAYLIGHT
TZOFFSETFROM:-0500
TZOFFSETTO:-0400
TZNAME:EDT
DTSTART:20260308T070000
END:DAYLIGHT
BEGIN:STANDARD
TZOFFSETFROM:-0400
TZOFFSETTO:-0500
TZNAME:EST
DTSTART:20261101T060000
END:STANDARD
BEGIN:DAYLIGHT
TZOFFSETFROM:-0500
TZOFFSETTO:-0400
TZNAME:EDT
DTSTART:20270314T070000
END:DAYLIGHT
BEGIN:STANDARD
TZOFFSETFROM:-0400
TZOFFSETTO:-0500
TZNAME:EST
DTSTART:20271107T060000
END:STANDARD
END:VTIMEZONE
BEGIN:VEVENT
DTSTART;TZID=America/New_York:20260913T150000
DTEND;TZID=America/New_York:20260913T170000
DTSTAMP:20260424T033214
CREATED:20260323T173850Z
LAST-MODIFIED:20260323T173852Z
UID:10022166-1789311600-1789318800@epworth.faith
SUMMARY:Gay Women of Rehoboth Concert (Sanctuary & Music Room)
DESCRIPTION:
URL:https://epworth.faith/event/gay-women-of-rehoboth-concert-sanctuary-music-room-2/
LOCATION:Epworth United Methodist Church\, 19285 Holland Glade Road\, Rehoboth Beach\, DE\, 19971\, United States
CATEGORIES:Church,Concerts,Facility Rentals
ORGANIZER;CN="Lisa Soens":MAILTO:lsoens@earthlink.net
END:VEVENT
BEGIN:VEVENT
DTSTART;TZID=America/New_York:20260914T183000
DTEND;TZID=America/New_York:20260914T203000
DTSTAMP:20260424T033214
CREATED:20260203T212019Z
LAST-MODIFIED:20260203T212019Z
UID:10021105-1789410600-1789417800@epworth.faith
SUMMARY:Camp Rehoboth Chorus Concert Rehearsal (Sanctuary & Music Room)
DESCRIPTION:
URL:https://epworth.faith/event/camp-rehoboth-chorus-concert-rehearsal-sanctuary-music-room-2/
LOCATION:Epworth United Methodist Church\, 19285 Holland Glade Road\, Rehoboth Beach\, DE\, 19971\, United States
CATEGORIES:Church,Concerts,Facility Rentals
ORGANIZER;CN="David Scuccimarra":MAILTO:Scuch@aol.com
END:VEVENT
BEGIN:VEVENT
DTSTART;TZID=America/New_York:20260922T183000
DTEND;TZID=America/New_York:20260922T203000
DTSTAMP:20260424T033214
CREATED:20260112T154103Z
LAST-MODIFIED:20260112T154103Z
UID:10020975-1790101800-1790109000@epworth.faith
SUMMARY:Camp Rehoboth Chorus Rehearsal (Sanctuary & Music Room)
DESCRIPTION:
URL:https://epworth.faith/event/camp-rehoboth-chorus-rehearsal-sanctuary-music-room-2/
LOCATION:Epworth United Methodist Church\, 19285 Holland Glade Road\, Rehoboth Beach\, DE\, 19971\, United States
CATEGORIES:Church,Concerts,Facility Rentals
ORGANIZER;CN="David Scuccimarra":MAILTO:Scuch@aol.com
END:VEVENT
BEGIN:VEVENT
DTSTART;TZID=America/New_York:20260925T190000
DTEND;TZID=America/New_York:20260925T210000
DTSTAMP:20260424T033214
CREATED:20260108T212959Z
LAST-MODIFIED:20260115T200722Z
UID:10020970-1790362800-1790370000@epworth.faith
SUMMARY:Camp Rehoboth Chorus Concert - "100 Years of Broadway" (Sanctuary & Music Room)
DESCRIPTION:
URL:https://epworth.faith/event/camp-rehoboth-chorus-concert-sanctuary-music-room-15/
LOCATION:Epworth United Methodist Church\, 19285 Holland Glade Road\, Rehoboth Beach\, DE\, 19971\, United States
CATEGORIES:Church,Concerts,Facility Rentals
ORGANIZER;CN="David Scuccimarra":MAILTO:Scuch@aol.com
END:VEVENT
BEGIN:VEVENT
DTSTART;TZID=America/New_York:20260926T190000
DTEND;TZID=America/New_York:20260926T210000
DTSTAMP:20260424T033214
CREATED:20260108T213039Z
LAST-MODIFIED:20260115T200823Z
UID:10020971-1790449200-1790456400@epworth.faith
SUMMARY:Camp Rehoboth Chorus Concert - "100 Years of Broadway" (Sanctuary & Music Room)
DESCRIPTION:
URL:https://epworth.faith/event/camp-rehoboth-chorus-concert-sanctuary-music-room-16/
LOCATION:Epworth United Methodist Church\, 19285 Holland Glade Road\, Rehoboth Beach\, DE\, 19971\, United States
CATEGORIES:Church,Concerts,Facility Rentals
ORGANIZER;CN="David Scuccimarra":MAILTO:Scuch@aol.com
END:VEVENT
BEGIN:VEVENT
DTSTART;TZID=America/New_York:20260927T150000
DTEND;TZID=America/New_York:20260927T170000
DTSTAMP:20260424T033214
CREATED:20260108T213234Z
LAST-MODIFIED:20260115T200929Z
UID:10020972-1790521200-1790528400@epworth.faith
SUMMARY:Camp Rehoboth Chorus Concert - "100 Years of Broadway" (Sanctuary & Music Room)
DESCRIPTION:
URL:https://epworth.faith/event/camp-rehoboth-chorus-concert-sanctuary-music-room-17/
LOCATION:Epworth United Methodist Church\, 19285 Holland Glade Road\, Rehoboth Beach\, DE\, 19971\, United States
CATEGORIES:Church,Concerts,Facility Rentals
ORGANIZER;CN="David Scuccimarra":MAILTO:Scuch@aol.com
END:VEVENT
END:VCALENDAR