BEGIN:VCALENDAR
VERSION:2.0
PRODID:-//Epworth UMC - ECPv6.15.20//NONSGML v1.0//EN
CALSCALE:GREGORIAN
METHOD:PUBLISH
X-WR-CALNAME:Epworth UMC
X-ORIGINAL-URL:https://epworth.faith
X-WR-CALDESC:Events for Epworth UMC
REFRESH-INTERVAL;VALUE=DURATION:PT1H
X-Robots-Tag:noindex
X-PUBLISHED-TTL:PT1H
BEGIN:VTIMEZONE
TZID:America/New_York
BEGIN:DAYLIGHT
TZOFFSETFROM:-0500
TZOFFSETTO:-0400
TZNAME:EDT
DTSTART:20210314T070000
END:DAYLIGHT
BEGIN:STANDARD
TZOFFSETFROM:-0400
TZOFFSETTO:-0500
TZNAME:EST
DTSTART:20211107T060000
END:STANDARD
BEGIN:DAYLIGHT
TZOFFSETFROM:-0500
TZOFFSETTO:-0400
TZNAME:EDT
DTSTART:20220313T070000
END:DAYLIGHT
BEGIN:STANDARD
TZOFFSETFROM:-0400
TZOFFSETTO:-0500
TZNAME:EST
DTSTART:20221106T060000
END:STANDARD
BEGIN:DAYLIGHT
TZOFFSETFROM:-0500
TZOFFSETTO:-0400
TZNAME:EDT
DTSTART:20230312T070000
END:DAYLIGHT
BEGIN:STANDARD
TZOFFSETFROM:-0400
TZOFFSETTO:-0500
TZNAME:EST
DTSTART:20231105T060000
END:STANDARD
BEGIN:DAYLIGHT
TZOFFSETFROM:-0500
TZOFFSETTO:-0400
TZNAME:EDT
DTSTART:20240310T070000
END:DAYLIGHT
BEGIN:STANDARD
TZOFFSETFROM:-0400
TZOFFSETTO:-0500
TZNAME:EST
DTSTART:20241103T060000
END:STANDARD
END:VTIMEZONE
BEGIN:VEVENT
DTSTART;TZID=America/New_York:20230612T180000
DTEND;TZID=America/New_York:20230612T220000
DTSTAMP:20260425T153332
CREATED:20220811T160607Z
LAST-MODIFIED:20220811T160607Z
UID:10006835-1686592800-1686607200@epworth.faith
SUMMARY:CAMP Rehoboth Chorus Rehearsal
DESCRIPTION:
URL:https://epworth.faith/event/camp-rehoboth-chorus-rehearsal/2023-06-12/
LOCATION:Epworth United Methodist Church\, 19285 Holland Glade Road\, Rehoboth Beach\, DE\, 19971\, United States
CATEGORIES:Concerts
ORGANIZER;CN="David Scuccimarra":MAILTO:Scuch@aol.com
END:VEVENT
BEGIN:VEVENT
DTSTART;TZID=America/New_York:20230517T190000
DTEND;TZID=America/New_York:20230517T210000
DTSTAMP:20260425T153332
CREATED:20230209T161301Z
LAST-MODIFIED:20230209T161301Z
UID:10008067-1684350000-1684357200@epworth.faith
SUMMARY:Sussex Tech High School Concert (Sanctuary & Fellowship Hall)
DESCRIPTION:
URL:https://epworth.faith/event/sussex-tech-high-school-concert-sanctuary-fellowship-hall-2/
LOCATION:Epworth United Methodist Church\, 19285 Holland Glade Road\, Rehoboth Beach\, DE\, 19971\, United States
CATEGORIES:Concerts
ORGANIZER;CN="Sarah Rose":MAILTO:Sarah.Rose@sussexvt.k12.de.us
END:VEVENT
BEGIN:VEVENT
DTSTART;TZID=America/New_York:20230515T103000
DTEND;TZID=America/New_York:20230515T143000
DTSTAMP:20260425T153332
CREATED:20230209T161148Z
LAST-MODIFIED:20230209T161148Z
UID:10008066-1684146600-1684161000@epworth.faith
SUMMARY:Sussex Tech High School Concert Rehearsal (Sanctuary & Fellowship Hall)
DESCRIPTION:
URL:https://epworth.faith/event/sussex-tech-high-school-concert-rehearsal-sanctuary-fellowship-hall/
LOCATION:Epworth United Methodist Church\, 19285 Holland Glade Road\, Rehoboth Beach\, DE\, 19971\, United States
CATEGORIES:Concerts
ORGANIZER;CN="Sarah Rose":MAILTO:Sarah.Rose@sussexvt.k12.de.us
END:VEVENT
BEGIN:VEVENT
DTSTART;TZID=America/New_York:20230512T190000
DTEND;TZID=America/New_York:20230512T210000
DTSTAMP:20260425T153332
CREATED:20220303T155435Z
LAST-MODIFIED:20220622T163853Z
UID:10006179-1683918000-1683925200@epworth.faith
SUMMARY:Mid-Atlantic Symphony Orchestra (Sanctuary\, Branford & Music Rooms)
DESCRIPTION:Mid-Atlantic Symphony Orchestra will be performing tonight at 7:00 (doors open at 6)\nTickets are $35 and may be purchased here.\nMusicians will arrive at 5:00 p.m. to warm up.
URL:https://epworth.faith/event/mid-atlantic-symphony-orchestra-sanctuary-branford-music-rooms/
LOCATION:Epworth United Methodist Church\, 19285 Holland Glade Road\, Rehoboth Beach\, DE\, 19971\, United States
CATEGORIES:Concerts
ORGANIZER;CN="Dane Krich":MAILTO:dane@midatlanticsymphony.org
END:VEVENT
BEGIN:VEVENT
DTSTART;TZID=America/New_York:20230430T150000
DTEND;TZID=America/New_York:20230430T170000
DTSTAMP:20260425T153332
CREATED:20220623T162626Z
LAST-MODIFIED:20220623T162626Z
UID:10006794-1682866800-1682874000@epworth.faith
SUMMARY:Southern Delaware Chorale Society Concert (Sanctuary & Music Room)
DESCRIPTION:
URL:https://epworth.faith/event/southern-delaware-chorale-society-concert-sanctuary-music-room/2023-04-30/
LOCATION:Epworth United Methodist Church\, 19285 Holland Glade Road\, Rehoboth Beach\, DE\, 19971\, United States
CATEGORIES:Concerts
ORGANIZER;CN="Colin Armstrong":MAILTO:delawarecanuck@gmail.com
END:VEVENT
BEGIN:VEVENT
DTSTART;TZID=America/New_York:20230428T190000
DTEND;TZID=America/New_York:20230428T220000
DTSTAMP:20260425T153332
CREATED:20220623T162813Z
LAST-MODIFIED:20220623T162813Z
UID:10006796-1682708400-1682719200@epworth.faith
SUMMARY:Southern Delaware Chorale Society Rehearsal (Sanctuary & Music Room)
DESCRIPTION:
URL:https://epworth.faith/event/southern-delaware-chorale-society-rehearsal-sanctuary-music-room/2023-04-28/
LOCATION:Epworth United Methodist Church\, 19285 Holland Glade Road\, Rehoboth Beach\, DE\, 19971\, United States
CATEGORIES:Concerts
ORGANIZER;CN="Colin Armstrong":MAILTO:delawarecanuck@gmail.com
END:VEVENT
BEGIN:VEVENT
DTSTART;TZID=America/New_York:20230422T150000
DTEND;TZID=America/New_York:20230422T170000
DTSTAMP:20260425T153332
CREATED:20221013T145623Z
LAST-MODIFIED:20221013T145623Z
UID:10006165-1682175600-1682182800@epworth.faith
SUMMARY:Bobby Jasinski Big Band (Sanctuary & Music Room)
DESCRIPTION:Come join us for this free Big Band concert sponsored by Mispillion Performance Series.
URL:https://epworth.faith/event/bobby-jasinski-big-band-sanctuary-music-room/
LOCATION:Epworth United Methodist Church\, 19285 Holland Glade Road\, Rehoboth Beach\, DE\, 19971\, United States
CATEGORIES:Concerts
ORGANIZER;CN="Jody Stein":MAILTO:jodye.stein@gmail.com
END:VEVENT
BEGIN:VEVENT
DTSTART;TZID=America/New_York:20230319T150000
DTEND;TZID=America/New_York:20230319T170000
DTSTAMP:20260425T153332
CREATED:20220818T145347Z
LAST-MODIFIED:20220818T145347Z
UID:10005920-1679238000-1679245200@epworth.faith
SUMMARY:Rehoboth Concert Band-Fund raiser for Cape Henlopen Senior Center (Sanctuary)
DESCRIPTION:Rehoboth Concert Band will arrive at 1:00 to set up and practice.  Please come and help support the Cape Henlopen Senior Center.
URL:https://epworth.faith/event/rehoboth-concert-band-fund-raiser-for-cape-henlopen-senior-center-sanctuary/
LOCATION:Epworth United Methodist Church\, 19285 Holland Glade Road\, Rehoboth Beach\, DE\, 19971\, United States
CATEGORIES:Concerts
ORGANIZER;CN="Bernita Hakney":MAILTO:nitachsc@aol.com
END:VEVENT
BEGIN:VEVENT
DTSTART;TZID=America/New_York:20230311T150000
DTEND;TZID=America/New_York:20230311T170000
DTSTAMP:20260425T153332
CREATED:20220303T162457Z
LAST-MODIFIED:20220303T162457Z
UID:10006181-1678546800-1678554000@epworth.faith
SUMMARY:Mid-Atlantic Symphony Orchestra (Sanctuary\, Music & Branford)
DESCRIPTION:Mid-Atlantic Symphony Orchestra will be performing today and will arrive at 1:00 to warm up.
URL:https://epworth.faith/event/mid-atlantic-symphony-orchestra-sanctuary-music-branford/2023-03-11/
LOCATION:Epworth United Methodist Church\, 19285 Holland Glade Road\, Rehoboth Beach\, DE\, 19971\, United States
CATEGORIES:Concerts
ORGANIZER;CN="Dane Krich":MAILTO:dane@midatlanticsymphony.org
END:VEVENT
BEGIN:VEVENT
DTSTART;TZID=America/New_York:20230226T150000
DTEND;TZID=America/New_York:20230226T170000
DTSTAMP:20260425T153332
CREATED:20220817T201230Z
LAST-MODIFIED:20220817T201421Z
UID:10005916-1677423600-1677430800@epworth.faith
SUMMARY:Southern Delaware Chorale Society Concert (Sanctuary & Music Room)
DESCRIPTION:
URL:https://epworth.faith/event/southern-delaware-chorale-society-concert-sanctuary/
LOCATION:Epworth United Methodist Church\, 19285 Holland Glade Road\, Rehoboth Beach\, DE\, 19971\, United States
CATEGORIES:Concerts
ORGANIZER;CN="Colin Armstrong":MAILTO:delawarecanuck@gmail.com
END:VEVENT
BEGIN:VEVENT
DTSTART;TZID=America/New_York:20230224T180000
DTEND;TZID=America/New_York:20230224T220000
DTSTAMP:20260425T153332
CREATED:20220817T201332Z
LAST-MODIFIED:20220817T201332Z
UID:10005919-1677261600-1677276000@epworth.faith
SUMMARY:Southern Delaware Chorale Rehearsal (Sanctuary & Music Room)
DESCRIPTION:
URL:https://epworth.faith/event/southern-delaware-chorale-rehearsal-sanctuary-music-room/
LOCATION:Epworth United Methodist Church\, 19285 Holland Glade Road\, Rehoboth Beach\, DE\, 19971\, United States
CATEGORIES:Concerts
ORGANIZER;CN="Colin Armstrong":MAILTO:delawarecanuck@gmail.com
END:VEVENT
BEGIN:VEVENT
DTSTART;TZID=America/New_York:20230219T150000
DTEND;TZID=America/New_York:20230219T170000
DTSTAMP:20260425T153332
CREATED:20220614T155515Z
LAST-MODIFIED:20220614T155908Z
UID:10006631-1676818800-1676826000@epworth.faith
SUMMARY:CAMP Rehoboth Chorus (Sanctuary)
DESCRIPTION:
URL:https://epworth.faith/event/camp-rehoboth-chorus-sanctuary-4/
LOCATION:Epworth United Methodist Church\, 19285 Holland Glade Road\, Rehoboth Beach\, DE\, 19971\, United States
CATEGORIES:Concerts
ORGANIZER;CN="David Scuccimarra":MAILTO:Scuch@aol.com
END:VEVENT
BEGIN:VEVENT
DTSTART;TZID=America/New_York:20230219T130000
DTEND;TZID=America/New_York:20230219T180000
DTSTAMP:20260425T153332
CREATED:20220614T155717Z
LAST-MODIFIED:20220614T155717Z
UID:10006635-1676811600-1676829600@epworth.faith
SUMMARY:CAMP Chorus Holding Room (Music Room)
DESCRIPTION:
URL:https://epworth.faith/event/camp-chorus-holding-room-music-room-2/
LOCATION:Epworth United Methodist Church\, 19285 Holland Glade Road\, Rehoboth Beach\, DE\, 19971\, United States
CATEGORIES:Concerts
ORGANIZER;CN="David Scuccimarra":MAILTO:Scuch@aol.com
END:VEVENT
BEGIN:VEVENT
DTSTART;TZID=America/New_York:20230218T190000
DTEND;TZID=America/New_York:20230218T210000
DTSTAMP:20260425T153332
CREATED:20220614T155417Z
LAST-MODIFIED:20220614T155835Z
UID:10006630-1676746800-1676754000@epworth.faith
SUMMARY:CAMP Rehoboth Chorus (Sanctuary)
DESCRIPTION:
URL:https://epworth.faith/event/camp-rehoboth-chorus-sanctuary-3/2023-02-18/
LOCATION:Epworth United Methodist Church\, 19285 Holland Glade Road\, Rehoboth Beach\, DE\, 19971\, United States
CATEGORIES:Concerts
ORGANIZER;CN="David Scuccimarra":MAILTO:Scuch@aol.com
END:VEVENT
BEGIN:VEVENT
DTSTART;TZID=America/New_York:20230218T180000
DTEND;TZID=America/New_York:20230218T220000
DTSTAMP:20260425T153332
CREATED:20220614T155624Z
LAST-MODIFIED:20220614T155801Z
UID:10006633-1676743200-1676757600@epworth.faith
SUMMARY:CAMP Chorus Holding Room (Music Room)
DESCRIPTION:
URL:https://epworth.faith/event/camp-chorus-holding-room-music-room/2023-02-18/
LOCATION:Epworth United Methodist Church\, 19285 Holland Glade Road\, Rehoboth Beach\, DE\, 19971\, United States
CATEGORIES:Concerts
ORGANIZER;CN="David Scuccimarra":MAILTO:Scuch@aol.com
END:VEVENT
BEGIN:VEVENT
DTSTART;TZID=America/New_York:20230217T190000
DTEND;TZID=America/New_York:20230217T210000
DTSTAMP:20260425T153332
CREATED:20220614T155417Z
LAST-MODIFIED:20220614T155835Z
UID:10006629-1676660400-1676667600@epworth.faith
SUMMARY:CAMP Rehoboth Chorus (Sanctuary)
DESCRIPTION:
URL:https://epworth.faith/event/camp-rehoboth-chorus-sanctuary-3/2023-02-17/
LOCATION:Epworth United Methodist Church\, 19285 Holland Glade Road\, Rehoboth Beach\, DE\, 19971\, United States
CATEGORIES:Concerts
ORGANIZER;CN="David Scuccimarra":MAILTO:Scuch@aol.com
END:VEVENT
BEGIN:VEVENT
DTSTART;TZID=America/New_York:20230217T180000
DTEND;TZID=America/New_York:20230217T220000
DTSTAMP:20260425T153332
CREATED:20220614T155624Z
LAST-MODIFIED:20220614T155801Z
UID:10006632-1676656800-1676671200@epworth.faith
SUMMARY:CAMP Chorus Holding Room (Music Room)
DESCRIPTION:
URL:https://epworth.faith/event/camp-chorus-holding-room-music-room/2023-02-17/
LOCATION:Epworth United Methodist Church\, 19285 Holland Glade Road\, Rehoboth Beach\, DE\, 19971\, United States
CATEGORIES:Concerts
ORGANIZER;CN="David Scuccimarra":MAILTO:Scuch@aol.com
END:VEVENT
BEGIN:VEVENT
DTSTART;TZID=America/New_York:20230211T150000
DTEND;TZID=America/New_York:20230211T170000
DTSTAMP:20260425T153332
CREATED:20220420T163632Z
LAST-MODIFIED:20220420T163632Z
UID:10006361-1676127600-1676134800@epworth.faith
SUMMARY:Mid-Atlantic Symphony Orchestra (Sanctuary)
DESCRIPTION:
URL:https://epworth.faith/event/mid-atlantic-symphony-orchestra-sanctuary-2/2023-02-11/
LOCATION:Epworth United Methodist Church\, 19285 Holland Glade Road\, Rehoboth Beach\, DE\, 19971\, United States
CATEGORIES:Concerts
ORGANIZER;CN="Dane Krich":MAILTO:dane@midatlanticsymphony.org
END:VEVENT
BEGIN:VEVENT
DTSTART;TZID=America/New_York:20230211T130000
DTEND;TZID=America/New_York:20230211T180000
DTSTAMP:20260425T153332
CREATED:20220420T163750Z
LAST-MODIFIED:20220420T163750Z
UID:10006363-1676120400-1676138400@epworth.faith
SUMMARY:Mid-Atlantic Symphony Holding Rooms (Music Room & Branford Lounge)
DESCRIPTION:
URL:https://epworth.faith/event/mid-atlantic-symphony-holding-rooms-music-room-branford-lounge/2023-02-11/
LOCATION:Epworth United Methodist Church\, 19285 Holland Glade Road\, Rehoboth Beach\, DE\, 19971\, United States
CATEGORIES:Concerts
ORGANIZER;CN="Dane Krich":MAILTO:dane@midatlanticsymphony.org
END:VEVENT
BEGIN:VEVENT
DTSTART;TZID=America/New_York:20221219T190000
DTEND;TZID=America/New_York:20221219T203000
DTSTAMP:20260425T153332
CREATED:20220915T144626Z
LAST-MODIFIED:20220915T144626Z
UID:10006869-1671476400-1671481800@epworth.faith
SUMMARY:Sussex Tech High School Concert (Sanctuary & Fellowship Hall)
DESCRIPTION:
URL:https://epworth.faith/event/sussex-tech-high-school-concert-sanctuary-fellowship-hall/
LOCATION:Epworth United Methodist Church\, 19285 Holland Glade Road\, Rehoboth Beach\, DE\, 19971\, United States
CATEGORIES:Concerts
ORGANIZER;CN="Sarah Rose":MAILTO:Sarah.Rose@sussexvt.k12.de.us
END:VEVENT
BEGIN:VEVENT
DTSTART;TZID=America/New_York:20221218T150000
DTEND;TZID=America/New_York:20221218T170000
DTSTAMP:20260425T153332
CREATED:20220223T194338Z
LAST-MODIFIED:20220223T194338Z
UID:10006142-1671375600-1671382800@epworth.faith
SUMMARY:Rehoboth Concert Band (Sanctuary)
DESCRIPTION:
URL:https://epworth.faith/event/rehoboth-concert-band-sanctuary/
LOCATION:Epworth United Methodist Church\, 19285 Holland Glade Road\, Rehoboth Beach\, DE\, 19971\, United States
CATEGORIES:Concerts
ORGANIZER;CN="Michelle Bozievich":MAILTO:mbozievich@gmail.com
END:VEVENT
BEGIN:VEVENT
DTSTART;TZID=America/New_York:20221217T150000
DTEND;TZID=America/New_York:20221217T170000
DTSTAMP:20260425T153332
CREATED:20220420T163632Z
LAST-MODIFIED:20220420T163632Z
UID:10006360-1671289200-1671296400@epworth.faith
SUMMARY:Mid-Atlantic Symphony Orchestra (Sanctuary)
DESCRIPTION:
URL:https://epworth.faith/event/mid-atlantic-symphony-orchestra-sanctuary-2/2022-12-17/
LOCATION:Epworth United Methodist Church\, 19285 Holland Glade Road\, Rehoboth Beach\, DE\, 19971\, United States
CATEGORIES:Concerts
ORGANIZER;CN="Dane Krich":MAILTO:dane@midatlanticsymphony.org
END:VEVENT
BEGIN:VEVENT
DTSTART;TZID=America/New_York:20221217T130000
DTEND;TZID=America/New_York:20221217T180000
DTSTAMP:20260425T153332
CREATED:20220420T163750Z
LAST-MODIFIED:20220420T163750Z
UID:10006362-1671282000-1671300000@epworth.faith
SUMMARY:Mid-Atlantic Symphony Holding Rooms (Music Room & Branford Lounge)
DESCRIPTION:
URL:https://epworth.faith/event/mid-atlantic-symphony-holding-rooms-music-room-branford-lounge/2022-12-17/
LOCATION:Epworth United Methodist Church\, 19285 Holland Glade Road\, Rehoboth Beach\, DE\, 19971\, United States
CATEGORIES:Concerts
ORGANIZER;CN="Dane Krich":MAILTO:dane@midatlanticsymphony.org
END:VEVENT
BEGIN:VEVENT
DTSTART;TZID=America/New_York:20221215T113000
DTEND;TZID=America/New_York:20221215T143000
DTSTAMP:20260425T153332
CREATED:20220915T144337Z
LAST-MODIFIED:20220915T144337Z
UID:10006868-1671103800-1671114600@epworth.faith
SUMMARY:Sussex Tech High School Rehearsal (Sanctuary & Fellowship Hall)
DESCRIPTION:
URL:https://epworth.faith/event/sussex-tech-high-school-rehearsal-sanctuary-fellowship-hall/
LOCATION:Epworth United Methodist Church\, 19285 Holland Glade Road\, Rehoboth Beach\, DE\, 19971\, United States
CATEGORIES:Concerts
ORGANIZER;CN="Sarah Rose":MAILTO:Sarah.Rose@sussexvt.k12.de.us
END:VEVENT
BEGIN:VEVENT
DTSTART;TZID=America/New_York:20221204T150000
DTEND;TZID=America/New_York:20221204T170000
DTSTAMP:20260425T153332
CREATED:20220623T162626Z
LAST-MODIFIED:20220623T162626Z
UID:10006793-1670166000-1670173200@epworth.faith
SUMMARY:Southern Delaware Chorale Society Concert (Sanctuary & Music Room)
DESCRIPTION:
URL:https://epworth.faith/event/southern-delaware-chorale-society-concert-sanctuary-music-room/2022-12-04/
LOCATION:Epworth United Methodist Church\, 19285 Holland Glade Road\, Rehoboth Beach\, DE\, 19971\, United States
CATEGORIES:Concerts
ORGANIZER;CN="Colin Armstrong":MAILTO:delawarecanuck@gmail.com
END:VEVENT
BEGIN:VEVENT
DTSTART;TZID=America/New_York:20221202T190000
DTEND;TZID=America/New_York:20221202T220000
DTSTAMP:20260425T153332
CREATED:20220623T162813Z
LAST-MODIFIED:20220623T162813Z
UID:10006795-1670007600-1670018400@epworth.faith
SUMMARY:Southern Delaware Chorale Society Rehearsal (Sanctuary & Music Room)
DESCRIPTION:
URL:https://epworth.faith/event/southern-delaware-chorale-society-rehearsal-sanctuary-music-room/2022-12-02/
LOCATION:Epworth United Methodist Church\, 19285 Holland Glade Road\, Rehoboth Beach\, DE\, 19971\, United States
CATEGORIES:Concerts
ORGANIZER;CN="Colin Armstrong":MAILTO:delawarecanuck@gmail.com
END:VEVENT
BEGIN:VEVENT
DTSTART;TZID=America/New_York:20221112T150000
DTEND;TZID=America/New_York:20221112T170000
DTSTAMP:20260425T153332
CREATED:20220303T162457Z
LAST-MODIFIED:20220303T162457Z
UID:10006180-1668265200-1668272400@epworth.faith
SUMMARY:Mid-Atlantic Symphony Orchestra (Sanctuary\, Music & Branford)
DESCRIPTION:Mid-Atlantic Symphony Orchestra will be performing today and will arrive at 1:00 to warm up.
URL:https://epworth.faith/event/mid-atlantic-symphony-orchestra-sanctuary-music-branford/2022-11-12/
LOCATION:Epworth United Methodist Church\, 19285 Holland Glade Road\, Rehoboth Beach\, DE\, 19971\, United States
CATEGORIES:Concerts
ORGANIZER;CN="Dane Krich":MAILTO:dane@midatlanticsymphony.org
END:VEVENT
BEGIN:VEVENT
DTSTART;TZID=America/New_York:20221028T150000
DTEND;TZID=America/New_York:20221028T170000
DTSTAMP:20260425T153332
CREATED:20220420T163126Z
LAST-MODIFIED:20220420T163448Z
UID:10006306-1666969200-1666976400@epworth.faith
SUMMARY:Mid-Atlantic Symphony Orchestra (Sanctuary)
DESCRIPTION:
URL:https://epworth.faith/event/mid-atlantic-symphony-orchestra-sanctuary/
LOCATION:Epworth United Methodist Church\, 19285 Holland Glade Road\, Rehoboth Beach\, DE\, 19971\, United States
CATEGORIES:Concerts
ORGANIZER;CN="Dane Krich":MAILTO:dane@midatlanticsymphony.org
END:VEVENT
BEGIN:VEVENT
DTSTART;TZID=America/New_York:20221028T130000
DTEND;TZID=America/New_York:20221028T180000
DTSTAMP:20260425T153332
CREATED:20220420T163216Z
LAST-MODIFIED:20220420T163335Z
UID:10006359-1666962000-1666980000@epworth.faith
SUMMARY:Mid-Atlantic Symphony Holding Rooms (Music Room & Branford Lounge)
DESCRIPTION:
URL:https://epworth.faith/event/mid-atlantic-symphony-holding-room-music-room/
LOCATION:Epworth United Methodist Church\, 19285 Holland Glade Road\, Rehoboth Beach\, DE\, 19971\, United States
CATEGORIES:Concerts
ORGANIZER;CN="Dane Krich":MAILTO:dane@midatlanticsymphony.org
END:VEVENT
BEGIN:VEVENT
DTSTART;TZID=America/New_York:20221015T193000
DTEND;TZID=America/New_York:20221015T213000
DTSTAMP:20260425T153332
CREATED:20220817T170433Z
LAST-MODIFIED:20220817T170433Z
UID:10006839-1665862200-1665869400@epworth.faith
SUMMARY:Jazz Festival (Sanctuary)
DESCRIPTION:
URL:https://epworth.faith/event/jazz-festival-sanctuary-2/
LOCATION:Epworth United Methodist Church\, 19285 Holland Glade Road\, Rehoboth Beach\, DE\, 19971\, United States
CATEGORIES:Concerts
ORGANIZER;CN="Bing Crosby":MAILTO:bing@rehobothjazz.com
END:VEVENT
END:VCALENDAR