BEGIN:VCALENDAR
VERSION:2.0
PRODID:-//Epworth UMC - ECPv6.15.20//NONSGML v1.0//EN
CALSCALE:GREGORIAN
METHOD:PUBLISH
X-ORIGINAL-URL:https://epworth.faith
X-WR-CALDESC:Events for Epworth UMC
REFRESH-INTERVAL;VALUE=DURATION:PT1H
X-Robots-Tag:noindex
X-PUBLISHED-TTL:PT1H
BEGIN:VTIMEZONE
TZID:America/New_York
BEGIN:DAYLIGHT
TZOFFSETFROM:-0500
TZOFFSETTO:-0400
TZNAME:EDT
DTSTART:20230312T070000
END:DAYLIGHT
BEGIN:STANDARD
TZOFFSETFROM:-0400
TZOFFSETTO:-0500
TZNAME:EST
DTSTART:20231105T060000
END:STANDARD
BEGIN:DAYLIGHT
TZOFFSETFROM:-0500
TZOFFSETTO:-0400
TZNAME:EDT
DTSTART:20240310T070000
END:DAYLIGHT
BEGIN:STANDARD
TZOFFSETFROM:-0400
TZOFFSETTO:-0500
TZNAME:EST
DTSTART:20241103T060000
END:STANDARD
BEGIN:DAYLIGHT
TZOFFSETFROM:-0500
TZOFFSETTO:-0400
TZNAME:EDT
DTSTART:20250309T070000
END:DAYLIGHT
BEGIN:STANDARD
TZOFFSETFROM:-0400
TZOFFSETTO:-0500
TZNAME:EST
DTSTART:20251102T060000
END:STANDARD
END:VTIMEZONE
BEGIN:VEVENT
DTSTART;TZID=America/New_York:20241019T120000
DTEND;TZID=America/New_York:20241019T220000
DTSTAMP:20260425T071325
CREATED:20240624T133028Z
LAST-MODIFIED:20240724T200430Z
UID:10013582-1729339200-1729375200@epworth.faith
SUMMARY:Jazz Festival Concert (Sanctuary\, Music Room & Branford)
DESCRIPTION:
URL:https://epworth.faith/event/jazz-festival-concert-sanctuary-music-room-2/
LOCATION:Epworth United Methodist Church\, 19285 Holland Glade Road\, Rehoboth Beach\, DE\, 19971\, United States
CATEGORIES:Church,Concerts,Facility Rentals
ORGANIZER;CN="Bing Crosby":MAILTO:bing@rehobothjazz.com
END:VEVENT
BEGIN:VEVENT
DTSTART;TZID=America/New_York:20241018T170000
DTEND;TZID=America/New_York:20241018T220000
DTSTAMP:20260425T071325
CREATED:20240624T132935Z
LAST-MODIFIED:20240724T200545Z
UID:10013581-1729270800-1729288800@epworth.faith
SUMMARY:Jazz Festival Concert (Sanctuary\, Music Room & Branford)
DESCRIPTION:
URL:https://epworth.faith/event/jazz-festival-concert-sanctuary-music-room/
LOCATION:Epworth United Methodist Church\, 19285 Holland Glade Road\, Rehoboth Beach\, DE\, 19971\, United States
CATEGORIES:Church,Concerts,Facility Rentals
ORGANIZER;CN="Bing Crosby":MAILTO:bing@rehobothjazz.com
END:VEVENT
BEGIN:VEVENT
DTSTART;TZID=America/New_York:20240929T130000
DTEND;TZID=America/New_York:20240929T180000
DTSTAMP:20260425T071325
CREATED:20230822T181736Z
LAST-MODIFIED:20240827T193143Z
UID:10008988-1727614800-1727632800@epworth.faith
SUMMARY:CAMP Ensemble Concert "That's Life" (Sanctuary & Music Room)
DESCRIPTION:
URL:https://epworth.faith/event/camp-ensemble-concert-dirt-poor-filthy-rich-sanctuary-music-room-3/
LOCATION:Epworth United Methodist Church\, 19285 Holland Glade Road\, Rehoboth Beach\, DE\, 19971\, United States
CATEGORIES:Concerts,Facility Rentals
ORGANIZER;CN="David Scuccimarra":MAILTO:Scuch@aol.com
END:VEVENT
BEGIN:VEVENT
DTSTART;TZID=America/New_York:20240928T180000
DTEND;TZID=America/New_York:20240928T220000
DTSTAMP:20260425T071325
CREATED:20230822T181531Z
LAST-MODIFIED:20240827T193046Z
UID:10008987-1727546400-1727560800@epworth.faith
SUMMARY:CAMP Ensemble Concert "That's Life" (Sanctuary & Music Room)
DESCRIPTION:
URL:https://epworth.faith/event/camp-ensemble-concert-dirt-poor-filthy-rich-sanctuary-music-room-2/
LOCATION:Epworth United Methodist Church\, 19285 Holland Glade Road\, Rehoboth Beach\, DE\, 19971\, United States
CATEGORIES:Concerts,Facility Rentals
ORGANIZER;CN="David Scuccimarra":MAILTO:Scuch@aol.com
END:VEVENT
BEGIN:VEVENT
DTSTART;TZID=America/New_York:20240927T180000
DTEND;TZID=America/New_York:20240927T220000
DTSTAMP:20260425T071325
CREATED:20230822T181336Z
LAST-MODIFIED:20240827T194643Z
UID:10008986-1727460000-1727474400@epworth.faith
SUMMARY:CAMP Ensemble Concert "That's Life" (Sanctuary & Music Room)
DESCRIPTION:
URL:https://epworth.faith/event/camp-ensemble-concert-dirt-poor-filthy-rich-sanctuary-music-room/
LOCATION:Epworth United Methodist Church\, 19285 Holland Glade Road\, Rehoboth Beach\, DE\, 19971\, United States
CATEGORIES:Concerts,Facility Rentals
ORGANIZER;CN="David Scuccimarra":MAILTO:Scuch@aol.com
END:VEVENT
BEGIN:VEVENT
DTSTART;TZID=America/New_York:20240908T140000
DTEND;TZID=America/New_York:20240908T180000
DTSTAMP:20260425T071325
CREATED:20240429T125607Z
LAST-MODIFIED:20240827T191925Z
UID:10013404-1725804000-1725818400@epworth.faith
SUMMARY:Mispillion Performance Series (U.S. Air Force Band) - Sanctuary & Music Room
DESCRIPTION:
URL:https://epworth.faith/event/mispillion-performance-series-u-s-air-force-band-sanctuary-music-room/
LOCATION:Epworth United Methodist Church\, 19285 Holland Glade Road\, Rehoboth Beach\, DE\, 19971\, United States
CATEGORIES:Church,Concerts,Facility Rentals
ORGANIZER;CN="Jody Stein":MAILTO:jodye.stein@gmail.com
END:VEVENT
BEGIN:VEVENT
DTSTART;TZID=America/New_York:20240821T193000
DTEND;TZID=America/New_York:20240821T210000
DTSTAMP:20260425T071325
CREATED:20240520T131154Z
LAST-MODIFIED:20240813T150326Z
UID:10013518-1724268600-1724274000@epworth.faith
SUMMARY:Celtic to Classical Concert (Sanctuary)
DESCRIPTION:Concert information
URL:https://epworth.faith/event/celtic-to-classical-concert-sanctuary-2/
LOCATION:Epworth United Methodist Church\, 19285 Holland Glade Road\, Rehoboth Beach\, DE\, 19971\, United States
CATEGORIES:Church,Concerts,Facility Rentals
ORGANIZER;CN="Sheridan Seyfried":MAILTO:sheridan.seyfried@gmail.com
END:VEVENT
BEGIN:VEVENT
DTSTART;TZID=America/New_York:20240721T190000
DTEND;TZID=America/New_York:20240721T213000
DTSTAMP:20260425T071325
CREATED:20231127T172928Z
LAST-MODIFIED:20240612T144143Z
UID:10011108-1721588400-1721597400@epworth.faith
SUMMARY:Seaside Summer Concert Featuring John McCutcheon (Sanctuary\, Baker Lounge & Music Room)
DESCRIPTION:
URL:https://epworth.faith/event/seaside-concert-sanctuary-fellowship-hall/
LOCATION:Epworth United Methodist Church\, 19285 Holland Glade Road\, Rehoboth Beach\, DE\, 19971\, United States
CATEGORIES:Concerts,Facility Rentals,Neighborhood/Community Groups
ORGANIZER;CN="Barry Novich":MAILTO:barryfn@hotmail.com
END:VEVENT
BEGIN:VEVENT
DTSTART;TZID=America/New_York:20240616T150000
DTEND;TZID=America/New_York:20240616T170000
DTSTAMP:20260425T071325
CREATED:20230822T180950Z
LAST-MODIFIED:20240612T154936Z
UID:10008985-1718550000-1718557200@epworth.faith
SUMMARY:CAMP Chorus "On the Road Again" (Sanctuary)
DESCRIPTION:
URL:https://epworth.faith/event/camp-chorus-on-the-road-again-sanctuary-music-room-3/
LOCATION:Epworth United Methodist Church\, 19285 Holland Glade Road\, Rehoboth Beach\, DE\, 19971\, United States
CATEGORIES:Concerts,Facility Rentals
ORGANIZER;CN="David Scuccimarra":MAILTO:Scuch@aol.com
END:VEVENT
BEGIN:VEVENT
DTSTART;TZID=America/New_York:20240615T190000
DTEND;TZID=America/New_York:20240615T210000
DTSTAMP:20260425T071325
CREATED:20230822T180726Z
LAST-MODIFIED:20240612T154833Z
UID:10008984-1718478000-1718485200@epworth.faith
SUMMARY:CAMP Chorus "On the Road Again" (Sanctuary)
DESCRIPTION:
URL:https://epworth.faith/event/camp-chorus-on-the-road-again-sanctuary-music-room-2/
LOCATION:Epworth United Methodist Church\, 19285 Holland Glade Road\, Rehoboth Beach\, DE\, 19971\, United States
CATEGORIES:Concerts,Facility Rentals
ORGANIZER;CN="David Scuccimarra":MAILTO:Scuch@aol.com
END:VEVENT
BEGIN:VEVENT
DTSTART;TZID=America/New_York:20240614T190000
DTEND;TZID=America/New_York:20240614T210000
DTSTAMP:20260425T071325
CREATED:20230822T180518Z
LAST-MODIFIED:20240612T154703Z
UID:10008983-1718391600-1718398800@epworth.faith
SUMMARY:CAMP Chorus "On the Road Again" (Sanctuary)
DESCRIPTION:
URL:https://epworth.faith/event/camp-chorus-on-the-road-again-sanctuary-music-room/
LOCATION:Epworth United Methodist Church\, 19285 Holland Glade Road\, Rehoboth Beach\, DE\, 19971\, United States
CATEGORIES:Concerts,Facility Rentals
ORGANIZER;CN="David Scuccimarra":MAILTO:Scuch@aol.com
END:VEVENT
BEGIN:VEVENT
DTSTART;TZID=America/New_York:20240608T133000
DTEND;TZID=America/New_York:20240608T153000
DTSTAMP:20260425T071325
CREATED:20240604T191014Z
LAST-MODIFIED:20240604T191014Z
UID:10013559-1717853400-1717860600@epworth.faith
SUMMARY:Mike Reynolds - Recital (Sanctuary)
DESCRIPTION:
URL:https://epworth.faith/event/mike-reynolds-recital-sanctuary/
LOCATION:Epworth United Methodist Church\, 19285 Holland Glade Road\, Rehoboth Beach\, DE\, 19971\, United States
CATEGORIES:Church,Concerts,Facility Rentals
END:VEVENT
BEGIN:VEVENT
DTSTART;TZID=America/New_York:20240607T190000
DTEND;TZID=America/New_York:20240607T200000
DTSTAMP:20260425T071325
CREATED:20240604T190908Z
LAST-MODIFIED:20240604T190908Z
UID:10013558-1717786800-1717790400@epworth.faith
SUMMARY:Mike Reynolds - Recital Rehearsal (Sanctuary)
DESCRIPTION:
URL:https://epworth.faith/event/mike-reynolds-recital-rehearsal-sanctuary/
LOCATION:Epworth United Methodist Church\, 19285 Holland Glade Road\, Rehoboth Beach\, DE\, 19971\, United States
CATEGORIES:Church,Concerts,Facility Rentals
END:VEVENT
BEGIN:VEVENT
DTSTART;TZID=America/New_York:20240518T170000
DTEND;TZID=America/New_York:20240518T220000
DTSTAMP:20260425T071325
CREATED:20230613T194637Z
LAST-MODIFIED:20240318T185226Z
UID:10008725-1716051600-1716069600@epworth.faith
SUMMARY:Mid-Atlantic Symphony Orchestra (Sanctuary\, Music Wing\, Branford Lounge)
DESCRIPTION:
URL:https://epworth.faith/event/mid-atlantic-symphony-orchestra-sanctuary-music-wing-branford-lounge-2/
LOCATION:Epworth United Methodist Church\, 19285 Holland Glade Road\, Rehoboth Beach\, DE\, 19971\, United States
CATEGORIES:Concerts
ORGANIZER;CN="Dane Krich":MAILTO:dane@midatlanticsymphony.org
END:VEVENT
BEGIN:VEVENT
DTSTART;TZID=America/New_York:20240513T190000
DTEND;TZID=America/New_York:20240513T203000
DTSTAMP:20260425T071325
CREATED:20240123T191340Z
LAST-MODIFIED:20240510T125728Z
UID:10012266-1715626800-1715632200@epworth.faith
SUMMARY:Sussex Tech Choir Spring Concert - (Sanctuary & Music Room)
DESCRIPTION:
URL:https://epworth.faith/event/sussex-tech-choir-spring-concert-sanctuary-music-room/
LOCATION:Epworth United Methodist Church\, 19285 Holland Glade Road\, Rehoboth Beach\, DE\, 19971\, United States
CATEGORIES:Concerts,Facility Rentals
ORGANIZER;CN="Sarah Rose":MAILTO:Sarah.Rose@sussexvt.k12.de.us
END:VEVENT
BEGIN:VEVENT
DTSTART;TZID=America/New_York:20240509T100000
DTEND;TZID=America/New_York:20240509T141500
DTSTAMP:20260425T071325
CREATED:20240123T191736Z
LAST-MODIFIED:20240123T191736Z
UID:10012267-1715248800-1715264100@epworth.faith
SUMMARY:Sussex Tech Choir Spring Concert Rehearsal (Sanctuary & Music Room)
DESCRIPTION:
URL:https://epworth.faith/event/sussex-tech-choir-spring-concert-rehearsal-sanctuary-music-room/
LOCATION:Epworth United Methodist Church\, 19285 Holland Glade Road\, Rehoboth Beach\, DE\, 19971\, United States
CATEGORIES:Concerts,Facility Rentals
ORGANIZER;CN="Sarah Rose":MAILTO:Sarah.Rose@sussexvt.k12.de.us
END:VEVENT
BEGIN:VEVENT
DTSTART;TZID=America/New_York:20240505T130000
DTEND;TZID=America/New_York:20240505T180000
DTSTAMP:20260425T071325
CREATED:20240220T164316Z
LAST-MODIFIED:20240220T164317Z
UID:10012312-1714914000-1714932000@epworth.faith
SUMMARY:Southern Delaware Chorale (Sanctuary and Music Room)
DESCRIPTION:
URL:https://epworth.faith/event/southern-delaware-chorale-sanctuary-and-music-room/
LOCATION:Epworth United Methodist Church\, 19285 Holland Glade Road\, Rehoboth Beach\, DE\, 19971\, United States
CATEGORIES:Church,Concerts,Facility Rentals
ORGANIZER;CN="Denise Adkins":MAILTO:deniseadkins1959@gmail.com
END:VEVENT
BEGIN:VEVENT
DTSTART;TZID=America/New_York:20240504T163000
DTEND;TZID=America/New_York:20240504T210000
DTSTAMP:20260425T071325
CREATED:20240108T150044Z
LAST-MODIFIED:20240229T202202Z
UID:10012112-1714840200-1714856400@epworth.faith
SUMMARY:Music School of Delaware Concert (Sanctuary & Music Room)
DESCRIPTION:
URL:https://epworth.faith/event/music-school-of-delaware-concert-sanctuary-music-room/
LOCATION:Epworth United Methodist Church\, 19285 Holland Glade Road\, Rehoboth Beach\, DE\, 19971\, United States
CATEGORIES:Concerts,Facility Rentals
ORGANIZER;CN="Jody Stein":MAILTO:jodye.stein@gmail.com
END:VEVENT
BEGIN:VEVENT
DTSTART;TZID=America/New_York:20240503T180000
DTEND;TZID=America/New_York:20240503T220000
DTSTAMP:20260425T071325
CREATED:20240220T164826Z
LAST-MODIFIED:20240220T164826Z
UID:10012313-1714759200-1714773600@epworth.faith
SUMMARY:Southern Delaware Chorale (Sanctuary)
DESCRIPTION:
URL:https://epworth.faith/event/southern-delaware-chorale-sanctuary/
LOCATION:Epworth United Methodist Church\, 19285 Holland Glade Road\, Rehoboth Beach\, DE\, 19971\, United States
CATEGORIES:Church,Concerts,Facility Rentals
ORGANIZER;CN="Denise Adkins":MAILTO:deniseadkins1959@gmail.com
END:VEVENT
BEGIN:VEVENT
DTSTART;TZID=America/New_York:20240420T140000
DTEND;TZID=America/New_York:20240420T173000
DTSTAMP:20260425T071325
CREATED:20230719T181343Z
LAST-MODIFIED:20240220T152715Z
UID:10008831-1713621600-1713634200@epworth.faith
SUMMARY:Mispillion - Washington Saxophone Quartet (Sanctuary & Music Room)
DESCRIPTION:
URL:https://epworth.faith/event/washington-saxophone-quartet-sanctuary-music-room/
LOCATION:Epworth United Methodist Church\, 19285 Holland Glade Road\, Rehoboth Beach\, DE\, 19971\, United States
CATEGORIES:Concerts
ORGANIZER;CN="Jody Stein":MAILTO:jodye.stein@gmail.com
END:VEVENT
BEGIN:VEVENT
DTSTART;TZID=America/New_York:20240419T173000
DTEND;TZID=America/New_York:20240419T220000
DTSTAMP:20260425T071325
CREATED:20231130T210542Z
LAST-MODIFIED:20240321T151241Z
UID:10011111-1713547800-1713564000@epworth.faith
SUMMARY:Encore Creativity Concert (Sanctuary & Music Room)
DESCRIPTION:
URL:https://epworth.faith/event/encore-creativity-concert-sanctuary-music-room/
LOCATION:Epworth United Methodist Church\, 19285 Holland Glade Road\, Rehoboth Beach\, DE\, 19971\, United States
CATEGORIES:Concerts,Facility Rentals
ORGANIZER;CN="Ethan Lolley":MAILTO:ethan.lolley@encorecreativity.org
END:VEVENT
BEGIN:VEVENT
DTSTART;TZID=America/New_York:20240413T143000
DTEND;TZID=America/New_York:20240413T213000
DTSTAMP:20260425T071325
CREATED:20230329T191717Z
LAST-MODIFIED:20240312T200944Z
UID:10008184-1713018600-1713043800@epworth.faith
SUMMARY:SODELO Concert (Sanctuary & Music Wing)
DESCRIPTION:
URL:https://epworth.faith/event/sodelo-concert-sanctuary-music-wing/
LOCATION:Epworth United Methodist Church\, 19285 Holland Glade Road\, Rehoboth Beach\, DE\, 19971\, United States
CATEGORIES:Concerts
ORGANIZER;CN="Eva DelGallo":MAILTO:delgalloviolin@gmail.com
END:VEVENT
BEGIN:VEVENT
DTSTART;TZID=America/New_York:20240406T150000
DTEND;TZID=America/New_York:20240406T170000
DTSTAMP:20260425T071325
CREATED:20230608T155350Z
LAST-MODIFIED:20240220T160124Z
UID:10008717-1712415600-1712422800@epworth.faith
SUMMARY:Mid-Atlantic Symphony Orchestra (Sanctuary\, Music Wing\, Branford Lounge)
DESCRIPTION:
URL:https://epworth.faith/event/mid-atlantic-symphony-orchestra-sanctuary-music-wing-branford-lounge/2024-04-06/
LOCATION:Epworth United Methodist Church\, 19285 Holland Glade Road\, Rehoboth Beach\, DE\, 19971\, United States
CATEGORIES:Concerts,Facility Rentals
ORGANIZER;CN="Dane Krich":MAILTO:dane@midatlanticsymphony.org
END:VEVENT
BEGIN:VEVENT
DTSTART;TZID=America/New_York:20240317T130000
DTEND;TZID=America/New_York:20240317T180000
DTSTAMP:20260425T071325
CREATED:20230607T194130Z
LAST-MODIFIED:20240312T135801Z
UID:10008712-1710680400-1710698400@epworth.faith
SUMMARY:Cape Henlopen Senior Center Concert (Sanctuary)
DESCRIPTION:The Senior Center will use the Narthex for ticket sales.
URL:https://epworth.faith/event/cape-henlopen-senior-center-concert-sanctuary/
LOCATION:Epworth United Methodist Church\, 19285 Holland Glade Road\, Rehoboth Beach\, DE\, 19971\, United States
CATEGORIES:Concerts
ORGANIZER;CN="Bernita Hakney":MAILTO:nitachsc@aol.com
END:VEVENT
BEGIN:VEVENT
DTSTART;TZID=America/New_York:20240224T140000
DTEND;TZID=America/New_York:20240224T160000
DTSTAMP:20260425T071325
CREATED:20230329T192700Z
LAST-MODIFIED:20240206T155334Z
UID:10008189-1708783200-1708790400@epworth.faith
SUMMARY:Southern Delaware Chorale Concert (Sanctuary & Music Wing)
DESCRIPTION:Setup/breakdown times 12-5p.m.  Risers will be needed. \n 
URL:https://epworth.faith/event/southern-delaware-chorale-society-concert-sanctuary-music-wing-4/
LOCATION:Epworth United Methodist Church\, 19285 Holland Glade Road\, Rehoboth Beach\, DE\, 19971\, United States
CATEGORIES:Concerts,Facility Rentals
ORGANIZER;CN="Colin Armstrong":MAILTO:delawarecanuck@gmail.com
END:VEVENT
BEGIN:VEVENT
DTSTART;TZID=America/New_York:20240223T190000
DTEND;TZID=America/New_York:20240223T220000
DTSTAMP:20260425T071325
CREATED:20240116T171139Z
LAST-MODIFIED:20240206T154607Z
UID:10012145-1708714800-1708725600@epworth.faith
SUMMARY:Southern Delaware Chorale Concert-Rehearsal (Sanctuary & Music Wing)
DESCRIPTION:Setup risers.  Prep for rehearsal 6:30-10:30.
URL:https://epworth.faith/event/southern-delaware-chorale-society-concert-rehearsal-sanctuary-music-wing/
LOCATION:Epworth United Methodist Church\, 19285 Holland Glade Road\, Rehoboth Beach\, DE\, 19971\, United States
CATEGORIES:Concerts,Facility Rentals
ORGANIZER;CN="Denise Adkins":MAILTO:deniseadkins1959@gmail.com
END:VEVENT
BEGIN:VEVENT
DTSTART;TZID=America/New_York:20240218T150000
DTEND;TZID=America/New_York:20240218T170000
DTSTAMP:20260425T071325
CREATED:20230822T153757Z
LAST-MODIFIED:20240125T155700Z
UID:10008982-1708268400-1708275600@epworth.faith
SUMMARY:CAMP Chorus Concert "The British Are Coming" (Sanctuary & Music Room)
DESCRIPTION:
URL:https://epworth.faith/event/camp-chorus-concert-the-brutish-are-coming-sanctuary-music-room-3/
LOCATION:Epworth United Methodist Church\, 19285 Holland Glade Road\, Rehoboth Beach\, DE\, 19971\, United States
CATEGORIES:Concerts,Facility Rentals
ORGANIZER;CN="David Scuccimarra":MAILTO:Scuch@aol.com
END:VEVENT
BEGIN:VEVENT
DTSTART;TZID=America/New_York:20240217T190000
DTEND;TZID=America/New_York:20240217T210000
DTSTAMP:20260425T071325
CREATED:20230822T153617Z
LAST-MODIFIED:20240125T155408Z
UID:10008981-1708196400-1708203600@epworth.faith
SUMMARY:CAMP Chorus Concert "The British Are Coming" (Sanctuary & Music Room)
DESCRIPTION:
URL:https://epworth.faith/event/camp-chorus-concert-the-brutish-are-coming-sanctuary-music-room-2/
LOCATION:Epworth United Methodist Church\, 19285 Holland Glade Road\, Rehoboth Beach\, DE\, 19971\, United States
CATEGORIES:Concerts,Facility Rentals
ORGANIZER;CN="David Scuccimarra":MAILTO:Scuch@aol.com
END:VEVENT
BEGIN:VEVENT
DTSTART;TZID=America/New_York:20240216T190000
DTEND;TZID=America/New_York:20240216T210000
DTSTAMP:20260425T071325
CREATED:20230822T153132Z
LAST-MODIFIED:20240125T155538Z
UID:10008980-1708110000-1708117200@epworth.faith
SUMMARY:CAMP Chorus Concert "The British Are Coming" (Sanctuary & Music Room)
DESCRIPTION:
URL:https://epworth.faith/event/camp-chorus-concert-the-brutish-are-coming-sanctuary-music-room/
LOCATION:Epworth United Methodist Church\, 19285 Holland Glade Road\, Rehoboth Beach\, DE\, 19971\, United States
CATEGORIES:Concerts,Facility Rentals
ORGANIZER;CN="David Scuccimarra":MAILTO:Scuch@aol.com
END:VEVENT
BEGIN:VEVENT
DTSTART;TZID=America/New_York:20240210T150000
DTEND;TZID=America/New_York:20240210T170000
DTSTAMP:20260425T071325
CREATED:20230608T155350Z
LAST-MODIFIED:20240220T160124Z
UID:10008716-1707577200-1707584400@epworth.faith
SUMMARY:Mid-Atlantic Symphony Orchestra (Sanctuary\, Music Wing\, Branford Lounge)
DESCRIPTION:
URL:https://epworth.faith/event/mid-atlantic-symphony-orchestra-sanctuary-music-wing-branford-lounge/2024-02-10/
LOCATION:Epworth United Methodist Church\, 19285 Holland Glade Road\, Rehoboth Beach\, DE\, 19971\, United States
CATEGORIES:Concerts,Facility Rentals
ORGANIZER;CN="Dane Krich":MAILTO:dane@midatlanticsymphony.org
END:VEVENT
END:VCALENDAR