BEGIN:VCALENDAR
VERSION:2.0
PRODID:-//Epworth UMC - ECPv6.15.20//NONSGML v1.0//EN
CALSCALE:GREGORIAN
METHOD:PUBLISH
X-WR-CALNAME:Epworth UMC
X-ORIGINAL-URL:https://epworth.faith
X-WR-CALDESC:Events for Epworth UMC
REFRESH-INTERVAL;VALUE=DURATION:PT1H
X-Robots-Tag:noindex
X-PUBLISHED-TTL:PT1H
BEGIN:VTIMEZONE
TZID:America/New_York
BEGIN:DAYLIGHT
TZOFFSETFROM:-0500
TZOFFSETTO:-0400
TZNAME:EDT
DTSTART:20220313T070000
END:DAYLIGHT
BEGIN:STANDARD
TZOFFSETFROM:-0400
TZOFFSETTO:-0500
TZNAME:EST
DTSTART:20221106T060000
END:STANDARD
BEGIN:DAYLIGHT
TZOFFSETFROM:-0500
TZOFFSETTO:-0400
TZNAME:EDT
DTSTART:20230312T070000
END:DAYLIGHT
BEGIN:STANDARD
TZOFFSETFROM:-0400
TZOFFSETTO:-0500
TZNAME:EST
DTSTART:20231105T060000
END:STANDARD
BEGIN:DAYLIGHT
TZOFFSETFROM:-0500
TZOFFSETTO:-0400
TZNAME:EDT
DTSTART:20240310T070000
END:DAYLIGHT
BEGIN:STANDARD
TZOFFSETFROM:-0400
TZOFFSETTO:-0500
TZNAME:EST
DTSTART:20241103T060000
END:STANDARD
BEGIN:DAYLIGHT
TZOFFSETFROM:-0500
TZOFFSETTO:-0400
TZNAME:EDT
DTSTART:20250309T070000
END:DAYLIGHT
BEGIN:STANDARD
TZOFFSETFROM:-0400
TZOFFSETTO:-0500
TZNAME:EST
DTSTART:20251102T060000
END:STANDARD
END:VTIMEZONE
BEGIN:VEVENT
DTSTART;TZID=America/New_York:20240224T140000
DTEND;TZID=America/New_York:20240224T160000
DTSTAMP:20260425T070432
CREATED:20230329T192700Z
LAST-MODIFIED:20240206T155334Z
UID:10008189-1708783200-1708790400@epworth.faith
SUMMARY:Southern Delaware Chorale Concert (Sanctuary & Music Wing)
DESCRIPTION:Setup/breakdown times 12-5p.m.  Risers will be needed. \n 
URL:https://epworth.faith/event/southern-delaware-chorale-society-concert-sanctuary-music-wing-4/
LOCATION:Epworth United Methodist Church\, 19285 Holland Glade Road\, Rehoboth Beach\, DE\, 19971\, United States
CATEGORIES:Concerts,Facility Rentals
ORGANIZER;CN="Colin Armstrong":MAILTO:delawarecanuck@gmail.com
END:VEVENT
BEGIN:VEVENT
DTSTART;TZID=America/New_York:20240223T190000
DTEND;TZID=America/New_York:20240223T220000
DTSTAMP:20260425T070432
CREATED:20240116T171139Z
LAST-MODIFIED:20240206T154607Z
UID:10012145-1708714800-1708725600@epworth.faith
SUMMARY:Southern Delaware Chorale Concert-Rehearsal (Sanctuary & Music Wing)
DESCRIPTION:Setup risers.  Prep for rehearsal 6:30-10:30.
URL:https://epworth.faith/event/southern-delaware-chorale-society-concert-rehearsal-sanctuary-music-wing/
LOCATION:Epworth United Methodist Church\, 19285 Holland Glade Road\, Rehoboth Beach\, DE\, 19971\, United States
CATEGORIES:Concerts,Facility Rentals
ORGANIZER;CN="Denise Adkins":MAILTO:deniseadkins1959@gmail.com
END:VEVENT
BEGIN:VEVENT
DTSTART;TZID=America/New_York:20240218T150000
DTEND;TZID=America/New_York:20240218T170000
DTSTAMP:20260425T070432
CREATED:20230822T153757Z
LAST-MODIFIED:20240125T155700Z
UID:10008982-1708268400-1708275600@epworth.faith
SUMMARY:CAMP Chorus Concert "The British Are Coming" (Sanctuary & Music Room)
DESCRIPTION:
URL:https://epworth.faith/event/camp-chorus-concert-the-brutish-are-coming-sanctuary-music-room-3/
LOCATION:Epworth United Methodist Church\, 19285 Holland Glade Road\, Rehoboth Beach\, DE\, 19971\, United States
CATEGORIES:Concerts,Facility Rentals
ORGANIZER;CN="David Scuccimarra":MAILTO:Scuch@aol.com
END:VEVENT
BEGIN:VEVENT
DTSTART;TZID=America/New_York:20240217T190000
DTEND;TZID=America/New_York:20240217T210000
DTSTAMP:20260425T070432
CREATED:20230822T153617Z
LAST-MODIFIED:20240125T155408Z
UID:10008981-1708196400-1708203600@epworth.faith
SUMMARY:CAMP Chorus Concert "The British Are Coming" (Sanctuary & Music Room)
DESCRIPTION:
URL:https://epworth.faith/event/camp-chorus-concert-the-brutish-are-coming-sanctuary-music-room-2/
LOCATION:Epworth United Methodist Church\, 19285 Holland Glade Road\, Rehoboth Beach\, DE\, 19971\, United States
CATEGORIES:Concerts,Facility Rentals
ORGANIZER;CN="David Scuccimarra":MAILTO:Scuch@aol.com
END:VEVENT
BEGIN:VEVENT
DTSTART;TZID=America/New_York:20240216T190000
DTEND;TZID=America/New_York:20240216T210000
DTSTAMP:20260425T070432
CREATED:20230822T153132Z
LAST-MODIFIED:20240125T155538Z
UID:10008980-1708110000-1708117200@epworth.faith
SUMMARY:CAMP Chorus Concert "The British Are Coming" (Sanctuary & Music Room)
DESCRIPTION:
URL:https://epworth.faith/event/camp-chorus-concert-the-brutish-are-coming-sanctuary-music-room/
LOCATION:Epworth United Methodist Church\, 19285 Holland Glade Road\, Rehoboth Beach\, DE\, 19971\, United States
CATEGORIES:Concerts,Facility Rentals
ORGANIZER;CN="David Scuccimarra":MAILTO:Scuch@aol.com
END:VEVENT
BEGIN:VEVENT
DTSTART;TZID=America/New_York:20240210T150000
DTEND;TZID=America/New_York:20240210T170000
DTSTAMP:20260425T070432
CREATED:20230608T155350Z
LAST-MODIFIED:20240220T160124Z
UID:10008716-1707577200-1707584400@epworth.faith
SUMMARY:Mid-Atlantic Symphony Orchestra (Sanctuary\, Music Wing\, Branford Lounge)
DESCRIPTION:
URL:https://epworth.faith/event/mid-atlantic-symphony-orchestra-sanctuary-music-wing-branford-lounge/2024-02-10/
LOCATION:Epworth United Methodist Church\, 19285 Holland Glade Road\, Rehoboth Beach\, DE\, 19971\, United States
CATEGORIES:Concerts,Facility Rentals
ORGANIZER;CN="Dane Krich":MAILTO:dane@midatlanticsymphony.org
END:VEVENT
BEGIN:VEVENT
DTSTART;TZID=America/New_York:20240112T190000
DTEND;TZID=America/New_York:20240112T213000
DTSTAMP:20260425T070432
CREATED:20230719T181205Z
LAST-MODIFIED:20240111T162514Z
UID:10008830-1705086000-1705095000@epworth.faith
SUMMARY:Southern DE Alliance for Racial Justice Concert (Sanctuary and Choir Room)
DESCRIPTION:
URL:https://epworth.faith/event/southern-de-alliance-for-racial-justice-concert-sanctuary/
LOCATION:Epworth United Methodist Church\, 19285 Holland Glade Road\, Rehoboth Beach\, DE\, 19971\, United States
CATEGORIES:Concerts,Facility Rentals
ORGANIZER;CN="Joseph Lawson":MAILTO:josephplawson@gmail.com
END:VEVENT
BEGIN:VEVENT
DTSTART;TZID=America/New_York:20231218T190000
DTEND;TZID=America/New_York:20231218T210000
DTSTAMP:20260425T070432
CREATED:20230614T155927Z
LAST-MODIFIED:20230614T155927Z
UID:10008727-1702926000-1702933200@epworth.faith
SUMMARY:ENCORE Creativity Concert (Sanctuary & Music Wing)
DESCRIPTION:
URL:https://epworth.faith/event/encore-creativity-concert-sanctuary-music-wing/
LOCATION:Epworth United Methodist Church\, 19285 Holland Glade Road\, Rehoboth Beach\, DE\, 19971\, United States
CATEGORIES:Concerts
ORGANIZER;CN="Ethan Lolley":MAILTO:ethan.lolley@encorecreativity.org
END:VEVENT
BEGIN:VEVENT
DTSTART;TZID=America/New_York:20231216T150000
DTEND;TZID=America/New_York:20231216T170000
DTSTAMP:20260425T070432
CREATED:20230329T191358Z
LAST-MODIFIED:20230329T191448Z
UID:10008183-1702738800-1702746000@epworth.faith
SUMMARY:SODELO Concert (Sanctuary & Music Wing)
DESCRIPTION:SODELO will be here at 10:00 a.m. to set up and decorate.
URL:https://epworth.faith/event/sodelo-concert-sanctuary/
LOCATION:Epworth United Methodist Church\, 19285 Holland Glade Road\, Rehoboth Beach\, DE\, 19971\, United States
CATEGORIES:Concerts
ORGANIZER;CN="Eva DelGallo":MAILTO:delgalloviolin@gmail.com
END:VEVENT
BEGIN:VEVENT
DTSTART;TZID=America/New_York:20231215T190000
DTEND;TZID=America/New_York:20231215T210000
DTSTAMP:20260425T070432
CREATED:20230608T155538Z
LAST-MODIFIED:20230608T155538Z
UID:10008720-1702666800-1702674000@epworth.faith
SUMMARY:Mid-Atlantic Symphony Orchestra (Sanctuary\, Music Room\, Branford Lounge)
DESCRIPTION:
URL:https://epworth.faith/event/mid-atlantic-symphony-orchestra-sanctuary-music-room-branford-lounge/2023-12-15/
LOCATION:Epworth United Methodist Church\, 19285 Holland Glade Road\, Rehoboth Beach\, DE\, 19971\, United States
CATEGORIES:Concerts
ORGANIZER;CN="Dane Krich":MAILTO:dane@midatlanticsymphony.org
END:VEVENT
BEGIN:VEVENT
DTSTART;TZID=America/New_York:20231211T190000
DTEND;TZID=America/New_York:20231211T200000
DTSTAMP:20260425T070432
CREATED:20231013T193213Z
LAST-MODIFIED:20231013T193213Z
UID:10009432-1702321200-1702324800@epworth.faith
SUMMARY:Sussex Tech Winter Concert (Sanctuary)
DESCRIPTION:[contact-form][contact-field label=”Name” type=”name”  required=”true” /][contact-field label=”Email” type=”email” required=”true” /][contact-field label=”Website” type=”url” /][contact-field label=”Message” type=”textarea” /][/contact-form]
URL:https://epworth.faith/event/sussex-tech-winter-concert-sanctuary/
LOCATION:Epworth United Methodist Church\, 19285 Holland Glade Road\, Rehoboth Beach\, DE\, 19971\, United States
CATEGORIES:Concerts,Facility Rentals
ORGANIZER;CN="Sarah Rose":MAILTO:Sarah.Rose@sussexvt.k12.de.us
END:VEVENT
BEGIN:VEVENT
DTSTART;TZID=America/New_York:20231208T100000
DTEND;TZID=America/New_York:20231208T141500
DTSTAMP:20260425T070432
CREATED:20231013T193500Z
LAST-MODIFIED:20231013T193500Z
UID:10009433-1702029600-1702044900@epworth.faith
SUMMARY:Sussex Tech Winter Concert Rehearsal (Sanctuary & Fellowship Hall)
DESCRIPTION:
URL:https://epworth.faith/event/sussex-tech-winter-concert-rehearsal-sanctuary-fellowship-hall/
LOCATION:Epworth United Methodist Church\, 19285 Holland Glade Road\, Rehoboth Beach\, DE\, 19971\, United States
CATEGORIES:Concerts,Facility Rentals
ORGANIZER;CN="Sarah Rose":MAILTO:Sarah.Rose@sussexvt.k12.de.us
END:VEVENT
BEGIN:VEVENT
DTSTART;TZID=America/New_York:20231202T150000
DTEND;TZID=America/New_York:20231202T170000
DTSTAMP:20260425T070432
CREATED:20230112T153137Z
LAST-MODIFIED:20231113T165028Z
UID:10006575-1701529200-1701536400@epworth.faith
SUMMARY:Southern Delaware Chorale Society Concert (Sanctuary & Music Wing)
DESCRIPTION:
URL:https://epworth.faith/event/southern-delaware-chorale-society-concert-sanctuary-music-wing-2/
LOCATION:Epworth United Methodist Church\, 19285 Holland Glade Road\, Rehoboth Beach\, DE\, 19971\, United States
CATEGORIES:Concerts,Facility Rentals
ORGANIZER;CN="Colin Armstrong":MAILTO:delawarecanuck@gmail.com
END:VEVENT
BEGIN:VEVENT
DTSTART;TZID=America/New_York:20231201T193000
DTEND;TZID=America/New_York:20231201T210000
DTSTAMP:20260425T070432
CREATED:20230112T153021Z
LAST-MODIFIED:20231113T163533Z
UID:10006569-1701459000-1701464400@epworth.faith
SUMMARY:Southern Delaware Chorale Society Concert (Sanctuary & Music Wing)
DESCRIPTION:
URL:https://epworth.faith/event/southern-delaware-chorale-society-concert-sanctuary-music-wing/
LOCATION:Epworth United Methodist Church\, 19285 Holland Glade Road\, Rehoboth Beach\, DE\, 19971\, United States
CATEGORIES:Concerts
ORGANIZER;CN="Colin Armstrong":MAILTO:delawarecanuck@gmail.com
END:VEVENT
BEGIN:VEVENT
DTSTART;TZID=America/New_York:20231201T083000
DTEND;TZID=America/New_York:20231201T103000
DTSTAMP:20260425T070432
CREATED:20230607T162114Z
LAST-MODIFIED:20230607T162114Z
UID:10008711-1701419400-1701426600@epworth.faith
SUMMARY:Piano Tuning (Sanctuary)
DESCRIPTION:
URL:https://epworth.faith/event/piano-tuning-sanctuary/
LOCATION:Epworth United Methodist Church\, 19285 Holland Glade Road\, Rehoboth Beach\, DE\, 19971\, United States
CATEGORIES:Concerts
ORGANIZER;CN="Doug Yetter":MAILTO:dyetter@epworth.faith
END:VEVENT
BEGIN:VEVENT
DTSTART;TZID=America/New_York:20231128T170000
DTEND;TZID=America/New_York:20231128T220000
DTSTAMP:20260425T070432
CREATED:20230112T153232Z
LAST-MODIFIED:20231113T161041Z
UID:10006611-1701190800-1701208800@epworth.faith
SUMMARY:Southern Delaware Chorale Society Rehearsal (Sanctuary & Music Room)
DESCRIPTION:
URL:https://epworth.faith/event/southern-delaware-chorale-society-rehearsal/
LOCATION:Epworth United Methodist Church\, 19285 Holland Glade Road\, Rehoboth Beach\, DE\, 19971\, United States
CATEGORIES:Concerts,Facility Rentals
ORGANIZER;CN="Colin Armstrong":MAILTO:delawarecanuck@gmail.com
END:VEVENT
BEGIN:VEVENT
DTSTART;TZID=America/New_York:20231103T190000
DTEND;TZID=America/New_York:20231103T210000
DTSTAMP:20260425T070432
CREATED:20230608T155538Z
LAST-MODIFIED:20230608T155538Z
UID:10008719-1699038000-1699045200@epworth.faith
SUMMARY:Mid-Atlantic Symphony Orchestra (Sanctuary\, Music Room\, Branford Lounge)
DESCRIPTION:
URL:https://epworth.faith/event/mid-atlantic-symphony-orchestra-sanctuary-music-room-branford-lounge/2023-11-03/
LOCATION:Epworth United Methodist Church\, 19285 Holland Glade Road\, Rehoboth Beach\, DE\, 19971\, United States
CATEGORIES:Concerts
ORGANIZER;CN="Dane Krich":MAILTO:dane@midatlanticsymphony.org
END:VEVENT
BEGIN:VEVENT
DTSTART;TZID=America/New_York:20231029T150000
DTEND;TZID=America/New_York:20231029T170000
DTSTAMP:20260425T070432
CREATED:20230614T153748Z
LAST-MODIFIED:20230614T153748Z
UID:10008726-1698591600-1698598800@epworth.faith
SUMMARY:50th Year of Olivia Records (Sanctuary & Music Wing)
DESCRIPTION:
URL:https://epworth.faith/event/50th-year-of-olivia-records-sanctuary-music-wing/
LOCATION:Epworth United Methodist Church\, 19285 Holland Glade Road\, Rehoboth Beach\, DE\, 19971\, United States
CATEGORIES:Concerts
ORGANIZER;CN="Peggy Hughes":MAILTO:peggyahughes@yahoo.com
END:VEVENT
BEGIN:VEVENT
DTSTART;TZID=America/New_York:20231024T190000
DTEND;TZID=America/New_York:20231024T210000
DTSTAMP:20260425T070432
CREATED:20230831T153742Z
LAST-MODIFIED:20230831T153743Z
UID:10008996-1698174000-1698181200@epworth.faith
SUMMARY:Women In Music (Sanctuary - practice session)
DESCRIPTION:
URL:https://epworth.faith/event/women-in-music-sanctuary-practice-session/
LOCATION:DE
CATEGORIES:Concerts,Facility Rentals
END:VEVENT
BEGIN:VEVENT
DTSTART;TZID=America/New_York:20231024T183000
DTEND;TZID=America/New_York:20231024T213000
DTSTAMP:20260425T070432
CREATED:20230911T171204Z
LAST-MODIFIED:20231003T144508Z
UID:10009271-1698172200-1698183000@epworth.faith
SUMMARY:Women's Music Concert Rehearsal (Sanctuary)
DESCRIPTION:
URL:https://epworth.faith/event/womens-music-concert-rehearsal-sanctuary/
LOCATION:Epworth United Methodist Church\, 19285 Holland Glade Road\, Rehoboth Beach\, DE\, 19971\, United States
CATEGORIES:Concerts,Facility Rentals
ORGANIZER;CN="Peggy Hughes":MAILTO:peggyahughes@yahoo.com
END:VEVENT
BEGIN:VEVENT
DTSTART;TZID=America/New_York:20231021T150000
DTEND;TZID=America/New_York:20231021T170000
DTSTAMP:20260425T070432
CREATED:20230608T155350Z
LAST-MODIFIED:20240220T160124Z
UID:10008715-1697900400-1697907600@epworth.faith
SUMMARY:Mid-Atlantic Symphony Orchestra (Sanctuary\, Music Wing\, Branford Lounge)
DESCRIPTION:
URL:https://epworth.faith/event/mid-atlantic-symphony-orchestra-sanctuary-music-wing-branford-lounge/2023-10-21/
LOCATION:Epworth United Methodist Church\, 19285 Holland Glade Road\, Rehoboth Beach\, DE\, 19971\, United States
CATEGORIES:Concerts,Facility Rentals
ORGANIZER;CN="Dane Krich":MAILTO:dane@midatlanticsymphony.org
END:VEVENT
BEGIN:VEVENT
DTSTART;TZID=America/New_York:20231014T143000
DTEND;TZID=America/New_York:20231014T163000
DTSTAMP:20260425T070432
CREATED:20220817T190358Z
LAST-MODIFIED:20220817T190358Z
UID:10006841-1697293800-1697301000@epworth.faith
SUMMARY:Jazz Festival (Sanctuary)
DESCRIPTION:
URL:https://epworth.faith/event/jazz-festival-sanctuary-4/
LOCATION:Epworth United Methodist Church\, 19285 Holland Glade Road\, Rehoboth Beach\, DE\, 19971\, United States
CATEGORIES:Concerts
ORGANIZER;CN="Bing Crosby":MAILTO:bing@rehobothjazz.com
END:VEVENT
BEGIN:VEVENT
DTSTART;TZID=America/New_York:20231014T120000
DTEND;TZID=America/New_York:20231014T220000
DTSTAMP:20260425T070432
CREATED:20220817T190637Z
LAST-MODIFIED:20220817T190637Z
UID:10006844-1697284800-1697320800@epworth.faith
SUMMARY:Jazz Festival Holding Rooms (Music\, Branford\, Youth)
DESCRIPTION:
URL:https://epworth.faith/event/jazz-festival-holding-rooms-music-branford-youth-3/
LOCATION:Epworth United Methodist Church\, 19285 Holland Glade Road\, Rehoboth Beach\, DE\, 19971\, United States
CATEGORIES:Concerts
ORGANIZER;CN="Bing Crosby":MAILTO:bing@rehobothjazz.com
END:VEVENT
BEGIN:VEVENT
DTSTART;TZID=America/New_York:20231007T150000
DTEND;TZID=America/New_York:20231007T170000
DTSTAMP:20260425T070432
CREATED:20230613T190805Z
LAST-MODIFIED:20230613T190805Z
UID:10008724-1696690800-1696698000@epworth.faith
SUMMARY:Peter & Will Anderson Duo (Sanctuary)
DESCRIPTION:
URL:https://epworth.faith/event/peter-will-anderson-duo-sanctuary/
LOCATION:Epworth United Methodist Church\, 19285 Holland Glade Road\, Rehoboth Beach\, DE\, 19971\, United States
CATEGORIES:Concerts
ORGANIZER;CN="Jody Stein":MAILTO:jodye.stein@gmail.com
END:VEVENT
BEGIN:VEVENT
DTSTART;TZID=America/New_York:20231001T080000
DTEND;TZID=America/New_York:20231001T170000
DTSTAMP:20260425T070432
CREATED:20220811T155905Z
LAST-MODIFIED:20220811T155905Z
UID:10006834-1696147200-1696179600@epworth.faith
SUMMARY:CAMP Rehoboth Chorus Concert (Sanctuary & Music Wing)
DESCRIPTION:CAMP Chorus will be here at 1:00 p.m. and the concert starts at 3:00 p.m.
URL:https://epworth.faith/event/camp-rehoboth-chorus-concert-sanctuary-music-wing-2/
LOCATION:Epworth United Methodist Church\, 19285 Holland Glade Road\, Rehoboth Beach\, DE\, 19971\, United States
CATEGORIES:Concerts
ORGANIZER;CN="David Scuccimarra":MAILTO:Scuch@aol.com
END:VEVENT
BEGIN:VEVENT
DTSTART;TZID=America/New_York:20230930T190000
DTEND;TZID=America/New_York:20230930T210000
DTSTAMP:20260425T070432
CREATED:20220811T155753Z
LAST-MODIFIED:20220811T155753Z
UID:10005936-1696100400-1696107600@epworth.faith
SUMMARY:CAMP Rehoboth Chorus Concert (Sanctuary & Music Wing)
DESCRIPTION:CAMP Chorus will be here at 6:00 p.m. and the concert starts at 7:00 p.m.
URL:https://epworth.faith/event/camp-rehoboth-chorus-concert-sanctuary-music-wing/2023-09-30/
LOCATION:Epworth United Methodist Church\, 19285 Holland Glade Road\, Rehoboth Beach\, DE\, 19971\, United States
CATEGORIES:Concerts
ORGANIZER;CN="David Scuccimarra":MAILTO:Scuch@aol.com
END:VEVENT
BEGIN:VEVENT
DTSTART;TZID=America/New_York:20230929T190000
DTEND;TZID=America/New_York:20230929T210000
DTSTAMP:20260425T070432
CREATED:20220811T155753Z
LAST-MODIFIED:20220811T155753Z
UID:10005935-1696014000-1696021200@epworth.faith
SUMMARY:CAMP Rehoboth Chorus Concert (Sanctuary & Music Wing)
DESCRIPTION:CAMP Chorus will be here at 6:00 p.m. and the concert starts at 7:00 p.m.
URL:https://epworth.faith/event/camp-rehoboth-chorus-concert-sanctuary-music-wing/2023-09-29/
LOCATION:Epworth United Methodist Church\, 19285 Holland Glade Road\, Rehoboth Beach\, DE\, 19971\, United States
CATEGORIES:Concerts
ORGANIZER;CN="David Scuccimarra":MAILTO:Scuch@aol.com
END:VEVENT
BEGIN:VEVENT
DTSTART;TZID=America/New_York:20230925T180000
DTEND;TZID=America/New_York:20230925T220000
DTSTAMP:20260425T070432
CREATED:20220811T160716Z
LAST-MODIFIED:20220811T160716Z
UID:10006836-1695664800-1695679200@epworth.faith
SUMMARY:CAMP Rehoboth Chorus Rehearsal (Sanctuary)
DESCRIPTION:
URL:https://epworth.faith/event/camp-rehoboth-chorus-rehearsal-sanctuary-2/
LOCATION:Epworth United Methodist Church\, 19285 Holland Glade Road\, Rehoboth Beach\, DE\, 19971\, United States
CATEGORIES:Concerts
ORGANIZER;CN="David Scuccimarra":MAILTO:Scuch@aol.com
END:VEVENT
BEGIN:VEVENT
DTSTART;TZID=America/New_York:20230924T130000
DTEND;TZID=America/New_York:20230924T150000
DTSTAMP:20260425T070432
CREATED:20230920T161743Z
LAST-MODIFIED:20230920T161743Z
UID:10009419-1695560400-1695567600@epworth.faith
SUMMARY:Alliance Ensemble (CAMP) Rehearsal (Sanctuary)
DESCRIPTION:
URL:https://epworth.faith/event/alliance-ensemble-camp-rehearsal-sanctuary/
LOCATION:DE
CATEGORIES:Concerts,Facility Rentals
END:VEVENT
BEGIN:VEVENT
DTSTART;TZID=America/New_York:20230809T193000
DTEND;TZID=America/New_York:20230809T210000
DTSTAMP:20260425T070432
CREATED:20230419T160935Z
LAST-MODIFIED:20230419T160935Z
UID:10008570-1691609400-1691614800@epworth.faith
SUMMARY:Sheridan Seyfried Concert (Sanctuary)
DESCRIPTION:
URL:https://epworth.faith/event/sheridan-seyfried-concert-sanctuary/
LOCATION:Epworth United Methodist Church\, 19285 Holland Glade Road\, Rehoboth Beach\, DE\, 19971\, United States
CATEGORIES:Concerts
ORGANIZER;CN="Sheridan Seyfried":MAILTO:sheridan.seyfried@gmail.com
END:VEVENT
END:VCALENDAR