BEGIN:VCALENDAR
VERSION:2.0
PRODID:-//Epworth UMC - ECPv6.15.20//NONSGML v1.0//EN
CALSCALE:GREGORIAN
METHOD:PUBLISH
X-ORIGINAL-URL:https://epworth.faith
X-WR-CALDESC:Events for Epworth UMC
REFRESH-INTERVAL;VALUE=DURATION:PT1H
X-Robots-Tag:noindex
X-PUBLISHED-TTL:PT1H
BEGIN:VTIMEZONE
TZID:America/New_York
BEGIN:DAYLIGHT
TZOFFSETFROM:-0500
TZOFFSETTO:-0400
TZNAME:EDT
DTSTART:20260308T070000
END:DAYLIGHT
BEGIN:STANDARD
TZOFFSETFROM:-0400
TZOFFSETTO:-0500
TZNAME:EST
DTSTART:20261101T060000
END:STANDARD
BEGIN:DAYLIGHT
TZOFFSETFROM:-0500
TZOFFSETTO:-0400
TZNAME:EDT
DTSTART:20270314T070000
END:DAYLIGHT
BEGIN:STANDARD
TZOFFSETFROM:-0400
TZOFFSETTO:-0500
TZNAME:EST
DTSTART:20271107T060000
END:STANDARD
BEGIN:DAYLIGHT
TZOFFSETFROM:-0500
TZOFFSETTO:-0400
TZNAME:EDT
DTSTART:20280312T070000
END:DAYLIGHT
BEGIN:STANDARD
TZOFFSETFROM:-0400
TZOFFSETTO:-0500
TZNAME:EST
DTSTART:20281105T060000
END:STANDARD
BEGIN:DAYLIGHT
TZOFFSETFROM:-0500
TZOFFSETTO:-0400
TZNAME:EDT
DTSTART:20290311T070000
END:DAYLIGHT
BEGIN:STANDARD
TZOFFSETFROM:-0400
TZOFFSETTO:-0500
TZNAME:EST
DTSTART:20291104T060000
END:STANDARD
BEGIN:DAYLIGHT
TZOFFSETFROM:-0500
TZOFFSETTO:-0400
TZNAME:EDT
DTSTART:20300310T070000
END:DAYLIGHT
BEGIN:STANDARD
TZOFFSETFROM:-0400
TZOFFSETTO:-0500
TZNAME:EST
DTSTART:20301103T060000
END:STANDARD
END:VTIMEZONE
BEGIN:VEVENT
DTSTART;TZID=America/New_York:20270924T190000
DTEND;TZID=America/New_York:20270924T210000
DTSTAMP:20260425T105721
CREATED:20260204T142106Z
LAST-MODIFIED:20260204T142107Z
UID:10021115-1821812400-1821819600@epworth.faith
SUMMARY:Camp Rehoboth Chorus Concert (Sanctuary & Music Room)
DESCRIPTION:
URL:https://epworth.faith/event/camp-rehoboth-chorus-concert-sanctuary-music-room-24/
LOCATION:Epworth United Methodist Church\, 19285 Holland Glade Road\, Rehoboth Beach\, DE\, 19971\, United States
CATEGORIES:Church,Concerts,Facility Rentals
ORGANIZER;CN="David Scuccimarra":MAILTO:Scuch@aol.com
END:VEVENT
BEGIN:VEVENT
DTSTART;TZID=America/New_York:20270925T190000
DTEND;TZID=America/New_York:20270925T210000
DTSTAMP:20260425T105721
CREATED:20260204T142313Z
LAST-MODIFIED:20260204T142314Z
UID:10021116-1821898800-1821906000@epworth.faith
SUMMARY:Camp Rehoboth Chorus Concert (Sanctuary & Music Room)
DESCRIPTION:
URL:https://epworth.faith/event/camp-rehoboth-chorus-concert-sanctuary-music-room-25/
LOCATION:Epworth United Methodist Church\, 19285 Holland Glade Road\, Rehoboth Beach\, DE\, 19971\, United States
CATEGORIES:Church,Concerts,Facility Rentals
ORGANIZER;CN="David Scuccimarra":MAILTO:Scuch@aol.com
END:VEVENT
BEGIN:VEVENT
DTSTART;TZID=America/New_York:20270926T150000
DTEND;TZID=America/New_York:20270926T170000
DTSTAMP:20260425T105721
CREATED:20260204T142456Z
LAST-MODIFIED:20260204T142456Z
UID:10021117-1821970800-1821978000@epworth.faith
SUMMARY:Camp Rehoboth Chorus Concert (Sanctuary & Music Room)
DESCRIPTION:
URL:https://epworth.faith/event/camp-rehoboth-chorus-concert-sanctuary-music-room-26/
LOCATION:Epworth United Methodist Church\, 19285 Holland Glade Road\, Rehoboth Beach\, DE\, 19971\, United States
CATEGORIES:Church,Concerts,Facility Rentals
ORGANIZER;CN="David Scuccimarra":MAILTO:Scuch@aol.com
END:VEVENT
BEGIN:VEVENT
DTSTART;TZID=America/New_York:20280131T183000
DTEND;TZID=America/New_York:20280131T203000
DTSTAMP:20260425T105721
CREATED:20260204T142936Z
LAST-MODIFIED:20260204T142936Z
UID:10021118-1832956200-1832963400@epworth.faith
SUMMARY:Camp Rehoboth Chorus Concert Rehearsal (Sanctuary & Music Room)
DESCRIPTION:
URL:https://epworth.faith/event/camp-rehoboth-chorus-concert-rehearsal-sanctuary-music-room-9/
LOCATION:Epworth United Methodist Church\, 19285 Holland Glade Road\, Rehoboth Beach\, DE\, 19971\, United States
CATEGORIES:Church,Concerts,Facility Rentals
ORGANIZER;CN="David Scuccimarra":MAILTO:Scuch@aol.com
END:VEVENT
BEGIN:VEVENT
DTSTART;TZID=America/New_York:20280207T183000
DTEND;TZID=America/New_York:20280207T203000
DTSTAMP:20260425T105721
CREATED:20260204T143003Z
LAST-MODIFIED:20260204T143003Z
UID:10021119-1833561000-1833568200@epworth.faith
SUMMARY:Camp Rehoboth Chorus Concert Rehearsal (Sanctuary & Music Room)
DESCRIPTION:
URL:https://epworth.faith/event/camp-rehoboth-chorus-concert-rehearsal-sanctuary-music-room-10/
LOCATION:Epworth United Methodist Church\, 19285 Holland Glade Road\, Rehoboth Beach\, DE\, 19971\, United States
CATEGORIES:Church,Concerts,Facility Rentals
ORGANIZER;CN="David Scuccimarra":MAILTO:Scuch@aol.com
END:VEVENT
BEGIN:VEVENT
DTSTART;TZID=America/New_York:20280211T190000
DTEND;TZID=America/New_York:20280211T210000
DTSTAMP:20260425T105721
CREATED:20260204T143515Z
LAST-MODIFIED:20260204T143517Z
UID:10021120-1833908400-1833915600@epworth.faith
SUMMARY:Camp Rehoboth Chorus Concert (Sanctuary & Music Room)
DESCRIPTION:
URL:https://epworth.faith/event/camp-rehoboth-chorus-concert-sanctuary-music-room-27/
LOCATION:Epworth United Methodist Church\, 19285 Holland Glade Road\, Rehoboth Beach\, DE\, 19971\, United States
CATEGORIES:Church,Concerts,Facility Rentals
ORGANIZER;CN="David Scuccimarra":MAILTO:Scuch@aol.com
END:VEVENT
BEGIN:VEVENT
DTSTART;TZID=America/New_York:20280212T190000
DTEND;TZID=America/New_York:20280212T210000
DTSTAMP:20260425T105721
CREATED:20260204T143602Z
LAST-MODIFIED:20260204T143602Z
UID:10021121-1833994800-1834002000@epworth.faith
SUMMARY:Camp Rehoboth Chorus Concert (Sanctuary & Music Room)
DESCRIPTION:
URL:https://epworth.faith/event/camp-rehoboth-chorus-concert-sanctuary-music-room-28/
LOCATION:Epworth United Methodist Church\, 19285 Holland Glade Road\, Rehoboth Beach\, DE\, 19971\, United States
CATEGORIES:Church,Concerts,Facility Rentals
ORGANIZER;CN="David Scuccimarra":MAILTO:Scuch@aol.com
END:VEVENT
BEGIN:VEVENT
DTSTART;TZID=America/New_York:20280213T150000
DTEND;TZID=America/New_York:20280213T170000
DTSTAMP:20260425T105721
CREATED:20260204T143707Z
LAST-MODIFIED:20260204T143707Z
UID:10021122-1834066800-1834074000@epworth.faith
SUMMARY:Camp Rehoboth Chorus Concert (Sanctuary & Music Room)
DESCRIPTION:
URL:https://epworth.faith/event/camp-rehoboth-chorus-concert-sanctuary-music-room-29/
LOCATION:Epworth United Methodist Church\, 19285 Holland Glade Road\, Rehoboth Beach\, DE\, 19971\, United States
CATEGORIES:Church,Concerts,Facility Rentals
ORGANIZER;CN="David Scuccimarra":MAILTO:Scuch@aol.com
END:VEVENT
BEGIN:VEVENT
DTSTART;TZID=America/New_York:20280605T183000
DTEND;TZID=America/New_York:20280605T203000
DTSTAMP:20260425T105721
CREATED:20260204T144456Z
LAST-MODIFIED:20260204T144456Z
UID:10021123-1843842600-1843849800@epworth.faith
SUMMARY:Camp Rehoboth Chorus Concert Rehearsal (Sanctuary & Music Room)
DESCRIPTION:
URL:https://epworth.faith/event/camp-rehoboth-chorus-concert-rehearsal-sanctuary-music-room-11/
LOCATION:Epworth United Methodist Church\, 19285 Holland Glade Road\, Rehoboth Beach\, DE\, 19971\, United States
CATEGORIES:Church,Concerts,Facility Rentals
ORGANIZER;CN="David Scuccimarra":MAILTO:Scuch@aol.com
END:VEVENT
BEGIN:VEVENT
DTSTART;TZID=America/New_York:20280612T183000
DTEND;TZID=America/New_York:20280612T203000
DTSTAMP:20260425T105721
CREATED:20260204T144532Z
LAST-MODIFIED:20260204T144532Z
UID:10021124-1844447400-1844454600@epworth.faith
SUMMARY:Camp Rehoboth Chorus Concert Rehearsal (Sanctuary & Music Room)
DESCRIPTION:
URL:https://epworth.faith/event/camp-rehoboth-chorus-concert-rehearsal-sanctuary-music-room-12/
LOCATION:Epworth United Methodist Church\, 19285 Holland Glade Road\, Rehoboth Beach\, DE\, 19971\, United States
CATEGORIES:Church,Concerts,Facility Rentals
ORGANIZER;CN="David Scuccimarra":MAILTO:Scuch@aol.com
END:VEVENT
BEGIN:VEVENT
DTSTART;TZID=America/New_York:20280616T190000
DTEND;TZID=America/New_York:20280616T210000
DTSTAMP:20260425T105721
CREATED:20260204T144808Z
LAST-MODIFIED:20260204T144809Z
UID:10021125-1844794800-1844802000@epworth.faith
SUMMARY:Camp Rehoboth Chorus Concert (Sanctuary & Music Room)
DESCRIPTION:
URL:https://epworth.faith/event/camp-rehoboth-chorus-concert-sanctuary-music-room-30/
LOCATION:Epworth United Methodist Church\, 19285 Holland Glade Road\, Rehoboth Beach\, DE\, 19971\, United States
CATEGORIES:Church,Concerts,Facility Rentals
ORGANIZER;CN="David Scuccimarra":MAILTO:Scuch@aol.com
END:VEVENT
BEGIN:VEVENT
DTSTART;TZID=America/New_York:20280617T190000
DTEND;TZID=America/New_York:20280617T210000
DTSTAMP:20260425T105721
CREATED:20260204T145121Z
LAST-MODIFIED:20260204T145121Z
UID:10021126-1844881200-1844888400@epworth.faith
SUMMARY:Camp Rehoboth Chorus Concert (Sanctuary & Music Room)
DESCRIPTION:
URL:https://epworth.faith/event/camp-rehoboth-chorus-concert-sanctuary-music-room-31/
LOCATION:Epworth United Methodist Church\, 19285 Holland Glade Road\, Rehoboth Beach\, DE\, 19971\, United States
CATEGORIES:Church,Concerts,Facility Rentals
ORGANIZER;CN="David Scuccimarra":MAILTO:Scuch@aol.com
END:VEVENT
BEGIN:VEVENT
DTSTART;TZID=America/New_York:20280618T150000
DTEND;TZID=America/New_York:20280618T170000
DTSTAMP:20260425T105721
CREATED:20260204T145400Z
LAST-MODIFIED:20260204T145428Z
UID:10021127-1844953200-1844960400@epworth.faith
SUMMARY:Camp Rehoboth Chorus Concert (Sanctuary & Music Room)
DESCRIPTION:
URL:https://epworth.faith/event/camp-rehoboth-chorus-concert-sanctuary-music-room-32/
LOCATION:Epworth United Methodist Church\, 19285 Holland Glade Road\, Rehoboth Beach\, DE\, 19971\, United States
CATEGORIES:Church,Concerts,Facility Rentals
ORGANIZER;CN="David Scuccimarra":MAILTO:Scuch@aol.com
END:VEVENT
BEGIN:VEVENT
DTSTART;TZID=America/New_York:20280918T183000
DTEND;TZID=America/New_York:20280918T203000
DTSTAMP:20260425T105721
CREATED:20260204T162423Z
LAST-MODIFIED:20260204T162423Z
UID:10021128-1852914600-1852921800@epworth.faith
SUMMARY:Camp Rehoboth Chorus Concert Rehearsal (Sanctuary & Music Room)
DESCRIPTION:
URL:https://epworth.faith/event/camp-rehoboth-chorus-concert-rehearsal-sanctuary-music-room-13/
LOCATION:Epworth United Methodist Church\, 19285 Holland Glade Road\, Rehoboth Beach\, DE\, 19971\, United States
CATEGORIES:Church,Concerts,Facility Rentals
ORGANIZER;CN="David Scuccimarra":MAILTO:Scuch@aol.com
END:VEVENT
BEGIN:VEVENT
DTSTART;TZID=America/New_York:20280925T183000
DTEND;TZID=America/New_York:20280925T203000
DTSTAMP:20260425T105721
CREATED:20260204T162449Z
LAST-MODIFIED:20260204T162449Z
UID:10021129-1853519400-1853526600@epworth.faith
SUMMARY:Camp Rehoboth Chorus Concert Rehearsal (Sanctuary & Music Room)
DESCRIPTION:
URL:https://epworth.faith/event/camp-rehoboth-chorus-concert-rehearsal-sanctuary-music-room-14/
LOCATION:Epworth United Methodist Church\, 19285 Holland Glade Road\, Rehoboth Beach\, DE\, 19971\, United States
CATEGORIES:Church,Concerts,Facility Rentals
ORGANIZER;CN="David Scuccimarra":MAILTO:Scuch@aol.com
END:VEVENT
BEGIN:VEVENT
DTSTART;TZID=America/New_York:20280929T190000
DTEND;TZID=America/New_York:20280929T210000
DTSTAMP:20260425T105721
CREATED:20260204T162711Z
LAST-MODIFIED:20260204T162712Z
UID:10021130-1853866800-1853874000@epworth.faith
SUMMARY:Camp Rehoboth Chorus Concert (Sanctuary & Music Room)
DESCRIPTION:
URL:https://epworth.faith/event/camp-rehoboth-chorus-concert-sanctuary-music-room-33/
LOCATION:Epworth United Methodist Church\, 19285 Holland Glade Road\, Rehoboth Beach\, DE\, 19971\, United States
CATEGORIES:Church,Concerts,Facility Rentals
ORGANIZER;CN="David Scuccimarra":MAILTO:Scuch@aol.com
END:VEVENT
BEGIN:VEVENT
DTSTART;TZID=America/New_York:20280930T190000
DTEND;TZID=America/New_York:20280930T210000
DTSTAMP:20260425T105721
CREATED:20260204T162810Z
LAST-MODIFIED:20260204T162810Z
UID:10021131-1853953200-1853960400@epworth.faith
SUMMARY:Camp Rehoboth Chorus Concert (Sanctuary & Music Room)
DESCRIPTION:
URL:https://epworth.faith/event/camp-rehoboth-chorus-concert-sanctuary-music-room-34/
LOCATION:Epworth United Methodist Church\, 19285 Holland Glade Road\, Rehoboth Beach\, DE\, 19971\, United States
CATEGORIES:Church,Concerts,Facility Rentals
ORGANIZER;CN="David Scuccimarra":MAILTO:Scuch@aol.com
END:VEVENT
BEGIN:VEVENT
DTSTART;TZID=America/New_York:20281001T150000
DTEND;TZID=America/New_York:20281001T170000
DTSTAMP:20260425T105721
CREATED:20260204T162938Z
LAST-MODIFIED:20260204T162938Z
UID:10021132-1854025200-1854032400@epworth.faith
SUMMARY:Camp Rehoboth Chorus Concert (Sanctuary & Music Room)
DESCRIPTION:
URL:https://epworth.faith/event/camp-rehoboth-chorus-concert-sanctuary-music-room-35/
LOCATION:Epworth United Methodist Church\, 19285 Holland Glade Road\, Rehoboth Beach\, DE\, 19971\, United States
CATEGORIES:Church,Concerts,Facility Rentals
ORGANIZER;CN="David Scuccimarra":MAILTO:Scuch@aol.com
END:VEVENT
BEGIN:VEVENT
DTSTART;TZID=America/New_York:20290205T183000
DTEND;TZID=America/New_York:20290205T203000
DTSTAMP:20260425T105721
CREATED:20260204T165805Z
LAST-MODIFIED:20260204T165805Z
UID:10021133-1865010600-1865017800@epworth.faith
SUMMARY:Camp Rehoboth Chorus Concert Rehearsal (Sanctuary & Music Room)
DESCRIPTION:
URL:https://epworth.faith/event/camp-rehoboth-chorus-concert-rehearsal-sanctuary-music-room-15/
LOCATION:Epworth United Methodist Church\, 19285 Holland Glade Road\, Rehoboth Beach\, DE\, 19971\, United States
CATEGORIES:Church,Concerts,Facility Rentals
ORGANIZER;CN="David Scuccimarra":MAILTO:Scuch@aol.com
END:VEVENT
BEGIN:VEVENT
DTSTART;TZID=America/New_York:20290212T183000
DTEND;TZID=America/New_York:20290212T203000
DTSTAMP:20260425T105721
CREATED:20260204T180355Z
LAST-MODIFIED:20260204T180355Z
UID:10021134-1865615400-1865622600@epworth.faith
SUMMARY:Camp Rehoboth Chorus Concert Rehearsal (Sanctuary & Music Room)
DESCRIPTION:
URL:https://epworth.faith/event/camp-rehoboth-chorus-concert-rehearsal-sanctuary-music-room-16/
LOCATION:Epworth United Methodist Church\, 19285 Holland Glade Road\, Rehoboth Beach\, DE\, 19971\, United States
CATEGORIES:Church,Concerts,Facility Rentals
ORGANIZER;CN="David Scuccimarra":MAILTO:Scuch@aol.com
END:VEVENT
BEGIN:VEVENT
DTSTART;TZID=America/New_York:20290216T190000
DTEND;TZID=America/New_York:20290216T210000
DTSTAMP:20260425T105721
CREATED:20260204T182657Z
LAST-MODIFIED:20260204T182659Z
UID:10021135-1865962800-1865970000@epworth.faith
SUMMARY:Camp Rehoboth Chorus Concert (Sanctuary & Music Room)
DESCRIPTION:
URL:https://epworth.faith/event/camp-rehoboth-chorus-concert-sanctuary-music-room-36/
LOCATION:Epworth United Methodist Church\, 19285 Holland Glade Road\, Rehoboth Beach\, DE\, 19971\, United States
CATEGORIES:Church,Concerts,Facility Rentals
ORGANIZER;CN="David Scuccimarra":MAILTO:Scuch@aol.com
END:VEVENT
BEGIN:VEVENT
DTSTART;TZID=America/New_York:20290217T190000
DTEND;TZID=America/New_York:20290217T210000
DTSTAMP:20260425T105721
CREATED:20260204T182736Z
LAST-MODIFIED:20260204T182736Z
UID:10021136-1866049200-1866056400@epworth.faith
SUMMARY:Camp Rehoboth Chorus Concert (Sanctuary & Music Room)
DESCRIPTION:
URL:https://epworth.faith/event/camp-rehoboth-chorus-concert-sanctuary-music-room-37/
LOCATION:Epworth United Methodist Church\, 19285 Holland Glade Road\, Rehoboth Beach\, DE\, 19971\, United States
CATEGORIES:Church,Concerts,Facility Rentals
ORGANIZER;CN="David Scuccimarra":MAILTO:Scuch@aol.com
END:VEVENT
BEGIN:VEVENT
DTSTART;TZID=America/New_York:20290218T150000
DTEND;TZID=America/New_York:20290218T170000
DTSTAMP:20260425T105721
CREATED:20260204T182827Z
LAST-MODIFIED:20260204T182827Z
UID:10021137-1866121200-1866128400@epworth.faith
SUMMARY:Camp Rehoboth Chorus Concert (Sanctuary & Music Room)
DESCRIPTION:
URL:https://epworth.faith/event/camp-rehoboth-chorus-concert-sanctuary-music-room-38/
LOCATION:Epworth United Methodist Church\, 19285 Holland Glade Road\, Rehoboth Beach\, DE\, 19971\, United States
CATEGORIES:Church,Concerts,Facility Rentals
ORGANIZER;CN="David Scuccimarra":MAILTO:Scuch@aol.com
END:VEVENT
BEGIN:VEVENT
DTSTART;TZID=America/New_York:20290604T183000
DTEND;TZID=America/New_York:20290604T203000
DTSTAMP:20260425T105721
CREATED:20260204T183204Z
LAST-MODIFIED:20260204T183204Z
UID:10021138-1875292200-1875299400@epworth.faith
SUMMARY:Camp Rehoboth Chorus Concert Rehearsal (Sanctuary & Music Room)
DESCRIPTION:
URL:https://epworth.faith/event/camp-rehoboth-chorus-concert-rehearsal-sanctuary-music-room-17/
LOCATION:Epworth United Methodist Church\, 19285 Holland Glade Road\, Rehoboth Beach\, DE\, 19971\, United States
CATEGORIES:Church,Concerts,Facility Rentals
ORGANIZER;CN="David Scuccimarra":MAILTO:Scuch@aol.com
END:VEVENT
BEGIN:VEVENT
DTSTART;TZID=America/New_York:20290611T183000
DTEND;TZID=America/New_York:20290611T203000
DTSTAMP:20260425T105721
CREATED:20260204T183228Z
LAST-MODIFIED:20260204T183228Z
UID:10021139-1875897000-1875904200@epworth.faith
SUMMARY:Camp Rehoboth Chorus Concert Rehearsal (Sanctuary & Music Room)
DESCRIPTION:
URL:https://epworth.faith/event/camp-rehoboth-chorus-concert-rehearsal-sanctuary-music-room-18/
LOCATION:Epworth United Methodist Church\, 19285 Holland Glade Road\, Rehoboth Beach\, DE\, 19971\, United States
CATEGORIES:Church,Concerts,Facility Rentals
ORGANIZER;CN="David Scuccimarra":MAILTO:Scuch@aol.com
END:VEVENT
BEGIN:VEVENT
DTSTART;TZID=America/New_York:20290615T190000
DTEND;TZID=America/New_York:20290615T210000
DTSTAMP:20260425T105721
CREATED:20260204T183444Z
LAST-MODIFIED:20260204T183445Z
UID:10021140-1876244400-1876251600@epworth.faith
SUMMARY:Camp Rehoboth Chorus Concert (Sanctuary & Music Room)
DESCRIPTION:
URL:https://epworth.faith/event/camp-rehoboth-chorus-concert-sanctuary-music-room-39/
LOCATION:Epworth United Methodist Church\, 19285 Holland Glade Road\, Rehoboth Beach\, DE\, 19971\, United States
CATEGORIES:Church,Concerts,Facility Rentals
ORGANIZER;CN="David Scuccimarra":MAILTO:Scuch@aol.com
END:VEVENT
BEGIN:VEVENT
DTSTART;TZID=America/New_York:20290616T190000
DTEND;TZID=America/New_York:20290616T210000
DTSTAMP:20260425T105721
CREATED:20260204T183520Z
LAST-MODIFIED:20260204T183520Z
UID:10021141-1876330800-1876338000@epworth.faith
SUMMARY:Camp Rehoboth Chorus Concert (Sanctuary & Music Room)
DESCRIPTION:
URL:https://epworth.faith/event/camp-rehoboth-chorus-concert-sanctuary-music-room-40/
LOCATION:Epworth United Methodist Church\, 19285 Holland Glade Road\, Rehoboth Beach\, DE\, 19971\, United States
CATEGORIES:Church,Concerts,Facility Rentals
ORGANIZER;CN="David Scuccimarra":MAILTO:Scuch@aol.com
END:VEVENT
BEGIN:VEVENT
DTSTART;TZID=America/New_York:20290617T150000
DTEND;TZID=America/New_York:20290617T170000
DTSTAMP:20260425T105721
CREATED:20260204T183649Z
LAST-MODIFIED:20260204T183649Z
UID:10021142-1876402800-1876410000@epworth.faith
SUMMARY:Camp Rehoboth Chorus Concert (Sanctuary & Music Room)
DESCRIPTION:
URL:https://epworth.faith/event/camp-rehoboth-chorus-concert-sanctuary-music-room-41/
LOCATION:Epworth United Methodist Church\, 19285 Holland Glade Road\, Rehoboth Beach\, DE\, 19971\, United States
CATEGORIES:Church,Concerts,Facility Rentals
ORGANIZER;CN="David Scuccimarra":MAILTO:Scuch@aol.com
END:VEVENT
BEGIN:VEVENT
DTSTART;TZID=America/New_York:20290917T183000
DTEND;TZID=America/New_York:20290917T203000
DTSTAMP:20260425T105721
CREATED:20260204T184125Z
LAST-MODIFIED:20260204T184125Z
UID:10021143-1884364200-1884371400@epworth.faith
SUMMARY:Camp Rehoboth Chorus Concert Rehearsal (Sanctuary & Music Room)
DESCRIPTION:
URL:https://epworth.faith/event/camp-rehoboth-chorus-concert-rehearsal-sanctuary-music-room-19/
LOCATION:Epworth United Methodist Church\, 19285 Holland Glade Road\, Rehoboth Beach\, DE\, 19971\, United States
CATEGORIES:Church,Concerts,Facility Rentals
ORGANIZER;CN="David Scuccimarra":MAILTO:Scuch@aol.com
END:VEVENT
BEGIN:VEVENT
DTSTART;TZID=America/New_York:20290924T183000
DTEND;TZID=America/New_York:20290924T203000
DTSTAMP:20260425T105721
CREATED:20260204T184147Z
LAST-MODIFIED:20260204T184147Z
UID:10021144-1884969000-1884976200@epworth.faith
SUMMARY:Camp Rehoboth Chorus Concert Rehearsal (Sanctuary & Music Room)
DESCRIPTION:
URL:https://epworth.faith/event/camp-rehoboth-chorus-concert-rehearsal-sanctuary-music-room-20/
LOCATION:Epworth United Methodist Church\, 19285 Holland Glade Road\, Rehoboth Beach\, DE\, 19971\, United States
CATEGORIES:Church,Concerts,Facility Rentals
ORGANIZER;CN="David Scuccimarra":MAILTO:Scuch@aol.com
END:VEVENT
END:VCALENDAR