BEGIN:VCALENDAR
VERSION:2.0
PRODID:-//Epworth UMC - ECPv6.15.20//NONSGML v1.0//EN
CALSCALE:GREGORIAN
METHOD:PUBLISH
X-ORIGINAL-URL:https://epworth.faith
X-WR-CALDESC:Events for Epworth UMC
REFRESH-INTERVAL;VALUE=DURATION:PT1H
X-Robots-Tag:noindex
X-PUBLISHED-TTL:PT1H
BEGIN:VTIMEZONE
TZID:America/New_York
BEGIN:DAYLIGHT
TZOFFSETFROM:-0500
TZOFFSETTO:-0400
TZNAME:EDT
DTSTART:20220313T070000
END:DAYLIGHT
BEGIN:STANDARD
TZOFFSETFROM:-0400
TZOFFSETTO:-0500
TZNAME:EST
DTSTART:20221106T060000
END:STANDARD
BEGIN:DAYLIGHT
TZOFFSETFROM:-0500
TZOFFSETTO:-0400
TZNAME:EDT
DTSTART:20230312T070000
END:DAYLIGHT
BEGIN:STANDARD
TZOFFSETFROM:-0400
TZOFFSETTO:-0500
TZNAME:EST
DTSTART:20231105T060000
END:STANDARD
BEGIN:DAYLIGHT
TZOFFSETFROM:-0500
TZOFFSETTO:-0400
TZNAME:EDT
DTSTART:20240310T070000
END:DAYLIGHT
BEGIN:STANDARD
TZOFFSETFROM:-0400
TZOFFSETTO:-0500
TZNAME:EST
DTSTART:20241103T060000
END:STANDARD
BEGIN:DAYLIGHT
TZOFFSETFROM:-0500
TZOFFSETTO:-0400
TZNAME:EDT
DTSTART:20250309T070000
END:DAYLIGHT
BEGIN:STANDARD
TZOFFSETFROM:-0400
TZOFFSETTO:-0500
TZNAME:EST
DTSTART:20251102T060000
END:STANDARD
END:VTIMEZONE
BEGIN:VEVENT
DTSTART;TZID=America/New_York:20241012T190000
DTEND;TZID=America/New_York:20241012T210000
DTSTAMP:20260423T185800
CREATED:20231206T193650Z
LAST-MODIFIED:20231206T193651Z
UID:10011192-1728759600-1728766800@epworth.faith
SUMMARY:Yom Kippur - Break-the-Fast Meal (Fellowship Hall)
DESCRIPTION:
URL:https://epworth.faith/event/yom-kippur-break-the-fast-meal-fellowship-hall-2/
LOCATION:Epworth United Methodist Church\, 19285 Holland Glade Road\, Rehoboth Beach\, DE\, 19971\, United States
CATEGORIES:Facility Rentals,Worship - Ecumenical
ORGANIZER;CN="Barry Novich":MAILTO:barryfn@hotmail.com
END:VEVENT
BEGIN:VEVENT
DTSTART;TZID=America/New_York:20241012T153000
DTEND;TZID=America/New_York:20241012T173000
DTSTAMP:20260423T185800
CREATED:20231206T193415Z
LAST-MODIFIED:20231206T193416Z
UID:10011191-1728747000-1728754200@epworth.faith
SUMMARY:Yom Kippur - Set-up for Break-the-Fast Meal (Fellowship Hall)
DESCRIPTION:
URL:https://epworth.faith/event/yom-kippur-set-up-for-break-the-fast-meal-fellowship-hall/
LOCATION:Epworth United Methodist Church\, 19285 Holland Glade Road\, Rehoboth Beach\, DE\, 19971\, United States
CATEGORIES:Facility Rentals,Worship - Ecumenical
END:VEVENT
BEGIN:VEVENT
DTSTART;TZID=America/New_York:20241012T100000
DTEND;TZID=America/New_York:20241012T190000
DTSTAMP:20260423T185800
CREATED:20231206T191144Z
LAST-MODIFIED:20231206T191145Z
UID:10011188-1728727200-1728759600@epworth.faith
SUMMARY:Yom Kippur - Worship (Sanctuary)
DESCRIPTION:
URL:https://epworth.faith/event/yom-kippur-worship-sanctuary/
LOCATION:Epworth United Methodist Church\, 19285 Holland Glade Road\, Rehoboth Beach\, DE\, 19971\, United States
CATEGORIES:Facility Rentals,Neighborhood/Community Groups,Worship - Ecumenical
ORGANIZER;CN="Barry Novich":MAILTO:barryfn@hotmail.com
END:VEVENT
BEGIN:VEVENT
DTSTART;TZID=America/New_York:20241012T090000
DTEND;TZID=America/New_York:20241012T190000
DTSTAMP:20260423T185800
CREATED:20231206T193050Z
LAST-MODIFIED:20231206T193050Z
UID:10011190-1728723600-1728759600@epworth.faith
SUMMARY:Yom Kippur - Youth Activities (Youth Room)
DESCRIPTION:
URL:https://epworth.faith/event/yom-kippur-youth-activities-youth-room/
LOCATION:Epworth United Methodist Church\, 19285 Holland Glade Road\, Rehoboth Beach\, DE\, 19971\, United States
CATEGORIES:Facility Rentals,Worship - Ecumenical
ORGANIZER;CN="Barry Novich":MAILTO:barryfn@hotmail.com
END:VEVENT
BEGIN:VEVENT
DTSTART;TZID=America/New_York:20241012T090000
DTEND;TZID=America/New_York:20241012T190000
DTSTAMP:20260423T185800
CREATED:20231206T191931Z
LAST-MODIFIED:20231206T192049Z
UID:10011189-1728723600-1728759600@epworth.faith
SUMMARY:Yom Kippur - Youth Service (Branford Lounge)
DESCRIPTION:
URL:https://epworth.faith/event/yom-kippur-youth-service-branford-lounge/
LOCATION:Epworth United Methodist Church\, 19285 Holland Glade Road\, Rehoboth Beach\, DE\, 19971\, United States
CATEGORIES:Facility Rentals,Worship - Ecumenical
ORGANIZER;CN="Barry Novich":MAILTO:barryfn@hotmail.com
END:VEVENT
BEGIN:VEVENT
DTSTART;TZID=America/New_York:20241011T183000
DTEND;TZID=America/New_York:20241011T210000
DTSTAMP:20260423T185800
CREATED:20231206T174313Z
LAST-MODIFIED:20240321T181659Z
UID:10011187-1728671400-1728680400@epworth.faith
SUMMARY:Yom Kippur - Evening Service (Sanctuary)
DESCRIPTION:
URL:https://epworth.faith/event/yom-kippur-evening-service-sanctuary/
LOCATION:Epworth United Methodist Church\, 19285 Holland Glade Road\, Rehoboth Beach\, DE\, 19971\, United States
CATEGORIES:Facility Rentals,Worship - Ecumenical
ORGANIZER;CN="Barry Novich":MAILTO:barryfn@hotmail.com
END:VEVENT
BEGIN:VEVENT
DTSTART;TZID=America/New_York:20241011T090000
DTEND;TZID=America/New_York:20241011T113000
DTSTAMP:20260423T185800
CREATED:20231206T173934Z
LAST-MODIFIED:20240321T181619Z
UID:10011186-1728637200-1728646200@epworth.faith
SUMMARY:Yom Kippur - Set-up (Sanctuary)
DESCRIPTION:
URL:https://epworth.faith/event/yom-kippur-set-up-sanctuary/
LOCATION:Epworth United Methodist Church\, 19285 Holland Glade Road\, Rehoboth Beach\, DE\, 19971\, United States
CATEGORIES:Facility Rentals,Worship - Ecumenical
ORGANIZER;CN="Barry Novich":MAILTO:barryfn@hotmail.com
END:VEVENT
BEGIN:VEVENT
DTSTART;TZID=America/New_York:20241003T100000
DTEND;TZID=America/New_York:20241003T130000
DTSTAMP:20260423T185800
CREATED:20231204T173418Z
LAST-MODIFIED:20231204T173514Z
UID:10011117-1727949600-1727960400@epworth.faith
SUMMARY:Rosh Hashanah Morning Service (Sanctuary)
DESCRIPTION:
URL:https://epworth.faith/event/rosh-hashanah-morning-service-sanctuary/
LOCATION:Epworth United Methodist Church\, 19285 Holland Glade Road\, Rehoboth Beach\, DE\, 19971\, United States
CATEGORIES:Facility Rentals,Neighborhood/Community Groups,Worship - Ecumenical
ORGANIZER;CN="Barry Novich":MAILTO:barryfn@hotmail.com
END:VEVENT
BEGIN:VEVENT
DTSTART;TZID=America/New_York:20241003T090000
DTEND;TZID=America/New_York:20241003T120000
DTSTAMP:20260423T185800
CREATED:20231204T174816Z
LAST-MODIFIED:20231204T174818Z
UID:10011119-1727946000-1727956800@epworth.faith
SUMMARY:Rosh Hashanah Youth Activities (Youth Room)
DESCRIPTION:
URL:https://epworth.faith/event/rosh-hashanah-youth-activities-youth-room/
LOCATION:Epworth United Methodist Church\, 19285 Holland Glade Road\, Rehoboth Beach\, DE\, 19971\, United States
CATEGORIES:Facility Rentals,Neighborhood/Community Groups,Worship - Ecumenical
ORGANIZER;CN="Barry Novich":MAILTO:barryfn@hotmail.com
END:VEVENT
BEGIN:VEVENT
DTSTART;TZID=America/New_York:20241003T090000
DTEND;TZID=America/New_York:20241003T120000
DTSTAMP:20260423T185800
CREATED:20231204T174323Z
LAST-MODIFIED:20231204T174326Z
UID:10011118-1727946000-1727956800@epworth.faith
SUMMARY:Rosh Hashanah Youth Service (Branford Room)
DESCRIPTION:
URL:https://epworth.faith/event/rosh-hashanah-youth-service-branford-room/
LOCATION:Epworth United Methodist Church\, 19285 Holland Glade Road\, Rehoboth Beach\, DE\, 19971\, United States
CATEGORIES:Facility Rentals,Neighborhood/Community Groups,Worship - Ecumenical
ORGANIZER;CN="Barry Novich":MAILTO:barryfn@hotmail.com
END:VEVENT
BEGIN:VEVENT
DTSTART;TZID=America/New_York:20241002T193000
DTEND;TZID=America/New_York:20241002T213000
DTSTAMP:20260423T185800
CREATED:20231204T173158Z
LAST-MODIFIED:20240321T181406Z
UID:10011116-1727897400-1727904600@epworth.faith
SUMMARY:Rosh Hashanah Evening Service (Sanctuary)
DESCRIPTION:
URL:https://epworth.faith/event/rosh-hashanah-evening-service-sanctuary/
LOCATION:Epworth United Methodist Church\, 19285 Holland Glade Road\, Rehoboth Beach\, DE\, 19971\, United States
CATEGORIES:Facility Rentals,Neighborhood/Community Groups,Worship - Ecumenical
ORGANIZER;CN="Barry Novich":MAILTO:barryfn@hotmail.com
END:VEVENT
BEGIN:VEVENT
DTSTART;TZID=America/New_York:20241002T090000
DTEND;TZID=America/New_York:20241002T113000
DTSTAMP:20260423T185800
CREATED:20231204T172545Z
LAST-MODIFIED:20240321T181253Z
UID:10011115-1727859600-1727868600@epworth.faith
SUMMARY:Rosh Hashanah - Set-up/Preparation (Sanctuary)
DESCRIPTION:
URL:https://epworth.faith/event/rosh-hashanah-set-up-preparation-sanctuary/
LOCATION:Epworth United Methodist Church\, 19285 Holland Glade Road\, Rehoboth Beach\, DE\, 19971\, United States
CATEGORIES:Neighborhood/Community Groups,Worship - Ecumenical
ORGANIZER;CN="Barry Novich":MAILTO:barryfn@hotmail.com
END:VEVENT
BEGIN:VEVENT
DTSTART;TZID=America/New_York:20230925T173000
DTEND;TZID=America/New_York:20230925T194500
DTSTAMP:20260423T185800
CREATED:20221130T204122Z
LAST-MODIFIED:20230920T151515Z
UID:10007120-1695663000-1695671100@epworth.faith
SUMMARY:Yom Kippur Mincha\, Ne'ila and Havdalah Service (Sanctuary)
DESCRIPTION:
URL:https://epworth.faith/event/yom-kippur-service-sanctuary-2/
LOCATION:Epworth United Methodist Church\, 19285 Holland Glade Road\, Rehoboth Beach\, DE\, 19971\, United States
CATEGORIES:Facility Rentals,Worship - Ecumenical
ORGANIZER;CN="Reba Novich":MAILTO:rebaln@hotmail.com
END:VEVENT
BEGIN:VEVENT
DTSTART;TZID=America/New_York:20230924T183000
DTEND;TZID=America/New_York:20230924T210000
DTSTAMP:20260423T185800
CREATED:20221130T204026Z
LAST-MODIFIED:20230920T151607Z
UID:10007119-1695580200-1695589200@epworth.faith
SUMMARY:Kol Nidre Service (Sanctuary)
DESCRIPTION:
URL:https://epworth.faith/event/yom-kippur-service-sanctuary/
LOCATION:Epworth United Methodist Church\, 19285 Holland Glade Road\, Rehoboth Beach\, DE\, 19971\, United States
CATEGORIES:Facility Rentals,Worship - Ecumenical
ORGANIZER;CN="Reba Novich":MAILTO:rebaln@hotmail.com
END:VEVENT
BEGIN:VEVENT
DTSTART;TZID=America/New_York:20230916T100000
DTEND;TZID=America/New_York:20230916T130000
DTSTAMP:20260423T185800
CREATED:20221130T203803Z
LAST-MODIFIED:20230823T182327Z
UID:10007117-1694858400-1694869200@epworth.faith
SUMMARY:Rosh Hashanah Service (Sanctuary)
DESCRIPTION:
URL:https://epworth.faith/event/rosh-hashanah-service-sanctuary-2/
LOCATION:Epworth United Methodist Church\, 19285 Holland Glade Road\, Rehoboth Beach\, DE\, 19971\, United States
CATEGORIES:Facility Rentals,Worship - Ecumenical
ORGANIZER;CN="Reba Novich":MAILTO:rebaln@hotmail.com
END:VEVENT
BEGIN:VEVENT
DTSTART;TZID=America/New_York:20230915T193000
DTEND;TZID=America/New_York:20230915T213000
DTSTAMP:20260423T185800
CREATED:20230817T181141Z
LAST-MODIFIED:20230817T181747Z
UID:10008977-1694806200-1694813400@epworth.faith
SUMMARY:Erev Rosh Hashanah Service (Sanctuary)
DESCRIPTION:
URL:https://epworth.faith/event/rosh-hashanah-service-sanctuary-3/
LOCATION:Epworth United Methodist Church\, 19285 Holland Glade Road\, Rehoboth Beach\, DE\, 19971\, United States
CATEGORIES:Facility Rentals,Worship - Ecumenical
ORGANIZER;CN="Reba Novich":MAILTO:rebaln@hotmail.com
END:VEVENT
END:VCALENDAR