BEGIN:VCALENDAR
VERSION:2.0
PRODID:-//Epworth UMC - ECPv6.15.20//NONSGML v1.0//EN
CALSCALE:GREGORIAN
METHOD:PUBLISH
X-WR-CALNAME:Epworth UMC
X-ORIGINAL-URL:https://epworth.faith
X-WR-CALDESC:Events for Epworth UMC
REFRESH-INTERVAL;VALUE=DURATION:PT1H
X-Robots-Tag:noindex
X-PUBLISHED-TTL:PT1H
BEGIN:VTIMEZONE
TZID:America/New_York
BEGIN:DAYLIGHT
TZOFFSETFROM:-0500
TZOFFSETTO:-0400
TZNAME:EDT
DTSTART:20250309T070000
END:DAYLIGHT
BEGIN:STANDARD
TZOFFSETFROM:-0400
TZOFFSETTO:-0500
TZNAME:EST
DTSTART:20251102T060000
END:STANDARD
BEGIN:DAYLIGHT
TZOFFSETFROM:-0500
TZOFFSETTO:-0400
TZNAME:EDT
DTSTART:20260308T070000
END:DAYLIGHT
BEGIN:STANDARD
TZOFFSETFROM:-0400
TZOFFSETTO:-0500
TZNAME:EST
DTSTART:20261101T060000
END:STANDARD
BEGIN:DAYLIGHT
TZOFFSETFROM:-0500
TZOFFSETTO:-0400
TZNAME:EDT
DTSTART:20270314T070000
END:DAYLIGHT
BEGIN:STANDARD
TZOFFSETFROM:-0400
TZOFFSETTO:-0500
TZNAME:EST
DTSTART:20271107T060000
END:STANDARD
END:VTIMEZONE
BEGIN:VEVENT
DTSTART;TZID=America/New_York:20260305T100000
DTEND;TZID=America/New_York:20260305T113000
DTSTAMP:20260423T165831
CREATED:20260227T002103Z
LAST-MODIFIED:20260227T002241Z
UID:10021344-1772704800-1772710200@epworth.faith
SUMMARY:The Spirituality of Age
DESCRIPTION:“These days we often hear the word spirituality. The spiritual search is a vital and continuous area of personal reflection for these authors. They encourage each of us to define the meaning of that word for ourselves. This book opens the door for all of us to explore our own growth\, insights\, inner peace\, and continued learning that is calling to us as we age”\n(Connie Goldman\, Author of Who Am I Now that I’m Not Who I Was?) \nContact Susan Love \nClick here for more information:\nhttps://epworth.faith/wp-content/uploads/2026/02/Susan-Love-Group.pdf \nThursdays from 10 to 11:30 for ten weeks\nBeginning February 26
URL:https://epworth.faith/event/the-spirituality-of-age-3/
LOCATION:DE
CATEGORIES:Groups,Lent 2026
ATTACH;FMTTYPE=image/jpeg:https://epworth.faith/wp-content/uploads/2026/02/IMG_1414.jpeg
END:VEVENT
BEGIN:VEVENT
DTSTART;TZID=America/New_York:20260305T140000
DTEND;TZID=America/New_York:20260305T153000
DTSTAMP:20260423T165831
CREATED:20260227T001847Z
LAST-MODIFIED:20260227T001849Z
UID:10021354-1772719200-1772724600@epworth.faith
SUMMARY:Why Are We So Polarized? Group (Office Conference Room)
DESCRIPTION:Led by Pastor VIcki. \nJoin us for a six-week exploration of where our morals come from\, how our stories shape our values\, and how we can bridge the gap through open and honest relationships. We will use three books to help us examine our own values and understand the values of others: Learning to Disagree\, by John Inazu\, The Righteous Mind\, by Jonathan Haidt\, and I Never Thought of It That Way\, by Monica Guzman. We will offer a hybrid group\, meeting both in person and online via zoom\, on Thursdays. \nContact Pastor Vicki for more information or to sign up for the group.
URL:https://epworth.faith/event/why-are-we-so-polarized-group-office-conference-room-2-2-2-2/
LOCATION:Epworth United Methodist Church\, 19285 Holland Glade Road\, Rehoboth Beach\, DE\, 19971\, United States
CATEGORIES:Church,Groups,Lent 2026
ATTACH;FMTTYPE=image/jpeg:https://epworth.faith/wp-content/uploads/2026/02/Bookstudy.jpg
ORGANIZER;CN="Vicki Gordy-Stith":MAILTO:vgordy-stith@epworth.faith
END:VEVENT
END:VCALENDAR