BEGIN:VCALENDAR
VERSION:2.0
PRODID:-//Epworth UMC - ECPv6.15.20//NONSGML v1.0//EN
CALSCALE:GREGORIAN
METHOD:PUBLISH
X-ORIGINAL-URL:https://epworth.faith
X-WR-CALDESC:Events for Epworth UMC
REFRESH-INTERVAL;VALUE=DURATION:PT1H
X-Robots-Tag:noindex
X-PUBLISHED-TTL:PT1H
BEGIN:VTIMEZONE
TZID:America/New_York
BEGIN:DAYLIGHT
TZOFFSETFROM:-0500
TZOFFSETTO:-0400
TZNAME:EDT
DTSTART:20250309T070000
END:DAYLIGHT
BEGIN:STANDARD
TZOFFSETFROM:-0400
TZOFFSETTO:-0500
TZNAME:EST
DTSTART:20251102T060000
END:STANDARD
BEGIN:DAYLIGHT
TZOFFSETFROM:-0500
TZOFFSETTO:-0400
TZNAME:EDT
DTSTART:20260308T070000
END:DAYLIGHT
BEGIN:STANDARD
TZOFFSETFROM:-0400
TZOFFSETTO:-0500
TZNAME:EST
DTSTART:20261101T060000
END:STANDARD
BEGIN:DAYLIGHT
TZOFFSETFROM:-0500
TZOFFSETTO:-0400
TZNAME:EDT
DTSTART:20270314T070000
END:DAYLIGHT
BEGIN:STANDARD
TZOFFSETFROM:-0400
TZOFFSETTO:-0500
TZNAME:EST
DTSTART:20271107T060000
END:STANDARD
END:VTIMEZONE
BEGIN:VEVENT
DTSTART;TZID=America/New_York:20260304T183000
DTEND;TZID=America/New_York:20260304T203000
DTSTAMP:20260423T182636
CREATED:20260214T112538Z
LAST-MODIFIED:20260214T112539Z
UID:10020812-1772649000-1772656200@epworth.faith
SUMMARY:Christianity and World Religions
DESCRIPTION:Click on the book for more information \nChristianity and World Religions: Questions We Ask About Other Faiths by Adam Hamilton \nWhy are there so many different religions? How should Christians view other religions? How is God at work in other religions? What is the fate of those who earnestly pursue God through other religions? In examining these major world religions and the beliefs of their followers\, Hamilton urges us as Christians to build bridges with others so that we might grow in our faith\, seek peace in our world\, love our neighbor\, and find positive ways to share the gospel. \nMeets Wednesdays at 7 pm in the Starnes Room starting March 4\, 2026 (no meeting April 8). \nContact Robin Duer or Mike Duer
URL:https://epworth.faith/event/duer-small-group-book-study-starnes-room-2-2/
LOCATION:Epworth United Methodist Church\, 19285 Holland Glade Road\, Rehoboth Beach\, DE\, 19971\, United States
CATEGORIES:Church,Groups,Lent 2026
ATTACH;FMTTYPE=image/jpeg:https://epworth.faith/wp-content/uploads/2025/10/religions.jpg
ORGANIZER;CN="Robin Duer":MAILTO:beachrobin12@aol.com
END:VEVENT
BEGIN:VEVENT
DTSTART;TZID=America/New_York:20260304T124500
DTEND;TZID=America/New_York:20260304T134500
DTSTAMP:20260423T182636
CREATED:20260227T001621Z
LAST-MODIFIED:20260227T001622Z
UID:10021205-1772628300-1772631900@epworth.faith
SUMMARY:The Why & How of Stories Study Group (Baker Room)
DESCRIPTION:Led by Pastor Bo. Meets during Lent beginning at 12:45 p.m. Wednesday\, February 18.\nClick on the link for complete information. \nThe Why and How of Stories
URL:https://epworth.faith/event/the-why-how-of-stories-study-group-baker-room-4/
LOCATION:Epworth United Methodist Church\, 19285 Holland Glade Road\, Rehoboth Beach\, DE\, 19971\, United States
CATEGORIES:Church,Groups,Lent 2026
ATTACH;FMTTYPE=image/jpeg:https://epworth.faith/wp-content/uploads/2026/02/AdobeStock_923682342-scaled.jpeg
ORGANIZER;CN="Bo Gordy-Stith":MAILTO:bgordy-stith@epworth.faith
END:VEVENT
BEGIN:VEVENT
DTSTART;TZID=America/New_York:20260303T183000
DTEND;TZID=America/New_York:20260303T200000
DTSTAMP:20260423T182636
CREATED:20260227T001530Z
LAST-MODIFIED:20260227T001539Z
UID:10021037-1772562600-1772568000@epworth.faith
SUMMARY:An Unlikely Lent
DESCRIPTION:An Unlikely Lent: Extraordinary People of the Easter Story meets Tuesdays at 6:30 pm in person for six sessions starting February 24\, 2026. Contact Rev. David Garrett or Rev. Beth LaBella Foster \nThe meeting will be in the Starnes Room. \nClick on the book for more info \n  \n 
URL:https://epworth.faith/event/lent-bible-study-starnes-room-3/
LOCATION:Epworth United Methodist Church\, 19285 Holland Glade Road\, Rehoboth Beach\, DE\, 19971\, United States
CATEGORIES:Church,Groups,Lent 2026
ATTACH;FMTTYPE=image/jpeg:https://epworth.faith/wp-content/uploads/2026/01/unlikelyweb.jpg
ORGANIZER;CN="David Garrett":MAILTO:dlgarrett4rb@gmail.com
END:VEVENT
BEGIN:VEVENT
DTSTART;TZID=America/New_York:20260301T100000
DTEND;TZID=America/New_York:20260301T110000
DTSTAMP:20260423T182636
CREATED:20260222T184009Z
LAST-MODIFIED:20260222T184017Z
UID:10009139-1772359200-1772362800@epworth.faith
SUMMARY:Blended ASL Worship Service (Sanctuary & Online)
DESCRIPTION:YouTube Livestream\nYouTube ASL Livestream\nFacebook Livestream
URL:https://epworth.faith/event/blended-worship-service-sanctuary-on-line-2-4/
LOCATION:Epworth United Methodist Church\, 19285 Holland Glade Road\, Rehoboth Beach\, DE\, 19971\, United States
CATEGORIES:Lent 2026,Worship
ATTACH;FMTTYPE=image/jpeg:https://epworth.faith/wp-content/uploads/2023/09/260301-Release-Negative-Emotions.jpg
ORGANIZER;CN="Vicki Gordy-Stith":MAILTO:vgordy-stith@epworth.faith
END:VEVENT
BEGIN:VEVENT
DTSTART;TZID=America/New_York:20260226T190000
DTEND;TZID=America/New_York:20260226T203000
DTSTAMP:20260423T182636
CREATED:20260213T205144Z
LAST-MODIFIED:20260213T205307Z
UID:10021337-1772132400-1772137800@epworth.faith
SUMMARY:How to Know a Person
DESCRIPTION:How to Know a Person by David Brooks meets Thursdays at 7 pm in person at 18380 Alpine Loop\, Lewes\, for six weeks starting February 26\, \nClick on book for more information \nThis book nurtures your spiritual life by improving human connection\, seeing others deeply and be seen in return. Drawing from psychology\, neuroscience\, and other fields\, the book offers actionable advice on conversation\, attention\, and empathy to build stronger relationships\, moving beyond abstract ideas of “community” to concrete social skills like good listening\, asking the right questions\, and sharing vulnerability. It is for anyone seeking deeper connection and understanding in their\npersonal and professional lives. \nContact Todd Popham
URL:https://epworth.faith/event/how-to-know-a-person-2/
LOCATION:18380 Alpine Loop\, Lewes\, 18380 Alpine Loop\, Lewes\, DE\, 19958\, United States
CATEGORIES:Groups,Lent 2026
ATTACH;FMTTYPE=image/jpeg:https://epworth.faith/wp-content/uploads/2026/02/know-a-person.jpg
END:VEVENT
BEGIN:VEVENT
DTSTART;TZID=America/New_York:20260226T100000
DTEND;TZID=America/New_York:20260226T113000
DTSTAMP:20260423T182636
CREATED:20260214T040310Z
LAST-MODIFIED:20260214T040337Z
UID:10021343-1772100000-1772105400@epworth.faith
SUMMARY:The Spirituality of Age
DESCRIPTION:“These days we often hear the word spirituality. The spiritual search is a vital and continuous area of personal reflection for these authors. They encourage each of us to define the meaning of that word for ourselves. This book opens the door for all of us to explore our own growth\, insights\, inner peace\, and continued learning that is calling to us as we age”\n(Connie Goldman\, Author of Who Am I Now that I’m Not Who I Was?) \nContact Susan Love \nClick here for more information:\nhttps://epworth.faith/wp-content/uploads/2026/02/Susan-Love-Group.pdf \nThursdays from 10 to 11:30 for ten weeks\nBeginning February 26
URL:https://epworth.faith/event/the-spirituality-of-age-2/
LOCATION:DE
CATEGORIES:Groups,Lent 2026
ATTACH;FMTTYPE=image/jpeg:https://epworth.faith/wp-content/uploads/2026/02/IMG_1414.jpeg
END:VEVENT
BEGIN:VEVENT
DTSTART;TZID=America/New_York:20260225T124500
DTEND;TZID=America/New_York:20260225T134500
DTSTAMP:20260423T182636
CREATED:20260219T185138Z
LAST-MODIFIED:20260219T185140Z
UID:10021204-1772023500-1772027100@epworth.faith
SUMMARY:The Why & How of Stories Study Group (Baker Room)
DESCRIPTION:Led by Pastor Bo. Meets during Lent beginning at 12:45 p.m. Wednesday\, February 18.\nClick on the link for complete information. \nThe Why and How of Stories
URL:https://epworth.faith/event/the-why-how-of-stories-study-group-baker-room-3/
LOCATION:Epworth United Methodist Church\, 19285 Holland Glade Road\, Rehoboth Beach\, DE\, 19971\, United States
CATEGORIES:Church,Groups,Lent 2026
ATTACH;FMTTYPE=image/jpeg:https://epworth.faith/wp-content/uploads/2026/02/AdobeStock_923682342-scaled.jpeg
ORGANIZER;CN="Bo Gordy-Stith":MAILTO:bgordy-stith@epworth.faith
END:VEVENT
BEGIN:VEVENT
DTSTART;TZID=America/New_York:20260224T183000
DTEND;TZID=America/New_York:20260224T200000
DTSTAMP:20260423T182636
CREATED:20260213T203354Z
LAST-MODIFIED:20260213T203355Z
UID:10021036-1771957800-1771963200@epworth.faith
SUMMARY:An Unlikely Lent
DESCRIPTION:An Unlikely Lent: Extraordinary People of the Easter Story meets Tuesdays at 6:30 pm in person for six sessions starting February 24\, 2026. Contact Rev. David Garrett or Rev. Beth LaBella Foster \nThe meeting will be in the Starnes Room. \nClick on the book for more info \n  \n 
URL:https://epworth.faith/event/lent-bible-study-starnes-room-2/
LOCATION:Epworth United Methodist Church\, 19285 Holland Glade Road\, Rehoboth Beach\, DE\, 19971\, United States
CATEGORIES:Church,Groups,Lent 2026
ATTACH;FMTTYPE=image/jpeg:https://epworth.faith/wp-content/uploads/2026/01/unlikelyweb.jpg
ORGANIZER;CN="David Garrett":MAILTO:dlgarrett4rb@gmail.com
END:VEVENT
BEGIN:VEVENT
DTSTART;TZID=America/New_York:20260218T124500
DTEND;TZID=America/New_York:20260218T134500
DTSTAMP:20260423T182636
CREATED:20260213T200422Z
LAST-MODIFIED:20260213T200432Z
UID:10021203-1771418700-1771422300@epworth.faith
SUMMARY:The Why & How of Stories Study Group (Baker Room)
DESCRIPTION:Led by Pastor Bo. Meets during Lent beginning at 12:45 p.m. Wednesday\, February 18.\nClick on the link for complete information. \nThe Why and How of Stories
URL:https://epworth.faith/event/the-why-how-of-stories-study-group-baker-room-2/
LOCATION:Epworth United Methodist Church\, 19285 Holland Glade Road\, Rehoboth Beach\, DE\, 19971\, United States
CATEGORIES:Church,Groups,Lent 2026
ATTACH;FMTTYPE=image/jpeg:https://epworth.faith/wp-content/uploads/2026/02/AdobeStock_923682342-scaled.jpeg
ORGANIZER;CN="Bo Gordy-Stith":MAILTO:bgordy-stith@epworth.faith
END:VEVENT
BEGIN:VEVENT
DTSTART;TZID=America/New_York:20260218T120000
DTEND;TZID=America/New_York:20260218T120000
DTSTAMP:20260423T182636
CREATED:20260213T153415Z
LAST-MODIFIED:20260213T200244Z
UID:10021226-1771416000-1771416000@epworth.faith
SUMMARY:Ash Wednesday
DESCRIPTION:“You are dust and to dust you shall return.” — Genesis 3:19\nA reflective service to begin our Lenten journey with music\, meditation\, and imposition of ashes
URL:https://epworth.faith/event/ash-wednesday/
LOCATION:DE
CATEGORIES:Lent 2026
ATTACH;FMTTYPE=image/png:https://epworth.faith/wp-content/uploads/2026/02/260218-Ash-Wednesday.png
END:VEVENT
END:VCALENDAR