BEGIN:VCALENDAR
VERSION:2.0
PRODID:-//Epworth UMC - ECPv6.15.20//NONSGML v1.0//EN
CALSCALE:GREGORIAN
METHOD:PUBLISH
X-WR-CALNAME:Epworth UMC
X-ORIGINAL-URL:https://epworth.faith
X-WR-CALDESC:Events for Epworth UMC
REFRESH-INTERVAL;VALUE=DURATION:PT1H
X-Robots-Tag:noindex
X-PUBLISHED-TTL:PT1H
BEGIN:VTIMEZONE
TZID:America/New_York
BEGIN:DAYLIGHT
TZOFFSETFROM:-0500
TZOFFSETTO:-0400
TZNAME:EDT
DTSTART:20250309T070000
END:DAYLIGHT
BEGIN:STANDARD
TZOFFSETFROM:-0400
TZOFFSETTO:-0500
TZNAME:EST
DTSTART:20251102T060000
END:STANDARD
BEGIN:DAYLIGHT
TZOFFSETFROM:-0500
TZOFFSETTO:-0400
TZNAME:EDT
DTSTART:20260308T070000
END:DAYLIGHT
BEGIN:STANDARD
TZOFFSETFROM:-0400
TZOFFSETTO:-0500
TZNAME:EST
DTSTART:20261101T060000
END:STANDARD
BEGIN:DAYLIGHT
TZOFFSETFROM:-0500
TZOFFSETTO:-0400
TZNAME:EDT
DTSTART:20270314T070000
END:DAYLIGHT
BEGIN:STANDARD
TZOFFSETFROM:-0400
TZOFFSETTO:-0500
TZNAME:EST
DTSTART:20271107T060000
END:STANDARD
END:VTIMEZONE
BEGIN:VEVENT
DTSTART;TZID=America/New_York:20260308T100000
DTEND;TZID=America/New_York:20260308T110000
DTSTAMP:20260425T074017
CREATED:20260222T184201Z
LAST-MODIFIED:20260222T184202Z
UID:10009140-1772964000-1772967600@epworth.faith
SUMMARY:Blended ASL Worship Service (Sanctuary & Online)
DESCRIPTION:YouTube Livestream\nYouTube ASL Livestream\nFacebook Livestream
URL:https://epworth.faith/event/blended-worship-service-sanctuary-on-line-2-5/
LOCATION:Epworth United Methodist Church\, 19285 Holland Glade Road\, Rehoboth Beach\, DE\, 19971\, United States
CATEGORIES:Lent 2026,Worship
ATTACH;FMTTYPE=image/jpeg:https://epworth.faith/wp-content/uploads/2023/09/260308-Accept-Responsibility.jpg
ORGANIZER;CN="Vicki Gordy-Stith":MAILTO:vgordy-stith@epworth.faith
END:VEVENT
BEGIN:VEVENT
DTSTART;TZID=America/New_York:20260315T100000
DTEND;TZID=America/New_York:20260315T110000
DTSTAMP:20260425T074017
CREATED:20260222T184325Z
LAST-MODIFIED:20260222T184326Z
UID:10009141-1773568800-1773572400@epworth.faith
SUMMARY:Blended ASL Worship Service (Sanctuary & Online)
DESCRIPTION:YouTube Livestream\nYouTube ASL Livestream\nFacebook Livestream
URL:https://epworth.faith/event/blended-worship-service-sanctuary-on-line-2-6/
LOCATION:Epworth United Methodist Church\, 19285 Holland Glade Road\, Rehoboth Beach\, DE\, 19971\, United States
CATEGORIES:Lent 2026,Worship
ATTACH;FMTTYPE=image/jpeg:https://epworth.faith/wp-content/uploads/2023/09/260315-Repair-Harm.jpg
ORGANIZER;CN="Vicki Gordy-Stith":MAILTO:vgordy-stith@epworth.faith
END:VEVENT
BEGIN:VEVENT
DTSTART;TZID=America/New_York:20260321T100000
DTEND;TZID=America/New_York:20260321T120000
DTSTAMP:20260425T074017
CREATED:20260114T141547Z
LAST-MODIFIED:20260217T141731Z
UID:10021015-1774087200-1774094400@epworth.faith
SUMMARY:Easter Egg Hunt (Outside - Sanctuary if Raining)
DESCRIPTION:
URL:https://epworth.faith/event/easter-egg-hunt-outside-sanctuary-if-raining/
LOCATION:Epworth United Methodist Church\, 19285 Holland Glade Road\, Rehoboth Beach\, DE\, 19971\, United States
CATEGORIES:Church,Facility Rentals,Lent 2026,Neighborhood/Community Groups
ATTACH;FMTTYPE=image/jpeg:https://epworth.faith/wp-content/uploads/2026/01/easter-egg.jpg
ORGANIZER;CN="Gwen Osborne":MAILTO:gosborne@epworth.faith
END:VEVENT
BEGIN:VEVENT
DTSTART;TZID=America/New_York:20260322T100000
DTEND;TZID=America/New_York:20260322T110000
DTSTAMP:20260425T074017
CREATED:20260222T184451Z
LAST-MODIFIED:20260222T184452Z
UID:10009142-1774173600-1774177200@epworth.faith
SUMMARY:Blended ASL Worship Service (Sanctuary & Online)
DESCRIPTION:YouTube Livestream\nYouTube ASL Livestream\nFacebook Livestream
URL:https://epworth.faith/event/blended-worship-service-sanctuary-on-line-2-7/
LOCATION:Epworth United Methodist Church\, 19285 Holland Glade Road\, Rehoboth Beach\, DE\, 19971\, United States
CATEGORIES:Lent 2026,Worship
ATTACH;FMTTYPE=image/jpeg:https://epworth.faith/wp-content/uploads/2023/09/260322-Restore-Relationship.jpg
ORGANIZER;CN="Vicki Gordy-Stith":MAILTO:vgordy-stith@epworth.faith
END:VEVENT
BEGIN:VEVENT
DTSTART;TZID=America/New_York:20260329T095000
DTEND;TZID=America/New_York:20260329T110000
DTSTAMP:20260425T074017
CREATED:20260213T155758Z
LAST-MODIFIED:20260213T155758Z
UID:10021276-1774777800-1774782000@epworth.faith
SUMMARY:Palm Sunday
DESCRIPTION:Palm Sunday\, held the Sunday before Easter\, commemorates Jesus’s humble\, prophetic entry into Jerusalem on a donkey\, where crowds welcomed him by waving palm branches and shouting “Hosanna”. As the start of Holy Week\, it signifies both the celebration of his arrival and the beginning of his Passion. \nThe service begins at 9:40 a.m. \nYouTube Livestream\nYouTube ASL Livestream\nFacebook Livestream
URL:https://epworth.faith/event/palm-sunday/
LOCATION:DE
CATEGORIES:Lent 2026,Worship
ATTACH;FMTTYPE=image/png:https://epworth.faith/wp-content/uploads/2026/02/260329-Palm-Sunday-Learn-and-Grow.png
END:VEVENT
BEGIN:VEVENT
DTSTART;TZID=America/New_York:20260329T180000
DTEND;TZID=America/New_York:20260329T190000
DTSTAMP:20260425T074017
CREATED:20260303T193553Z
LAST-MODIFIED:20260304T122905Z
UID:10022134-1774807200-1774810800@epworth.faith
SUMMARY:Passover for All - LRAC and Seaside Jewish Event (Fellowship Hall)
DESCRIPTION:A very special evening is planned for LRAC congregations on March 29. Larry Stollar\, of Seaside Jewish Community\, will lead those gathered through the Haggadah\, or the “narration” of the story of the Passover. This is a great opportunity to experience the wonder and history of the Passover celebration. Learn the importance and relevance to the Jewish faith through the ages. \nThis celebration will take place at Epworth beginning at 6:30 pm\, on Sunday\, March 29. \nFor further information\, contact David Garrett\, Chair of LRAC Interfaith Committee\, at dlgarrett4rb@gmail.com.
URL:https://epworth.faith/event/passover-for-all-lrac-and-seaside-jewish-event-fellowship-hall/
LOCATION:Epworth United Methodist Church\, 19285 Holland Glade Road\, Rehoboth Beach\, DE\, 19971\, United States
CATEGORIES:Church,Lent 2026,Neighborhood/Community Groups
ATTACH;FMTTYPE=image/jpeg:https://epworth.faith/wp-content/uploads/2026/03/The-Passover-Story.jpg
ORGANIZER;CN="David Garrett":MAILTO:dlgarrett4rb@gmail.com
END:VEVENT
BEGIN:VEVENT
DTSTART;TZID=America/New_York:20260402T100000
DTEND;TZID=America/New_York:20260402T113000
DTSTAMP:20260425T074017
CREATED:20260114T135444Z
LAST-MODIFIED:20260304T211726Z
UID:10021014-1775124000-1775129400@epworth.faith
SUMMARY:Voices of Hope Performance (Sanctuary & Narthex)
DESCRIPTION:The Voices of Hope\, directed by Doug Yetter\, will perform in the sanctuary at 10 a.m. on Holy Thursday\, April 2. \nVoices of Hope is a therapeutic choir for people with Parkinson’s\, their care partners\, and volunteers. The group meets Thursdays from 10:00–11:30 AM to strengthen voices and improve breathing through music. \nWatch the video below. 
URL:https://epworth.faith/event/voices-of-hope-performance-sanctuary-narthex/
LOCATION:Epworth United Methodist Church\, 19285 Holland Glade Road\, Rehoboth Beach\, DE\, 19971\, United States
CATEGORIES:Church,Groups,Lent 2026
ATTACH;FMTTYPE=image/jpeg:https://epworth.faith/wp-content/uploads/2026/01/parkinson.jpg
ORGANIZER;CN="Doug Yetter":MAILTO:dyetter@epworth.faith
END:VEVENT
BEGIN:VEVENT
DTSTART;TZID=America/New_York:20260402T190000
DTEND;TZID=America/New_York:20260402T190000
DTSTAMP:20260425T074017
CREATED:20260213T161844Z
LAST-MODIFIED:20260213T200708Z
UID:10021278-1775156400-1775156400@epworth.faith
SUMMARY:Holy Thursday
DESCRIPTION:Holy Communion will be served.
URL:https://epworth.faith/event/holy-thursday/
LOCATION:DE
CATEGORIES:Lent 2026,Worship
ATTACH;FMTTYPE=image/png:https://epworth.faith/wp-content/uploads/2026/02/260402-Holy-Thursday.png
END:VEVENT
BEGIN:VEVENT
DTSTART;TZID=America/New_York:20260403T190000
DTEND;TZID=America/New_York:20260403T190000
DTSTAMP:20260425T074017
CREATED:20260213T161614Z
LAST-MODIFIED:20260213T200805Z
UID:10021277-1775242800-1775242800@epworth.faith
SUMMARY:Good Friday
DESCRIPTION:The Crucifixion through scripture and song. With choir and bells.
URL:https://epworth.faith/event/good-friday/
LOCATION:DE
CATEGORIES:Lent 2026,Worship
ATTACH;FMTTYPE=image/png:https://epworth.faith/wp-content/uploads/2026/02/260403-Good-Friday.png
END:VEVENT
BEGIN:VEVENT
DTSTART;TZID=America/New_York:20260405T095000
DTEND;TZID=America/New_York:20260405T110000
DTSTAMP:20260425T074017
CREATED:20260213T155138Z
LAST-MODIFIED:20260213T155956Z
UID:10021275-1775382600-1775386800@epworth.faith
SUMMARY:Easter Sunday Service
DESCRIPTION:He is risen indeed! Sing your alleluias and celebrate the resurrection of our Lord with this service that will include festive music from our Praise Team\, Chancel Choir\, and an accompanying small orchestra. \nStarts at 9:50 a.m. \nYouTube Livestream\nYouTube ASL Livestream\nFacebook Livestream
URL:https://epworth.faith/event/easter-sunday-service/
LOCATION:DE
CATEGORIES:Lent 2026,Worship
ATTACH;FMTTYPE=image/png:https://epworth.faith/wp-content/uploads/2026/02/260405-Easter-Sunday.png
END:VEVENT
END:VCALENDAR