BEGIN:VCALENDAR
VERSION:2.0
PRODID:-//Epworth UMC - ECPv6.15.20//NONSGML v1.0//EN
CALSCALE:GREGORIAN
METHOD:PUBLISH
X-ORIGINAL-URL:https://epworth.faith
X-WR-CALDESC:Events for Epworth UMC
REFRESH-INTERVAL;VALUE=DURATION:PT1H
X-Robots-Tag:noindex
X-PUBLISHED-TTL:PT1H
BEGIN:VTIMEZONE
TZID:America/New_York
BEGIN:DAYLIGHT
TZOFFSETFROM:-0500
TZOFFSETTO:-0400
TZNAME:EDT
DTSTART:20210314T070000
END:DAYLIGHT
BEGIN:STANDARD
TZOFFSETFROM:-0400
TZOFFSETTO:-0500
TZNAME:EST
DTSTART:20211107T060000
END:STANDARD
BEGIN:DAYLIGHT
TZOFFSETFROM:-0500
TZOFFSETTO:-0400
TZNAME:EDT
DTSTART:20220313T070000
END:DAYLIGHT
BEGIN:STANDARD
TZOFFSETFROM:-0400
TZOFFSETTO:-0500
TZNAME:EST
DTSTART:20221106T060000
END:STANDARD
BEGIN:DAYLIGHT
TZOFFSETFROM:-0500
TZOFFSETTO:-0400
TZNAME:EDT
DTSTART:20230312T070000
END:DAYLIGHT
BEGIN:STANDARD
TZOFFSETFROM:-0400
TZOFFSETTO:-0500
TZNAME:EST
DTSTART:20231105T060000
END:STANDARD
BEGIN:DAYLIGHT
TZOFFSETFROM:-0500
TZOFFSETTO:-0400
TZNAME:EDT
DTSTART:20240310T070000
END:DAYLIGHT
BEGIN:STANDARD
TZOFFSETFROM:-0400
TZOFFSETTO:-0500
TZNAME:EST
DTSTART:20241103T060000
END:STANDARD
BEGIN:DAYLIGHT
TZOFFSETFROM:-0500
TZOFFSETTO:-0400
TZNAME:EDT
DTSTART:20250309T070000
END:DAYLIGHT
BEGIN:STANDARD
TZOFFSETFROM:-0400
TZOFFSETTO:-0500
TZNAME:EST
DTSTART:20251102T060000
END:STANDARD
BEGIN:DAYLIGHT
TZOFFSETFROM:-0500
TZOFFSETTO:-0400
TZNAME:EDT
DTSTART:20260308T070000
END:DAYLIGHT
BEGIN:STANDARD
TZOFFSETFROM:-0400
TZOFFSETTO:-0500
TZNAME:EST
DTSTART:20261101T060000
END:STANDARD
END:VTIMEZONE
BEGIN:VEVENT
DTSTART;TZID=America/New_York:20250612T100000
DTEND;TZID=America/New_York:20250612T110000
DTSTAMP:20260424T103325
CREATED:20250429T134301Z
LAST-MODIFIED:20250609T183810Z
UID:10016020-1749722400-1749726000@epworth.faith
SUMMARY:New Life Committee Meeting (Office Conference Room)
DESCRIPTION:
URL:https://epworth.faith/event/new-life-committee-meeting-baker-room/
LOCATION:Epworth United Methodist Church\, 19285 Holland Glade Road\, Rehoboth Beach\, DE\, 19971\, United States
CATEGORIES:Church,LRAC
END:VEVENT
BEGIN:VEVENT
DTSTART;TZID=America/New_York:20250520T183000
DTEND;TZID=America/New_York:20250520T203000
DTSTAMP:20260424T103325
CREATED:20250429T133948Z
LAST-MODIFIED:20250429T133948Z
UID:10016019-1747765800-1747773000@epworth.faith
SUMMARY:LRAC Board Training (Starnes Room)
DESCRIPTION:
URL:https://epworth.faith/event/lrac-board-training-starnes-room/
LOCATION:Epworth United Methodist Church\, 19285 Holland Glade Road\, Rehoboth Beach\, DE\, 19971\, United States
CATEGORIES:Church,LRAC
END:VEVENT
BEGIN:VEVENT
DTSTART;TZID=America/New_York:20241107T170000
DTEND;TZID=America/New_York:20241107T200000
DTSTAMP:20260424T103325
CREATED:20240925T150829Z
LAST-MODIFIED:20240925T151339Z
UID:10014645-1730998800-1731009600@epworth.faith
SUMMARY:LRAC Board Meeting - Conf. Room
DESCRIPTION:
URL:https://epworth.faith/event/lrac-board-meeting-conf-room-4/
LOCATION:DE
CATEGORIES:LRAC
ORGANIZER;CN="Bo Gordy-Stith":MAILTO:bgordy-stith@epworth.faith
END:VEVENT
BEGIN:VEVENT
DTSTART;TZID=America/New_York:20241028T170000
DTEND;TZID=America/New_York:20241028T200000
DTSTAMP:20260424T103325
CREATED:20240925T150750Z
LAST-MODIFIED:20240925T151159Z
UID:10014644-1730134800-1730145600@epworth.faith
SUMMARY:LRAC Board Meeting - Conf. Room
DESCRIPTION:
URL:https://epworth.faith/event/lrac-board-meeting-conf-room-3/
LOCATION:DE
CATEGORIES:LRAC
END:VEVENT
BEGIN:VEVENT
DTSTART;TZID=America/New_York:20240930T170000
DTEND;TZID=America/New_York:20240930T200000
DTSTAMP:20260424T103325
CREATED:20240925T150650Z
LAST-MODIFIED:20240925T151050Z
UID:10014643-1727715600-1727726400@epworth.faith
SUMMARY:LRAC Board Meeting - Conf. Room
DESCRIPTION:
URL:https://epworth.faith/event/lrac-board-meeting-conf-room-2/
LOCATION:DE
CATEGORIES:LRAC
ORGANIZER;CN="Bo Gordy-Stith":MAILTO:bgordy-stith@epworth.faith
END:VEVENT
BEGIN:VEVENT
DTSTART;TZID=America/New_York:20240926T120000
DTEND;TZID=America/New_York:20240926T150000
DTSTAMP:20260424T103325
CREATED:20240925T150535Z
LAST-MODIFIED:20240925T151005Z
UID:10014642-1727352000-1727362800@epworth.faith
SUMMARY:LRAC Board Meeting - Conf. Room
DESCRIPTION:
URL:https://epworth.faith/event/lrac-board-meeting-conf-room/
LOCATION:DE
CATEGORIES:LRAC
ORGANIZER;CN="Bo Gordy-Stith":MAILTO:bgordy-stith@epworth.faith
END:VEVENT
BEGIN:VEVENT
DTSTART;TZID=America/New_York:20240307T100000
DTEND;TZID=America/New_York:20240307T113000
DTSTAMP:20260424T103325
CREATED:20240226T174630Z
LAST-MODIFIED:20240227T153442Z
UID:10012318-1709805600-1709811000@epworth.faith
SUMMARY:New Life Thrift Shop Committee Mtg (Starnes Room)
DESCRIPTION:
URL:https://epworth.faith/event/lrac-board-mtg-starnes-room/
LOCATION:Epworth United Methodist Church\, 19285 Holland Glade Road\, Rehoboth Beach\, DE\, 19971\, United States
CATEGORIES:LRAC,Neighborhood/Community Groups
END:VEVENT
BEGIN:VEVENT
DTSTART;TZID=America/New_York:20240305T130000
DTEND;TZID=America/New_York:20240305T140000
DTSTAMP:20260424T103325
CREATED:20240228T171326Z
LAST-MODIFIED:20240228T173435Z
UID:10012347-1709643600-1709647200@epworth.faith
SUMMARY:LRAC Grant Committee (Baker)
DESCRIPTION:
URL:https://epworth.faith/event/lrac-grant-committee-baker/
LOCATION:DE
CATEGORIES:LRAC
ORGANIZER;CN="Bo Gordy-Stith":MAILTO:bgordy-stith@epworth.faith
END:VEVENT
BEGIN:VEVENT
DTSTART;TZID=America/New_York:20231116T093000
DTEND;TZID=America/New_York:20231116T123000
DTSTAMP:20260424T103325
CREATED:20231031T162020Z
LAST-MODIFIED:20231101T154957Z
UID:10010191-1700127000-1700137800@epworth.faith
SUMMARY:LRAC Training (Starnes Room)
DESCRIPTION:
URL:https://epworth.faith/event/lrac-training-baker-lounge/
LOCATION:Epworth United Methodist Church\, 19285 Holland Glade Road\, Rehoboth Beach\, DE\, 19971\, United States
CATEGORIES:LRAC
ORGANIZER;CN="Bo Gordy-Stith":MAILTO:bgordy-stith@epworth.faith
END:VEVENT
BEGIN:VEVENT
DTSTART;TZID=America/New_York:20231114T130000
DTEND;TZID=America/New_York:20231114T134500
DTSTAMP:20260424T103325
CREATED:20231101T154722Z
LAST-MODIFIED:20231101T154722Z
UID:10010713-1699966800-1699969500@epworth.faith
SUMMARY:LRAC Grant Committee (Starnes Room)
DESCRIPTION:
URL:https://epworth.faith/event/lrac-grant-committee-starnes-room/
LOCATION:Epworth United Methodist Church\, 19285 Holland Glade Road\, Rehoboth Beach\, DE\, 19971\, United States
CATEGORIES:LRAC
ORGANIZER;CN="Bo Gordy-Stith":MAILTO:bgordy-stith@epworth.faith
END:VEVENT
BEGIN:VEVENT
DTSTART;TZID=America/New_York:20230518T100000
DTEND;TZID=America/New_York:20230518T140000
DTSTAMP:20260424T103325
CREATED:20230515T141043Z
LAST-MODIFIED:20230515T141423Z
UID:10008608-1684404000-1684418400@epworth.faith
SUMMARY:LRAC BOD Training (Conf. Room)
DESCRIPTION:
URL:https://epworth.faith/event/lrac-bod-training/
LOCATION:DE
CATEGORIES:LRAC
ORGANIZER;CN="Bo Gordy-Stith":MAILTO:bgordy-stith@epworth.faith
END:VEVENT
BEGIN:VEVENT
DTSTART;TZID=America/New_York:20230425T183000
DTEND;TZID=America/New_York:20230425T193000
DTSTAMP:20260424T103325
CREATED:20230417T154624Z
LAST-MODIFIED:20230424T133743Z
UID:10008194-1682447400-1682451000@epworth.faith
SUMMARY:LRAC Board Meeting (Branford Lounge)
DESCRIPTION:LRAC quarterly board of directors’ open meeting – featuring reports from LRAC ministry partners and board committees. The open meeting will be followed immediately (from 7:30-8:15) by a closed session of the Board of Directors.
URL:https://epworth.faith/event/lrac-board-meeting/
LOCATION:DE
CATEGORIES:LRAC
ATTACH;FMTTYPE=image/png:https://epworth.faith/wp-content/uploads/2023/04/LRAC-Logo-New.png
ORGANIZER;CN="Bo Gordy-Stith":MAILTO:bgordy-stith@epworth.faith
END:VEVENT
BEGIN:VEVENT
DTSTART;TZID=America/New_York:20230110T183000
DTEND;TZID=America/New_York:20230110T193000
DTSTAMP:20260424T103325
CREATED:20221214T144911Z
LAST-MODIFIED:20221214T144911Z
UID:10006287-1673375400-1673379000@epworth.faith
SUMMARY:LRAC (Branford Lounge)
DESCRIPTION:
URL:https://epworth.faith/event/lrac-branford-lounge-2/
LOCATION:Epworth United Methodist Church\, 19285 Holland Glade Road\, Rehoboth Beach\, DE\, 19971\, United States
CATEGORIES:LRAC
ORGANIZER;CN="Bo Gordy-Stith":MAILTO:bgordy-stith@epworth.faith
END:VEVENT
BEGIN:VEVENT
DTSTART;TZID=America/New_York:20221024T180000
DTEND;TZID=America/New_York:20221024T210000
DTSTAMP:20260424T103326
CREATED:20221012T160657Z
LAST-MODIFIED:20221012T160657Z
UID:10006141-1666634400-1666645200@epworth.faith
SUMMARY:LRAC Hybrid Meeting (Administrative Conference Room)
DESCRIPTION:
URL:https://epworth.faith/event/lrac-hybrid-meeting-administrative-conference-room/2022-10-24/
LOCATION:Epworth United Methodist Church\, 19285 Holland Glade Road\, Rehoboth Beach\, DE\, 19971\, United States
CATEGORIES:LRAC
ORGANIZER;CN="Bo Gordy-Stith":MAILTO:bgordy-stith@epworth.faith
END:VEVENT
BEGIN:VEVENT
DTSTART;TZID=America/New_York:20221020T180000
DTEND;TZID=America/New_York:20221020T210000
DTSTAMP:20260424T103326
CREATED:20221012T160657Z
LAST-MODIFIED:20221012T160657Z
UID:10006140-1666288800-1666299600@epworth.faith
SUMMARY:LRAC Hybrid Meeting (Administrative Conference Room)
DESCRIPTION:
URL:https://epworth.faith/event/lrac-hybrid-meeting-administrative-conference-room/2022-10-20/
LOCATION:Epworth United Methodist Church\, 19285 Holland Glade Road\, Rehoboth Beach\, DE\, 19971\, United States
CATEGORIES:LRAC
ORGANIZER;CN="Bo Gordy-Stith":MAILTO:bgordy-stith@epworth.faith
END:VEVENT
END:VCALENDAR