BEGIN:VCALENDAR
VERSION:2.0
PRODID:-//Epworth UMC - ECPv6.15.20//NONSGML v1.0//EN
CALSCALE:GREGORIAN
METHOD:PUBLISH
X-ORIGINAL-URL:https://epworth.faith
X-WR-CALDESC:Events for Epworth UMC
REFRESH-INTERVAL;VALUE=DURATION:PT1H
X-Robots-Tag:noindex
X-PUBLISHED-TTL:PT1H
BEGIN:VTIMEZONE
TZID:America/New_York
BEGIN:DAYLIGHT
TZOFFSETFROM:-0500
TZOFFSETTO:-0400
TZNAME:EDT
DTSTART:20240310T070000
END:DAYLIGHT
BEGIN:STANDARD
TZOFFSETFROM:-0400
TZOFFSETTO:-0500
TZNAME:EST
DTSTART:20241103T060000
END:STANDARD
BEGIN:DAYLIGHT
TZOFFSETFROM:-0500
TZOFFSETTO:-0400
TZNAME:EDT
DTSTART:20250309T070000
END:DAYLIGHT
BEGIN:STANDARD
TZOFFSETFROM:-0400
TZOFFSETTO:-0500
TZNAME:EST
DTSTART:20251102T060000
END:STANDARD
BEGIN:DAYLIGHT
TZOFFSETFROM:-0500
TZOFFSETTO:-0400
TZNAME:EDT
DTSTART:20260308T070000
END:DAYLIGHT
BEGIN:STANDARD
TZOFFSETFROM:-0400
TZOFFSETTO:-0500
TZNAME:EST
DTSTART:20261101T060000
END:STANDARD
END:VTIMEZONE
BEGIN:VEVENT
DTSTART;TZID=America/New_York:20251104T080000
DTEND;TZID=America/New_York:20251104T120000
DTSTAMP:20260424T104710
CREATED:20250924T175627Z
LAST-MODIFIED:20250924T175627Z
UID:10017473-1762243200-1762257600@epworth.faith
SUMMARY:Preschool Picture Day (Sanctuary)
DESCRIPTION:
URL:https://epworth.faith/event/preschool-picture-day-sanctuary/
LOCATION:Epworth United Methodist Church\, 19285 Holland Glade Road\, Rehoboth Beach\, DE\, 19971\, United States
CATEGORIES:Church,Preschool
ORGANIZER;CN="Betsy Plowman":MAILTO:bplowman@epworth.faith
END:VEVENT
BEGIN:VEVENT
DTSTART;TZID=America/New_York:20251105T080000
DTEND;TZID=America/New_York:20251105T120000
DTSTAMP:20260424T104710
CREATED:20250924T175722Z
LAST-MODIFIED:20250924T175722Z
UID:10017474-1762329600-1762344000@epworth.faith
SUMMARY:Preschool Picture Day (Sanctuary)
DESCRIPTION:
URL:https://epworth.faith/event/preschool-picture-day-sanctuary-2/
LOCATION:Epworth United Methodist Church\, 19285 Holland Glade Road\, Rehoboth Beach\, DE\, 19971\, United States
CATEGORIES:Church,Preschool
ORGANIZER;CN="Betsy Plowman":MAILTO:bplowman@epworth.faith
END:VEVENT
BEGIN:VEVENT
DTSTART;TZID=America/New_York:20251124T080000
DTEND;TZID=America/New_York:20251124T113000
DTSTAMP:20260424T104710
CREATED:20251021T142046Z
LAST-MODIFIED:20251021T142046Z
UID:10018046-1763971200-1763983800@epworth.faith
SUMMARY:Preschool Thanksgiving Feast (Fellowship Hall)
DESCRIPTION:
URL:https://epworth.faith/event/preschool-thanksgiving-feast-fellowship-hall-3/2025-11-24/
LOCATION:Epworth United Methodist Church\, 19285 Holland Glade Road\, Rehoboth Beach\, DE\, 19971\, United States
CATEGORIES:Church,Preschool
ORGANIZER;CN="Betsy Plowman":MAILTO:bplowman@epworth.faith
END:VEVENT
BEGIN:VEVENT
DTSTART;TZID=America/New_York:20251125T080000
DTEND;TZID=America/New_York:20251125T113000
DTSTAMP:20260424T104710
CREATED:20251021T142046Z
LAST-MODIFIED:20251021T142046Z
UID:10018047-1764057600-1764070200@epworth.faith
SUMMARY:Preschool Thanksgiving Feast (Fellowship Hall)
DESCRIPTION:
URL:https://epworth.faith/event/preschool-thanksgiving-feast-fellowship-hall-3/2025-11-25/
LOCATION:Epworth United Methodist Church\, 19285 Holland Glade Road\, Rehoboth Beach\, DE\, 19971\, United States
CATEGORIES:Church,Preschool
ORGANIZER;CN="Betsy Plowman":MAILTO:bplowman@epworth.faith
END:VEVENT
END:VCALENDAR