BEGIN:VCALENDAR
VERSION:2.0
PRODID:-//Epworth UMC - ECPv6.15.20//NONSGML v1.0//EN
CALSCALE:GREGORIAN
METHOD:PUBLISH
X-WR-CALNAME:Epworth UMC
X-ORIGINAL-URL:https://epworth.faith
X-WR-CALDESC:Events for Epworth UMC
REFRESH-INTERVAL;VALUE=DURATION:PT1H
X-Robots-Tag:noindex
X-PUBLISHED-TTL:PT1H
BEGIN:VTIMEZONE
TZID:America/New_York
BEGIN:DAYLIGHT
TZOFFSETFROM:-0500
TZOFFSETTO:-0400
TZNAME:EDT
DTSTART:20240310T070000
END:DAYLIGHT
BEGIN:STANDARD
TZOFFSETFROM:-0400
TZOFFSETTO:-0500
TZNAME:EST
DTSTART:20241103T060000
END:STANDARD
BEGIN:DAYLIGHT
TZOFFSETFROM:-0500
TZOFFSETTO:-0400
TZNAME:EDT
DTSTART:20250309T070000
END:DAYLIGHT
BEGIN:STANDARD
TZOFFSETFROM:-0400
TZOFFSETTO:-0500
TZNAME:EST
DTSTART:20251102T060000
END:STANDARD
BEGIN:DAYLIGHT
TZOFFSETFROM:-0500
TZOFFSETTO:-0400
TZNAME:EDT
DTSTART:20260308T070000
END:DAYLIGHT
BEGIN:STANDARD
TZOFFSETFROM:-0400
TZOFFSETTO:-0500
TZNAME:EST
DTSTART:20261101T060000
END:STANDARD
BEGIN:DAYLIGHT
TZOFFSETFROM:-0500
TZOFFSETTO:-0400
TZNAME:EDT
DTSTART:20270314T070000
END:DAYLIGHT
BEGIN:STANDARD
TZOFFSETFROM:-0400
TZOFFSETTO:-0500
TZNAME:EST
DTSTART:20271107T060000
END:STANDARD
END:VTIMEZONE
BEGIN:VEVENT
DTSTART;TZID=America/New_York:20251217T090000
DTEND;TZID=America/New_York:20251217T113000
DTSTAMP:20260425T113012
CREATED:20250911T133828Z
LAST-MODIFIED:20250911T133828Z
UID:10017453-1765962000-1765971000@epworth.faith
SUMMARY:Preschool Christmas Program Rehearsal (Sanctuary)
DESCRIPTION:
URL:https://epworth.faith/event/preschool-christmas-program-rehearsal-sanctuary-5/2025-12-17/
LOCATION:Epworth United Methodist Church\, 19285 Holland Glade Road\, Rehoboth Beach\, DE\, 19971\, United States
CATEGORIES:Church,Preschool
ORGANIZER;CN="Betsy Plowman":MAILTO:bplowman@epworth.faith
END:VEVENT
BEGIN:VEVENT
DTSTART;TZID=America/New_York:20251218T120000
DTEND;TZID=America/New_York:20251218T140000
DTSTAMP:20260425T113012
CREATED:20250911T203736Z
LAST-MODIFIED:20250911T203736Z
UID:10017471-1766059200-1766066400@epworth.faith
SUMMARY:Preschool Christmas Program Rehearsal (Sanctuary)
DESCRIPTION:
URL:https://epworth.faith/event/preschool-christmas-program-rehearsal-sanctuary-7/
LOCATION:Epworth United Methodist Church\, 19285 Holland Glade Road\, Rehoboth Beach\, DE\, 19971\, United States
CATEGORIES:Church,Preschool
ORGANIZER;CN="Betsy Plowman":MAILTO:bplowman@epworth.faith
END:VEVENT
BEGIN:VEVENT
DTSTART;TZID=America/New_York:20251219T090000
DTEND;TZID=America/New_York:20251219T113000
DTSTAMP:20260425T113012
CREATED:20250911T134319Z
LAST-MODIFIED:20250911T134319Z
UID:10017454-1766134800-1766143800@epworth.faith
SUMMARY:Preschool Christmas Program Performance (Sanctuary)
DESCRIPTION:
URL:https://epworth.faith/event/preschool-christmas-program-performance-sanctuary/
LOCATION:Epworth United Methodist Church\, 19285 Holland Glade Road\, Rehoboth Beach\, DE\, 19971\, United States
CATEGORIES:Church,Preschool
ORGANIZER;CN="Betsy Plowman":MAILTO:bplowman@epworth.faith
END:VEVENT
BEGIN:VEVENT
DTSTART;TZID=America/New_York:20260220T093000
DTEND;TZID=America/New_York:20260220T120000
DTSTAMP:20260425T113012
CREATED:20260209T165636Z
LAST-MODIFIED:20260209T165636Z
UID:10021209-1771579800-1771588800@epworth.faith
SUMMARY:Abbott's Mill Nature Center - Preschool (Fellowship Hall)
DESCRIPTION:
URL:https://epworth.faith/event/abbotts-mill-nature-center-preschool-fellowship-hall/
LOCATION:Epworth United Methodist Church\, 19285 Holland Glade Road\, Rehoboth Beach\, DE\, 19971\, United States
CATEGORIES:Church,Preschool
ORGANIZER;CN="Betsy Plowman":MAILTO:bplowman@epworth.faith
END:VEVENT
BEGIN:VEVENT
DTSTART;TZID=America/New_York:20260306T093000
DTEND;TZID=America/New_York:20260306T120000
DTSTAMP:20260425T113012
CREATED:20260209T195544Z
LAST-MODIFIED:20260209T195544Z
UID:10021213-1772789400-1772798400@epworth.faith
SUMMARY:Pete the Cat - Preschool (Fellowship Hall)
DESCRIPTION:
URL:https://epworth.faith/event/pete-the-cat-preschool-fellowship-hall/
LOCATION:Epworth United Methodist Church\, 19285 Holland Glade Road\, Rehoboth Beach\, DE\, 19971\, United States
CATEGORIES:Church,Preschool
ORGANIZER;CN="Betsy Plowman":MAILTO:bplowman@epworth.faith
END:VEVENT
BEGIN:VEVENT
DTSTART;TZID=America/New_York:20260310T093000
DTEND;TZID=America/New_York:20260310T120000
DTSTAMP:20260425T113012
CREATED:20260209T170036Z
LAST-MODIFIED:20260209T170036Z
UID:10021210-1773135000-1773144000@epworth.faith
SUMMARY:Pete the Cat Visit - Preschool (Fellowship Hall)
DESCRIPTION:
URL:https://epworth.faith/event/pete-the-cat-visit-preschool-fellowship-hall-2/
LOCATION:Epworth United Methodist Church\, 19285 Holland Glade Road\, Rehoboth Beach\, DE\, 19971\, United States
CATEGORIES:Church,Preschool
ORGANIZER;CN="Betsy Plowman":MAILTO:bplowman@epworth.faith
END:VEVENT
BEGIN:VEVENT
DTSTART;TZID=America/New_York:20260316T143000
DTEND;TZID=America/New_York:20260316T160000
DTSTAMP:20260425T113012
CREATED:20251118T200707Z
LAST-MODIFIED:20260225T155033Z
UID:10020900-1773671400-1773676800@epworth.faith
SUMMARY:Preschool Quarterly Board Meeting (Office Conference Room)
DESCRIPTION:
URL:https://epworth.faith/event/preschool-quarterly-board-meeting-office-conference-room-2/
LOCATION:Epworth United Methodist Church\, 19285 Holland Glade Road\, Rehoboth Beach\, DE\, 19971\, United States
CATEGORIES:Church,Preschool
ORGANIZER;CN="Betsy Plowman":MAILTO:bplowman@epworth.faith
END:VEVENT
BEGIN:VEVENT
DTSTART;TZID=America/New_York:20260508T090000
DTEND;TZID=America/New_York:20260508T113000
DTSTAMP:20260425T113012
CREATED:20260416T192743Z
LAST-MODIFIED:20260416T192743Z
UID:10022201-1778230800-1778239800@epworth.faith
SUMMARY:Preschool Graduation Rehearsal (Sanctuary)
DESCRIPTION:
URL:https://epworth.faith/event/preschool-graduation-rehearsal-sanctuary-3/
LOCATION:Epworth United Methodist Church\, 19285 Holland Glade Road\, Rehoboth Beach\, DE\, 19971\, United States
CATEGORIES:Church,Preschool
ORGANIZER;CN="Betsy Plowman":MAILTO:bplowman@epworth.faith
END:VEVENT
BEGIN:VEVENT
DTSTART;TZID=America/New_York:20260511T090000
DTEND;TZID=America/New_York:20260511T113000
DTSTAMP:20260425T113012
CREATED:20250911T140819Z
LAST-MODIFIED:20250911T140819Z
UID:10017455-1778490000-1778499000@epworth.faith
SUMMARY:Preschool Graduation Rehearsal (Sanctuary)
DESCRIPTION:
URL:https://epworth.faith/event/preschool-graduation-rehearsal-sanctuary/2026-05-11/
LOCATION:Epworth United Methodist Church\, 19285 Holland Glade Road\, Rehoboth Beach\, DE\, 19971\, United States
CATEGORIES:Church,Preschool
ORGANIZER;CN="Betsy Plowman":MAILTO:bplowman@epworth.faith
END:VEVENT
BEGIN:VEVENT
DTSTART;TZID=America/New_York:20260512T090000
DTEND;TZID=America/New_York:20260512T113000
DTSTAMP:20260425T113012
CREATED:20250911T140819Z
LAST-MODIFIED:20250911T140819Z
UID:10017456-1778576400-1778585400@epworth.faith
SUMMARY:Preschool Graduation Rehearsal (Sanctuary)
DESCRIPTION:
URL:https://epworth.faith/event/preschool-graduation-rehearsal-sanctuary/2026-05-12/
LOCATION:Epworth United Methodist Church\, 19285 Holland Glade Road\, Rehoboth Beach\, DE\, 19971\, United States
CATEGORIES:Church,Preschool
ORGANIZER;CN="Betsy Plowman":MAILTO:bplowman@epworth.faith
END:VEVENT
BEGIN:VEVENT
DTSTART;TZID=America/New_York:20260513T090000
DTEND;TZID=America/New_York:20260513T113000
DTSTAMP:20260425T113012
CREATED:20250911T140819Z
LAST-MODIFIED:20250911T140819Z
UID:10017457-1778662800-1778671800@epworth.faith
SUMMARY:Preschool Graduation Rehearsal (Sanctuary)
DESCRIPTION:
URL:https://epworth.faith/event/preschool-graduation-rehearsal-sanctuary/2026-05-13/
LOCATION:Epworth United Methodist Church\, 19285 Holland Glade Road\, Rehoboth Beach\, DE\, 19971\, United States
CATEGORIES:Church,Preschool
ORGANIZER;CN="Betsy Plowman":MAILTO:bplowman@epworth.faith
END:VEVENT
BEGIN:VEVENT
DTSTART;TZID=America/New_York:20260514T090000
DTEND;TZID=America/New_York:20260514T113000
DTSTAMP:20260425T113012
CREATED:20250911T140819Z
LAST-MODIFIED:20250911T140819Z
UID:10017458-1778749200-1778758200@epworth.faith
SUMMARY:Preschool Graduation Rehearsal (Sanctuary)
DESCRIPTION:
URL:https://epworth.faith/event/preschool-graduation-rehearsal-sanctuary/2026-05-14/
LOCATION:Epworth United Methodist Church\, 19285 Holland Glade Road\, Rehoboth Beach\, DE\, 19971\, United States
CATEGORIES:Church,Preschool
ORGANIZER;CN="Betsy Plowman":MAILTO:bplowman@epworth.faith
END:VEVENT
BEGIN:VEVENT
DTSTART;TZID=America/New_York:20260518T090000
DTEND;TZID=America/New_York:20260518T113000
DTSTAMP:20260425T113012
CREATED:20250911T141110Z
LAST-MODIFIED:20250911T141110Z
UID:10017459-1779094800-1779103800@epworth.faith
SUMMARY:Preschool Graduation Rehearsal (Sanctuary)
DESCRIPTION:
URL:https://epworth.faith/event/preschool-graduation-rehearsal-sanctuary-2/2026-05-18/
LOCATION:Epworth United Methodist Church\, 19285 Holland Glade Road\, Rehoboth Beach\, DE\, 19971\, United States
CATEGORIES:Church,Preschool
ORGANIZER;CN="Betsy Plowman":MAILTO:bplowman@epworth.faith
END:VEVENT
BEGIN:VEVENT
DTSTART;TZID=America/New_York:20260519T090000
DTEND;TZID=America/New_York:20260519T113000
DTSTAMP:20260425T113012
CREATED:20250911T141110Z
LAST-MODIFIED:20250911T141110Z
UID:10017460-1779181200-1779190200@epworth.faith
SUMMARY:Preschool Graduation Rehearsal (Sanctuary)
DESCRIPTION:
URL:https://epworth.faith/event/preschool-graduation-rehearsal-sanctuary-2/2026-05-19/
LOCATION:Epworth United Methodist Church\, 19285 Holland Glade Road\, Rehoboth Beach\, DE\, 19971\, United States
CATEGORIES:Church,Preschool
ORGANIZER;CN="Betsy Plowman":MAILTO:bplowman@epworth.faith
END:VEVENT
BEGIN:VEVENT
DTSTART;TZID=America/New_York:20260520T080000
DTEND;TZID=America/New_York:20260520T130000
DTSTAMP:20260425T113012
CREATED:20250911T144549Z
LAST-MODIFIED:20250911T144549Z
UID:10017461-1779264000-1779282000@epworth.faith
SUMMARY:Preschool Spring Program & Graduation (Sanctuary & Fellowship Hall)
DESCRIPTION:
URL:https://epworth.faith/event/preschool-spring-program-graduation-sanctuary-fellowship-hall/
LOCATION:Epworth United Methodist Church\, 19285 Holland Glade Road\, Rehoboth Beach\, DE\, 19971\, United States
CATEGORIES:Church,Preschool
ORGANIZER;CN="Betsy Plowman":MAILTO:bplowman@epworth.faith
END:VEVENT
END:VCALENDAR