BEGIN:VCALENDAR
VERSION:2.0
PRODID:-//Epworth UMC - ECPv6.15.20//NONSGML v1.0//EN
CALSCALE:GREGORIAN
METHOD:PUBLISH
X-WR-CALNAME:Epworth UMC
X-ORIGINAL-URL:https://epworth.faith
X-WR-CALDESC:Events for Epworth UMC
REFRESH-INTERVAL;VALUE=DURATION:PT1H
X-Robots-Tag:noindex
X-PUBLISHED-TTL:PT1H
BEGIN:VTIMEZONE
TZID:America/New_York
BEGIN:DAYLIGHT
TZOFFSETFROM:-0500
TZOFFSETTO:-0400
TZNAME:EDT
DTSTART:20220313T070000
END:DAYLIGHT
BEGIN:STANDARD
TZOFFSETFROM:-0400
TZOFFSETTO:-0500
TZNAME:EST
DTSTART:20221106T060000
END:STANDARD
BEGIN:DAYLIGHT
TZOFFSETFROM:-0500
TZOFFSETTO:-0400
TZNAME:EDT
DTSTART:20230312T070000
END:DAYLIGHT
BEGIN:STANDARD
TZOFFSETFROM:-0400
TZOFFSETTO:-0500
TZNAME:EST
DTSTART:20231105T060000
END:STANDARD
BEGIN:DAYLIGHT
TZOFFSETFROM:-0500
TZOFFSETTO:-0400
TZNAME:EDT
DTSTART:20240310T070000
END:DAYLIGHT
BEGIN:STANDARD
TZOFFSETFROM:-0400
TZOFFSETTO:-0500
TZNAME:EST
DTSTART:20241103T060000
END:STANDARD
BEGIN:DAYLIGHT
TZOFFSETFROM:-0500
TZOFFSETTO:-0400
TZNAME:EDT
DTSTART:20250309T070000
END:DAYLIGHT
BEGIN:STANDARD
TZOFFSETFROM:-0400
TZOFFSETTO:-0500
TZNAME:EST
DTSTART:20251102T060000
END:STANDARD
BEGIN:DAYLIGHT
TZOFFSETFROM:-0500
TZOFFSETTO:-0400
TZNAME:EDT
DTSTART:20260308T070000
END:DAYLIGHT
BEGIN:STANDARD
TZOFFSETFROM:-0400
TZOFFSETTO:-0500
TZNAME:EST
DTSTART:20261101T060000
END:STANDARD
END:VTIMEZONE
BEGIN:VEVENT
DTSTART;TZID=America/New_York:20250513T092000
DTEND;TZID=America/New_York:20250513T095500
DTSTAMP:20260425T121119
CREATED:20250508T154007Z
LAST-MODIFIED:20250508T154007Z
UID:10016044-1747128000-1747130100@epworth.faith
SUMMARY:Preschool Program Rehearsal (Sanctuary)
DESCRIPTION:
URL:https://epworth.faith/event/preschool-program-rehearsal-sanctuary-4/
LOCATION:Epworth United Methodist Church\, 19285 Holland Glade Road\, Rehoboth Beach\, DE\, 19971\, United States
CATEGORIES:Church,Preschool
ORGANIZER;CN="Betsy Plowman":MAILTO:bplowman@epworth.faith
END:VEVENT
BEGIN:VEVENT
DTSTART;TZID=America/New_York:20250512T094500
DTEND;TZID=America/New_York:20250512T104500
DTSTAMP:20260425T121119
CREATED:20250508T135027Z
LAST-MODIFIED:20250508T135027Z
UID:10016032-1747043100-1747046700@epworth.faith
SUMMARY:Preschool Program Practice (Sanctuary)
DESCRIPTION:
URL:https://epworth.faith/event/preschool-program-practice-sanctuary-3/
LOCATION:Epworth United Methodist Church\, 19285 Holland Glade Road\, Rehoboth Beach\, DE\, 19971\, United States
CATEGORIES:Church,Preschool
ORGANIZER;CN="Betsy Plowman":MAILTO:bplowman@epworth.faith
END:VEVENT
BEGIN:VEVENT
DTSTART;TZID=America/New_York:20250228T100000
DTEND;TZID=America/New_York:20250228T120000
DTSTAMP:20260425T121119
CREATED:20250205T141804Z
LAST-MODIFIED:20250205T141804Z
UID:10015506-1740736800-1740744000@epworth.faith
SUMMARY:Abbott's Mill Nature Center Visit - Preschool (Fellowship Hall)
DESCRIPTION:
URL:https://epworth.faith/event/abbotts-mill-nature-center-visit-preschool-fellowship-hall/
LOCATION:Epworth United Methodist Church\, 19285 Holland Glade Road\, Rehoboth Beach\, DE\, 19971\, United States
CATEGORIES:Church,Preschool
ORGANIZER;CN="Betsy Plowman":MAILTO:bplowman@epworth.faith
END:VEVENT
BEGIN:VEVENT
DTSTART;TZID=America/New_York:20250221T093000
DTEND;TZID=America/New_York:20250221T113000
DTSTAMP:20260425T121119
CREATED:20250205T141626Z
LAST-MODIFIED:20250205T141626Z
UID:10015505-1740130200-1740137400@epworth.faith
SUMMARY:Pete the Cat Visit - Preschool (Fellowship Hall)
DESCRIPTION:
URL:https://epworth.faith/event/pete-the-cat-visit-preschool-fellowship-hall/
LOCATION:Epworth United Methodist Church\, 19285 Holland Glade Road\, Rehoboth Beach\, DE\, 19971\, United States
CATEGORIES:Church,Preschool
ORGANIZER;CN="Betsy Plowman":MAILTO:bplowman@epworth.faith
END:VEVENT
BEGIN:VEVENT
DTSTART;TZID=America/New_York:20241220T083000
DTEND;TZID=America/New_York:20241220T123000
DTSTAMP:20260425T121119
CREATED:20241001T190927Z
LAST-MODIFIED:20241001T190927Z
UID:10015029-1734683400-1734697800@epworth.faith
SUMMARY:Preschool Christmas Program (Sanctuary & Fellowship Hall)
DESCRIPTION:
URL:https://epworth.faith/event/preschool-christmas-program-sanctuary-fellowship-hall-2/
LOCATION:Epworth United Methodist Church\, 19285 Holland Glade Road\, Rehoboth Beach\, DE\, 19971\, United States
CATEGORIES:Church,Preschool
ORGANIZER;CN="Betsy Plowman":MAILTO:bplowman@epworth.faith
END:VEVENT
BEGIN:VEVENT
DTSTART;TZID=America/New_York:20241219T083000
DTEND;TZID=America/New_York:20241219T113000
DTSTAMP:20260425T121119
CREATED:20241001T190711Z
LAST-MODIFIED:20241001T190711Z
UID:10015028-1734597000-1734607800@epworth.faith
SUMMARY:Preschool Christmas Program Rehearsal (Sanctuary)
DESCRIPTION:
URL:https://epworth.faith/event/preschool-christmas-program-rehearsal-sanctuary-2/2024-12-19/
LOCATION:Epworth United Methodist Church\, 19285 Holland Glade Road\, Rehoboth Beach\, DE\, 19971\, United States
CATEGORIES:Church,Preschool
ORGANIZER;CN="Betsy Plowman":MAILTO:bplowman@epworth.faith
END:VEVENT
BEGIN:VEVENT
DTSTART;TZID=America/New_York:20241218T083000
DTEND;TZID=America/New_York:20241218T113000
DTSTAMP:20260425T121119
CREATED:20241001T190711Z
LAST-MODIFIED:20241001T190711Z
UID:10015027-1734510600-1734521400@epworth.faith
SUMMARY:Preschool Christmas Program Rehearsal (Sanctuary)
DESCRIPTION:
URL:https://epworth.faith/event/preschool-christmas-program-rehearsal-sanctuary-2/2024-12-18/
LOCATION:Epworth United Methodist Church\, 19285 Holland Glade Road\, Rehoboth Beach\, DE\, 19971\, United States
CATEGORIES:Church,Preschool
ORGANIZER;CN="Betsy Plowman":MAILTO:bplowman@epworth.faith
END:VEVENT
BEGIN:VEVENT
DTSTART;TZID=America/New_York:20241217T083000
DTEND;TZID=America/New_York:20241217T113000
DTSTAMP:20260425T121119
CREATED:20241001T190711Z
LAST-MODIFIED:20241001T190711Z
UID:10015026-1734424200-1734435000@epworth.faith
SUMMARY:Preschool Christmas Program Rehearsal (Sanctuary)
DESCRIPTION:
URL:https://epworth.faith/event/preschool-christmas-program-rehearsal-sanctuary-2/2024-12-17/
LOCATION:Epworth United Methodist Church\, 19285 Holland Glade Road\, Rehoboth Beach\, DE\, 19971\, United States
CATEGORIES:Church,Preschool
ORGANIZER;CN="Betsy Plowman":MAILTO:bplowman@epworth.faith
END:VEVENT
BEGIN:VEVENT
DTSTART;TZID=America/New_York:20241216T083000
DTEND;TZID=America/New_York:20241216T113000
DTSTAMP:20260425T121119
CREATED:20241001T190711Z
LAST-MODIFIED:20241001T190711Z
UID:10015025-1734337800-1734348600@epworth.faith
SUMMARY:Preschool Christmas Program Rehearsal (Sanctuary)
DESCRIPTION:
URL:https://epworth.faith/event/preschool-christmas-program-rehearsal-sanctuary-2/2024-12-16/
LOCATION:Epworth United Methodist Church\, 19285 Holland Glade Road\, Rehoboth Beach\, DE\, 19971\, United States
CATEGORIES:Church,Preschool
ORGANIZER;CN="Betsy Plowman":MAILTO:bplowman@epworth.faith
END:VEVENT
BEGIN:VEVENT
DTSTART;TZID=America/New_York:20241213T083000
DTEND;TZID=America/New_York:20241213T113000
DTSTAMP:20260425T121119
CREATED:20241001T190425Z
LAST-MODIFIED:20241001T190425Z
UID:10015024-1734078600-1734089400@epworth.faith
SUMMARY:Preschool Christmas Concert Rehearsal (Sanctuary)
DESCRIPTION:
URL:https://epworth.faith/event/preschool-christmas-concert-rehearsal-sanctuary/
LOCATION:Epworth United Methodist Church\, 19285 Holland Glade Road\, Rehoboth Beach\, DE\, 19971\, United States
CATEGORIES:Church,Preschool
ORGANIZER;CN="Betsy Plowman":MAILTO:bplowman@epworth.faith
END:VEVENT
BEGIN:VEVENT
DTSTART;TZID=America/New_York:20241211T083000
DTEND;TZID=America/New_York:20241211T113000
DTSTAMP:20260425T121119
CREATED:20241001T184421Z
LAST-MODIFIED:20241001T184421Z
UID:10015018-1733905800-1733916600@epworth.faith
SUMMARY:Preschool Christmas Program Rehearsal (Sanctuary)
DESCRIPTION:
URL:https://epworth.faith/event/preschool-christmas-program-rehearsal-sanctuary/2024-12-11/
LOCATION:Epworth United Methodist Church\, 19285 Holland Glade Road\, Rehoboth Beach\, DE\, 19971\, United States
CATEGORIES:Church,Preschool
ORGANIZER;CN="Betsy Plowman":MAILTO:bplowman@epworth.faith
END:VEVENT
BEGIN:VEVENT
DTSTART;TZID=America/New_York:20241210T083000
DTEND;TZID=America/New_York:20241210T113000
DTSTAMP:20260425T121119
CREATED:20241001T184421Z
LAST-MODIFIED:20241001T184421Z
UID:10015017-1733819400-1733830200@epworth.faith
SUMMARY:Preschool Christmas Program Rehearsal (Sanctuary)
DESCRIPTION:
URL:https://epworth.faith/event/preschool-christmas-program-rehearsal-sanctuary/2024-12-10/
LOCATION:Epworth United Methodist Church\, 19285 Holland Glade Road\, Rehoboth Beach\, DE\, 19971\, United States
CATEGORIES:Church,Preschool
ORGANIZER;CN="Betsy Plowman":MAILTO:bplowman@epworth.faith
END:VEVENT
BEGIN:VEVENT
DTSTART;TZID=America/New_York:20241209T083000
DTEND;TZID=America/New_York:20241209T113000
DTSTAMP:20260425T121119
CREATED:20241001T184421Z
LAST-MODIFIED:20241001T184421Z
UID:10015016-1733733000-1733743800@epworth.faith
SUMMARY:Preschool Christmas Program Rehearsal (Sanctuary)
DESCRIPTION:
URL:https://epworth.faith/event/preschool-christmas-program-rehearsal-sanctuary/2024-12-09/
LOCATION:Epworth United Methodist Church\, 19285 Holland Glade Road\, Rehoboth Beach\, DE\, 19971\, United States
CATEGORIES:Church,Preschool
ORGANIZER;CN="Betsy Plowman":MAILTO:bplowman@epworth.faith
END:VEVENT
BEGIN:VEVENT
DTSTART;TZID=America/New_York:20241126T080000
DTEND;TZID=America/New_York:20241126T120000
DTSTAMP:20260425T121119
CREATED:20241003T180658Z
LAST-MODIFIED:20241003T180658Z
UID:10015033-1732608000-1732622400@epworth.faith
SUMMARY:Preschool Thanksgiving Feast (Fellowship Hall)
DESCRIPTION:
URL:https://epworth.faith/event/preschool-thanksgiving-feast-fellowship-hall-2/
LOCATION:Epworth United Methodist Church\, 19285 Holland Glade Road\, Rehoboth Beach\, DE\, 19971\, United States
CATEGORIES:Church,Preschool
ORGANIZER;CN="Betsy Plowman":MAILTO:bplowman@epworth.faith
END:VEVENT
BEGIN:VEVENT
DTSTART;TZID=America/New_York:20241122T080000
DTEND;TZID=America/New_York:20241122T120000
DTSTAMP:20260425T121119
CREATED:20241003T180635Z
LAST-MODIFIED:20241003T180635Z
UID:10015032-1732262400-1732276800@epworth.faith
SUMMARY:Preschool Thanksgiving Feast (Fellowship Hall)
DESCRIPTION:
URL:https://epworth.faith/event/preschool-thanksgiving-feast-fellowship-hall/
LOCATION:Epworth United Methodist Church\, 19285 Holland Glade Road\, Rehoboth Beach\, DE\, 19971\, United States
CATEGORIES:Church,Preschool
ORGANIZER;CN="Betsy Plowman":MAILTO:bplowman@epworth.faith
END:VEVENT
BEGIN:VEVENT
DTSTART;TZID=America/New_York:20241016T080000
DTEND;TZID=America/New_York:20241016T120000
DTSTAMP:20260425T121119
CREATED:20241001T175746Z
LAST-MODIFIED:20241001T175957Z
UID:10014650-1729065600-1729080000@epworth.faith
SUMMARY:Preschool Photos (Sanctuary)
DESCRIPTION:
URL:https://epworth.faith/event/preschool-photos-sanctuary/2024-10-16/
LOCATION:Epworth United Methodist Church\, 19285 Holland Glade Road\, Rehoboth Beach\, DE\, 19971\, United States
CATEGORIES:Church,Preschool
ORGANIZER;CN="Betsy Plowman":MAILTO:bplowman@epworth.faith
END:VEVENT
BEGIN:VEVENT
DTSTART;TZID=America/New_York:20241015T080000
DTEND;TZID=America/New_York:20241015T170000
DTSTAMP:20260425T121119
CREATED:20241001T175746Z
LAST-MODIFIED:20241001T175957Z
UID:10014649-1728979200-1729011600@epworth.faith
SUMMARY:Preschool Photos (Sanctuary)
DESCRIPTION:
URL:https://epworth.faith/event/preschool-photos-sanctuary/2024-10-15/
LOCATION:Epworth United Methodist Church\, 19285 Holland Glade Road\, Rehoboth Beach\, DE\, 19971\, United States
CATEGORIES:Church,Preschool
ORGANIZER;CN="Betsy Plowman":MAILTO:bplowman@epworth.faith
END:VEVENT
BEGIN:VEVENT
DTSTART;TZID=America/New_York:20240522T080000
DTEND;TZID=America/New_York:20240522T120000
DTSTAMP:20260425T121119
CREATED:20240418T143404Z
LAST-MODIFIED:20240418T143554Z
UID:10013398-1716364800-1716379200@epworth.faith
SUMMARY:Spring Program - Preschool (Sanctuary & Fellowship Hall)
DESCRIPTION:
URL:https://epworth.faith/event/spring-program-preschool-sanctuary/
LOCATION:Epworth United Methodist Church\, 19285 Holland Glade Road\, Rehoboth Beach\, DE\, 19971\, United States
CATEGORIES:Church,Preschool
ORGANIZER;CN="Betsy Plowman":MAILTO:bplowman@epworth.faith
END:VEVENT
BEGIN:VEVENT
DTSTART;TZID=America/New_York:20240521T090000
DTEND;TZID=America/New_York:20240521T120000
DTSTAMP:20260425T121119
CREATED:20240418T130928Z
LAST-MODIFIED:20240418T130928Z
UID:10013397-1716282000-1716292800@epworth.faith
SUMMARY:Spring Program Practice - Preschool (Sanctuary)
DESCRIPTION:
URL:https://epworth.faith/event/spring-program-practice-preschool-sanctuary-2/2024-05-21/
LOCATION:Epworth United Methodist Church\, 19285 Holland Glade Road\, Rehoboth Beach\, DE\, 19971\, United States
CATEGORIES:Church,Preschool
ORGANIZER;CN="Betsy Plowman":MAILTO:bplowman@epworth.faith
END:VEVENT
BEGIN:VEVENT
DTSTART;TZID=America/New_York:20240520T090000
DTEND;TZID=America/New_York:20240520T120000
DTSTAMP:20260425T121119
CREATED:20240418T130928Z
LAST-MODIFIED:20240418T130928Z
UID:10013396-1716195600-1716206400@epworth.faith
SUMMARY:Spring Program Practice - Preschool (Sanctuary)
DESCRIPTION:
URL:https://epworth.faith/event/spring-program-practice-preschool-sanctuary-2/2024-05-20/
LOCATION:Epworth United Methodist Church\, 19285 Holland Glade Road\, Rehoboth Beach\, DE\, 19971\, United States
CATEGORIES:Church,Preschool
ORGANIZER;CN="Betsy Plowman":MAILTO:bplowman@epworth.faith
END:VEVENT
BEGIN:VEVENT
DTSTART;TZID=America/New_York:20240517T090000
DTEND;TZID=America/New_York:20240517T120000
DTSTAMP:20260425T121119
CREATED:20240418T130351Z
LAST-MODIFIED:20240418T130637Z
UID:10012662-1715936400-1715947200@epworth.faith
SUMMARY:Spring Program Practice - Preschool (Sanctuary)
DESCRIPTION:
URL:https://epworth.faith/event/spring-program-practice-preschool-sanctuary/2024-05-17/
LOCATION:Epworth United Methodist Church\, 19285 Holland Glade Road\, Rehoboth Beach\, DE\, 19971\, United States
CATEGORIES:Church,Preschool
ORGANIZER;CN="Betsy Plowman":MAILTO:bplowman@epworth.faith
END:VEVENT
BEGIN:VEVENT
DTSTART;TZID=America/New_York:20240516T090000
DTEND;TZID=America/New_York:20240516T120000
DTSTAMP:20260425T121119
CREATED:20240418T130351Z
LAST-MODIFIED:20240418T130637Z
UID:10012661-1715850000-1715860800@epworth.faith
SUMMARY:Spring Program Practice - Preschool (Sanctuary)
DESCRIPTION:
URL:https://epworth.faith/event/spring-program-practice-preschool-sanctuary/2024-05-16/
LOCATION:Epworth United Methodist Church\, 19285 Holland Glade Road\, Rehoboth Beach\, DE\, 19971\, United States
CATEGORIES:Church,Preschool
ORGANIZER;CN="Betsy Plowman":MAILTO:bplowman@epworth.faith
END:VEVENT
BEGIN:VEVENT
DTSTART;TZID=America/New_York:20240515T090000
DTEND;TZID=America/New_York:20240515T120000
DTSTAMP:20260425T121119
CREATED:20240418T130351Z
LAST-MODIFIED:20240418T130637Z
UID:10012660-1715763600-1715774400@epworth.faith
SUMMARY:Spring Program Practice - Preschool (Sanctuary)
DESCRIPTION:
URL:https://epworth.faith/event/spring-program-practice-preschool-sanctuary/2024-05-15/
LOCATION:Epworth United Methodist Church\, 19285 Holland Glade Road\, Rehoboth Beach\, DE\, 19971\, United States
CATEGORIES:Church,Preschool
ORGANIZER;CN="Betsy Plowman":MAILTO:bplowman@epworth.faith
END:VEVENT
BEGIN:VEVENT
DTSTART;TZID=America/New_York:20240514T090000
DTEND;TZID=America/New_York:20240514T120000
DTSTAMP:20260425T121119
CREATED:20240418T130351Z
LAST-MODIFIED:20240418T130637Z
UID:10012659-1715677200-1715688000@epworth.faith
SUMMARY:Spring Program Practice - Preschool (Sanctuary)
DESCRIPTION:
URL:https://epworth.faith/event/spring-program-practice-preschool-sanctuary/2024-05-14/
LOCATION:Epworth United Methodist Church\, 19285 Holland Glade Road\, Rehoboth Beach\, DE\, 19971\, United States
CATEGORIES:Church,Preschool
ORGANIZER;CN="Betsy Plowman":MAILTO:bplowman@epworth.faith
END:VEVENT
BEGIN:VEVENT
DTSTART;TZID=America/New_York:20240513T143000
DTEND;TZID=America/New_York:20240513T160000
DTSTAMP:20260425T121119
CREATED:20240326T193727Z
LAST-MODIFIED:20240326T193727Z
UID:10012634-1715610600-1715616000@epworth.faith
SUMMARY:Preschool Board Meeting (Admin Conference Room)
DESCRIPTION:
URL:https://epworth.faith/event/preschool-board-meeting-admin-conference-room/
LOCATION:Epworth United Methodist Church\, 19285 Holland Glade Road\, Rehoboth Beach\, DE\, 19971\, United States
CATEGORIES:Church,Preschool
END:VEVENT
BEGIN:VEVENT
DTSTART;TZID=America/New_York:20240513T090000
DTEND;TZID=America/New_York:20240513T120000
DTSTAMP:20260425T121119
CREATED:20240418T130351Z
LAST-MODIFIED:20240418T130637Z
UID:10012658-1715590800-1715601600@epworth.faith
SUMMARY:Spring Program Practice - Preschool (Sanctuary)
DESCRIPTION:
URL:https://epworth.faith/event/spring-program-practice-preschool-sanctuary/2024-05-13/
LOCATION:Epworth United Methodist Church\, 19285 Holland Glade Road\, Rehoboth Beach\, DE\, 19971\, United States
CATEGORIES:Church,Preschool
ORGANIZER;CN="Betsy Plowman":MAILTO:bplowman@epworth.faith
END:VEVENT
BEGIN:VEVENT
DTSTART;TZID=America/New_York:20240327T090000
DTEND;TZID=America/New_York:20240327T143000
DTSTAMP:20260425T121119
CREATED:20240327T122855Z
LAST-MODIFIED:20240327T122855Z
UID:10012636-1711530000-1711549800@epworth.faith
SUMMARY:Preschool Easter Egg Hunt (Sanctuary)
DESCRIPTION:
URL:https://epworth.faith/event/preschool-easter-egg-hunt-sanctuary/
LOCATION:Epworth United Methodist Church\, 19285 Holland Glade Road\, Rehoboth Beach\, DE\, 19971\, United States
CATEGORIES:Church,Preschool
ORGANIZER;CN="Betsy Plowman":MAILTO:bplowman@epworth.faith
END:VEVENT
BEGIN:VEVENT
DTSTART;TZID=America/New_York:20231219T090000
DTEND;TZID=America/New_York:20231219T120000
DTSTAMP:20260425T121119
CREATED:20231019T195015Z
LAST-MODIFIED:20231019T195015Z
UID:10010178-1702976400-1702987200@epworth.faith
SUMMARY:Preschool Christmas Program Practice (Sanctuary)
DESCRIPTION:
URL:https://epworth.faith/event/preschool-christmas-program-practice-sanctuary-2/
LOCATION:Epworth United Methodist Church\, 19285 Holland Glade Road\, Rehoboth Beach\, DE\, 19971\, United States
CATEGORIES:Preschool
ORGANIZER;CN="Betsy Plowman":MAILTO:bplowman@epworth.faith
END:VEVENT
BEGIN:VEVENT
DTSTART;TZID=America/New_York:20231218T090000
DTEND;TZID=America/New_York:20231218T113000
DTSTAMP:20260425T121119
CREATED:20231109T175956Z
LAST-MODIFIED:20231109T175956Z
UID:10011095-1702890000-1702899000@epworth.faith
SUMMARY:EUMC Preschool Christmas Program Practice (Sanctuary)
DESCRIPTION:
URL:https://epworth.faith/event/eumc-preschool-christmas-program-practice-sanctuary-2/
LOCATION:Epworth United Methodist Church\, 19285 Holland Glade Road\, Rehoboth Beach\, DE\, 19971\, United States
CATEGORIES:Church,Preschool
ORGANIZER;CN="Betsy Plowman":MAILTO:bplowman@epworth.faith
END:VEVENT
BEGIN:VEVENT
DTSTART;TZID=America/New_York:20231215T090000
DTEND;TZID=America/New_York:20231215T113000
DTSTAMP:20260425T121119
CREATED:20231109T175412Z
LAST-MODIFIED:20231109T175534Z
UID:10011094-1702630800-1702639800@epworth.faith
SUMMARY:EUMC Preschool Christmas Program Practice (Sanctuary)
DESCRIPTION:
URL:https://epworth.faith/event/eumc-preschool-christmas-program-practice-sanctuary/
LOCATION:Epworth United Methodist Church\, 19285 Holland Glade Road\, Rehoboth Beach\, DE\, 19971\, United States
CATEGORIES:Preschool
ORGANIZER;CN="Betsy Plowman":MAILTO:bplowman@epworth.faith
END:VEVENT
END:VCALENDAR