BEGIN:VCALENDAR
VERSION:2.0
PRODID:-//Epworth UMC - ECPv6.15.20//NONSGML v1.0//EN
CALSCALE:GREGORIAN
METHOD:PUBLISH
X-WR-CALNAME:Epworth UMC
X-ORIGINAL-URL:https://epworth.faith
X-WR-CALDESC:Events for Epworth UMC
REFRESH-INTERVAL;VALUE=DURATION:PT1H
X-Robots-Tag:noindex
X-PUBLISHED-TTL:PT1H
BEGIN:VTIMEZONE
TZID:America/New_York
BEGIN:DAYLIGHT
TZOFFSETFROM:-0500
TZOFFSETTO:-0400
TZNAME:EDT
DTSTART:20240310T070000
END:DAYLIGHT
BEGIN:STANDARD
TZOFFSETFROM:-0400
TZOFFSETTO:-0500
TZNAME:EST
DTSTART:20241103T060000
END:STANDARD
BEGIN:DAYLIGHT
TZOFFSETFROM:-0500
TZOFFSETTO:-0400
TZNAME:EDT
DTSTART:20250309T070000
END:DAYLIGHT
BEGIN:STANDARD
TZOFFSETFROM:-0400
TZOFFSETTO:-0500
TZNAME:EST
DTSTART:20251102T060000
END:STANDARD
BEGIN:DAYLIGHT
TZOFFSETFROM:-0500
TZOFFSETTO:-0400
TZNAME:EDT
DTSTART:20260308T070000
END:DAYLIGHT
BEGIN:STANDARD
TZOFFSETFROM:-0400
TZOFFSETTO:-0500
TZNAME:EST
DTSTART:20261101T060000
END:STANDARD
END:VTIMEZONE
BEGIN:VEVENT
DTSTART;TZID=America/New_York:20250221T093000
DTEND;TZID=America/New_York:20250221T113000
DTSTAMP:20260425T194334
CREATED:20250205T141626Z
LAST-MODIFIED:20250205T141626Z
UID:10015505-1740130200-1740137400@epworth.faith
SUMMARY:Pete the Cat Visit - Preschool (Fellowship Hall)
DESCRIPTION:
URL:https://epworth.faith/event/pete-the-cat-visit-preschool-fellowship-hall/
LOCATION:Epworth United Methodist Church\, 19285 Holland Glade Road\, Rehoboth Beach\, DE\, 19971\, United States
CATEGORIES:Church,Preschool
ORGANIZER;CN="Betsy Plowman":MAILTO:bplowman@epworth.faith
END:VEVENT
BEGIN:VEVENT
DTSTART;TZID=America/New_York:20250222T090000
DTEND;TZID=America/New_York:20250222T100000
DTSTAMP:20260425T194334
CREATED:20240905T122704Z
LAST-MODIFIED:20251023T150523Z
UID:10014480-1740214800-1740218400@epworth.faith
SUMMARY:ACA Meeting (Baker Room)
DESCRIPTION:
URL:https://epworth.faith/event/aca-meeting-baker-room/2025-02-22/
LOCATION:Epworth United Methodist Church\, 19285 Holland Glade Road\, Rehoboth Beach\, DE\, 19971\, United States
CATEGORIES:Church,Groups
END:VEVENT
BEGIN:VEVENT
DTSTART;TZID=America/New_York:20250222T160000
DTEND;TZID=America/New_York:20250222T170000
DTSTAMP:20260425T194334
CREATED:20240604T141518Z
LAST-MODIFIED:20250213T221718Z
UID:10013550-1740240000-1740243600@epworth.faith
SUMMARY:Southern Delaware Chorale Black History Concert (Sanctuary and Music Room)
DESCRIPTION:Southern Delaware Chorale – A Choral Tapestry: Celebrating Black History Concert Saturday February 22 at 4 PM (tickets\, $26.95) \nBuilding and Tech: 1:30-5:30 pm
URL:https://epworth.faith/event/southern-delaware-chorale-black-history-concert-sanctuary-and-music-room/
LOCATION:Epworth United Methodist Church\, 19285 Holland Glade Road\, Rehoboth Beach\, DE\, 19971\, United States
CATEGORIES:Church,Concerts,Facility Rentals
ORGANIZER;CN="Denise Adkins":MAILTO:deniseadkins1959@gmail.com
END:VEVENT
BEGIN:VEVENT
DTSTART;TZID=America/New_York:20250222T180000
DTEND;TZID=America/New_York:20250222T190000
DTSTAMP:20260425T194334
CREATED:20240905T122918Z
LAST-MODIFIED:20251023T150738Z
UID:10014532-1740247200-1740250800@epworth.faith
SUMMARY:Alanon Meeting (Baker Room)
DESCRIPTION:
URL:https://epworth.faith/event/alanon-meeting-baker-room-2/2025-02-22/
LOCATION:Epworth United Methodist Church\, 19285 Holland Glade Road\, Rehoboth Beach\, DE\, 19971\, United States
CATEGORIES:Church,Groups
END:VEVENT
BEGIN:VEVENT
DTSTART;TZID=America/New_York:20250222T180000
DTEND;TZID=America/New_York:20250222T190000
DTSTAMP:20260425T194334
CREATED:20240905T123154Z
LAST-MODIFIED:20251023T152520Z
UID:10014584-1740247200-1740250800@epworth.faith
SUMMARY:AA Meeting (Branford Room)
DESCRIPTION:
URL:https://epworth.faith/event/aa-meeting-branford-room/2025-02-22/
LOCATION:Epworth United Methodist Church\, 19285 Holland Glade Road\, Rehoboth Beach\, DE\, 19971\, United States
CATEGORIES:Church,Groups
END:VEVENT
BEGIN:VEVENT
DTSTART;TZID=America/New_York:20250223T100000
DTEND;TZID=America/New_York:20250223T110000
DTSTAMP:20260425T194334
CREATED:20230909T152658Z
LAST-MODIFIED:20230909T161232Z
UID:10009086-1740304800-1740308400@epworth.faith
SUMMARY:Blended ASL Worship Service (Sanctuary & Online)
DESCRIPTION:YouTube Livestream\nYouTube ASL Livestream\nFacebook Livestream
URL:https://epworth.faith/event/blended-worship-service-sanctuary-on-line-2/2025-02-23/
LOCATION:Epworth United Methodist Church\, 19285 Holland Glade Road\, Rehoboth Beach\, DE\, 19971\, United States
CATEGORIES:Worship
ORGANIZER;CN="Vicki Gordy-Stith":MAILTO:vgordy-stith@epworth.faith
END:VEVENT
BEGIN:VEVENT
DTSTART;TZID=America/New_York:20250223T110000
DTEND;TZID=America/New_York:20250223T120000
DTSTAMP:20260425T194334
CREATED:20250213T170858Z
LAST-MODIFIED:20250305T204317Z
UID:10015510-1740308400-1740312000@epworth.faith
SUMMARY:Coffee Conversation - After Service (Fellowship Hall)
DESCRIPTION:
URL:https://epworth.faith/event/coffee-conversation-after-service-fellowship-hall/2025-02-23/
LOCATION:Epworth United Methodist Church\, 19285 Holland Glade Road\, Rehoboth Beach\, DE\, 19971\, United States
CATEGORIES:Church,Worship
ORGANIZER;CN="Vicki Gordy-Stith":MAILTO:vgordy-stith@epworth.faith
END:VEVENT
BEGIN:VEVENT
DTSTART;TZID=America/New_York:20250223T111500
DTEND;TZID=America/New_York:20250223T114500
DTSTAMP:20260425T194334
CREATED:20241120T193843Z
LAST-MODIFIED:20241120T193843Z
UID:10015193-1740309300-1740311100@epworth.faith
SUMMARY:Stephen Ministry Prayer Chapel (Baker Room)
DESCRIPTION:
URL:https://epworth.faith/event/stephen-ministry-prayer-chapel-baker-room/2025-02-23/
LOCATION:Epworth United Methodist Church\, 19285 Holland Glade Road\, Rehoboth Beach\, DE\, 19971\, United States
CATEGORIES:Church,Groups
END:VEVENT
BEGIN:VEVENT
DTSTART;TZID=America/New_York:20250223T113000
DTEND;TZID=America/New_York:20250223T123000
DTSTAMP:20260425T194334
CREATED:20240826T184533Z
LAST-MODIFIED:20240826T184533Z
UID:10014051-1740310200-1740313800@epworth.faith
SUMMARY:Meet Me @ Epworth Group Bible Study (Branford Lounge)
DESCRIPTION:
URL:https://epworth.faith/event/meet-me-epworth-group-bible-study-branford-lounge/2025-02-23/
LOCATION:Epworth United Methodist Church\, 19285 Holland Glade Road\, Rehoboth Beach\, DE\, 19971\, United States
CATEGORIES:Church,Groups
ORGANIZER;CN="Mickie McManamon":MAILTO:mmcmanamon@epworth.faith
END:VEVENT
BEGIN:VEVENT
DTSTART;TZID=America/New_York:20250224T170000
DTEND;TZID=America/New_York:20250224T180000
DTSTAMP:20260425T194334
CREATED:20240905T122003Z
LAST-MODIFIED:20251023T143906Z
UID:10014272-1740416400-1740420000@epworth.faith
SUMMARY:Alanon Newcomers (Baker Room)
DESCRIPTION:
URL:https://epworth.faith/event/alanon-newcomers-baker-room/2025-02-24/
LOCATION:Epworth United Methodist Church\, 19285 Holland Glade Road\, Rehoboth Beach\, DE\, 19971\, United States
CATEGORIES:Church,Groups
END:VEVENT
BEGIN:VEVENT
DTSTART;TZID=America/New_York:20250224T180000
DTEND;TZID=America/New_York:20250224T190000
DTSTAMP:20260425T194334
CREATED:20240905T122138Z
LAST-MODIFIED:20251023T144119Z
UID:10014324-1740420000-1740423600@epworth.faith
SUMMARY:Alanon Meeting (Branford Room)
DESCRIPTION:
URL:https://epworth.faith/event/alanon-meeting-branford-room-2/2025-02-24/
LOCATION:Epworth United Methodist Church\, 19285 Holland Glade Road\, Rehoboth Beach\, DE\, 19971\, United States
CATEGORIES:Church,Groups
END:VEVENT
BEGIN:VEVENT
DTSTART;TZID=America/New_York:20250224T183000
DTEND;TZID=America/New_York:20250224T200000
DTSTAMP:20260425T194334
CREATED:20241218T141355Z
LAST-MODIFIED:20250310T151651Z
UID:10015269-1740421800-1740427200@epworth.faith
SUMMARY:Small Study Group - Searching for Jesus (Starnes Room)
DESCRIPTION:
URL:https://epworth.faith/event/small-study-group-searching-for-jesus-starnes-room/2025-02-24/
LOCATION:Epworth United Methodist Church\, 19285 Holland Glade Road\, Rehoboth Beach\, DE\, 19971\, United States
CATEGORIES:Church,Groups
ORGANIZER;CN="David Garrett":MAILTO:dlgarrett4rb@gmail.com
END:VEVENT
BEGIN:VEVENT
DTSTART;TZID=America/New_York:20250225T120000
DTEND;TZID=America/New_York:20250225T140000
DTSTAMP:20260425T194334
CREATED:20231101T154604Z
LAST-MODIFIED:20231101T154604Z
UID:10010520-1740484800-1740492000@epworth.faith
SUMMARY:Staff Meeting (Conference Room)
DESCRIPTION:
URL:https://epworth.faith/event/staff-meeting-conference-room/2025-02-25/
LOCATION:Epworth United Methodist Church\, 19285 Holland Glade Road\, Rehoboth Beach\, DE\, 19971\, United States
CATEGORIES:Church,Staff
ORGANIZER;CN="Vicki Gordy-Stith":MAILTO:vgordy-stith@epworth.faith
END:VEVENT
BEGIN:VEVENT
DTSTART;TZID=America/New_York:20250225T180000
DTEND;TZID=America/New_York:20250225T190000
DTSTAMP:20260425T194334
CREATED:20240905T121346Z
LAST-MODIFIED:20251023T144445Z
UID:10014116-1740506400-1740510000@epworth.faith
SUMMARY:Alanon Meeting (Branford Room)
DESCRIPTION:
URL:https://epworth.faith/event/alanon-meeting-branford-room/2025-02-25/
LOCATION:Epworth United Methodist Church\, 19285 Holland Glade Road\, Rehoboth Beach\, DE\, 19971\, United States
CATEGORIES:Church,Groups
END:VEVENT
BEGIN:VEVENT
DTSTART;TZID=America/New_York:20250225T190000
DTEND;TZID=America/New_York:20250225T200000
DTSTAMP:20260425T194334
CREATED:20240905T121615Z
LAST-MODIFIED:20251023T144756Z
UID:10014168-1740510000-1740513600@epworth.faith
SUMMARY:Alanon Meeting (Baker Room)
DESCRIPTION:
URL:https://epworth.faith/event/alanon-meeting-baker-room/2025-02-25/
LOCATION:Epworth United Methodist Church\, 19285 Holland Glade Road\, Rehoboth Beach\, DE\, 19971\, United States
CATEGORIES:Church,Groups
END:VEVENT
BEGIN:VEVENT
DTSTART;TZID=America/New_York:20250225T190000
DTEND;TZID=America/New_York:20250225T200000
DTSTAMP:20260425T194334
CREATED:20240905T121808Z
LAST-MODIFIED:20251023T145128Z
UID:10014220-1740510000-1740513600@epworth.faith
SUMMARY:AA Meeting (Music Room)
DESCRIPTION:
URL:https://epworth.faith/event/aa-meeting-music-room/2025-02-25/
LOCATION:Epworth United Methodist Church\, 19285 Holland Glade Road\, Rehoboth Beach\, DE\, 19971\, United States
CATEGORIES:Church,Groups
END:VEVENT
BEGIN:VEVENT
DTSTART;TZID=America/New_York:20250226T100000
DTEND;TZID=America/New_York:20250226T120000
DTSTAMP:20260425T194334
CREATED:20240509T205948Z
LAST-MODIFIED:20240509T205948Z
UID:10013440-1740564000-1740571200@epworth.faith
SUMMARY:Sisters in Christ Bible Study (Starnes Room)
DESCRIPTION:
URL:https://epworth.faith/event/sisters-in-christ-bible-study-starnes-room/2025-02-26/
LOCATION:Epworth United Methodist Church\, 19285 Holland Glade Road\, Rehoboth Beach\, DE\, 19971\, United States
CATEGORIES:Church,Groups
ORGANIZER;CN="Susan Jimenez":MAILTO:saj19971@gmail.com
END:VEVENT
BEGIN:VEVENT
DTSTART;TZID=America/New_York:20250226T130000
DTEND;TZID=America/New_York:20250226T150000
DTSTAMP:20260425T194334
CREATED:20240228T155615Z
LAST-MODIFIED:20240228T155615Z
UID:10012346-1740574800-1740582000@epworth.faith
SUMMARY:Card Making Group (Branford Lounge)
DESCRIPTION:
URL:https://epworth.faith/event/card-making-group-branford-lounge-23/
LOCATION:Epworth United Methodist Church\, 19285 Holland Glade Road\, Rehoboth Beach\, DE\, 19971\, United States
CATEGORIES:Church,Groups
ORGANIZER;CN="Mickie McManamon":MAILTO:mmcmanamon@epworth.faith
END:VEVENT
BEGIN:VEVENT
DTSTART;TZID=America/New_York:20250226T173000
DTEND;TZID=America/New_York:20250226T183000
DTSTAMP:20260425T194334
CREATED:20250116T215058Z
LAST-MODIFIED:20250911T132405Z
UID:10017339-1740591000-1740594600@epworth.faith
SUMMARY:Chancel Choir Practice (Music Room)
DESCRIPTION:
URL:https://epworth.faith/event/chancel-choir-practice-music-room-2/2025-02-26/
LOCATION:Epworth United Methodist Church\, 19285 Holland Glade Road\, Rehoboth Beach\, DE\, 19971\, United States
CATEGORIES:Church,Groups
ORGANIZER;CN="Doug Yetter":MAILTO:dyetter@epworth.faith
END:VEVENT
BEGIN:VEVENT
DTSTART;TZID=America/New_York:20250226T173000
DTEND;TZID=America/New_York:20250226T183000
DTSTAMP:20260425T194334
CREATED:20250116T215324Z
LAST-MODIFIED:20250528T122635Z
UID:10016582-1740591000-1740594600@epworth.faith
SUMMARY:Memorial Bells Practice (Music Room)
DESCRIPTION:
URL:https://epworth.faith/event/memorial-bells-practice-music-room/2025-02-26/
LOCATION:Epworth United Methodist Church\, 19285 Holland Glade Road\, Rehoboth Beach\, DE\, 19971\, United States
CATEGORIES:Church,Music
ORGANIZER;CN="Doug Yetter":MAILTO:dyetter@epworth.faith
END:VEVENT
BEGIN:VEVENT
DTSTART;TZID=America/New_York:20250227T100000
DTEND;TZID=America/New_York:20250227T113000
DTSTAMP:20260425T194334
CREATED:20250115T175521Z
LAST-MODIFIED:20250115T175521Z
UID:10015369-1740650400-1740655800@epworth.faith
SUMMARY:Parkinson's Voice Project Choir Project (Music Room)
DESCRIPTION:
URL:https://epworth.faith/event/parkinsons-voice-project-choir-project-music-room/2025-02-27/
LOCATION:Epworth United Methodist Church\, 19285 Holland Glade Road\, Rehoboth Beach\, DE\, 19971\, United States
CATEGORIES:Church,Groups
ORGANIZER;CN="Doug Yetter":MAILTO:dyetter@epworth.faith
END:VEVENT
BEGIN:VEVENT
DTSTART;TZID=America/New_York:20250227T100000
DTEND;TZID=America/New_York:20250227T120000
DTSTAMP:20260425T194334
CREATED:20250227T145735Z
LAST-MODIFIED:20250227T145735Z
UID:10015550-1740650400-1740657600@epworth.faith
SUMMARY:CCM Meeting (Office Conference Room)
DESCRIPTION:
URL:https://epworth.faith/event/ccm-meeting-office-conference-room/
LOCATION:Epworth United Methodist Church\, 19285 Holland Glade Road\, Rehoboth Beach\, DE\, 19971\, United States
CATEGORIES:Church,Groups
ORGANIZER;CN="Mickie McManamon":MAILTO:mmcmanamon@epworth.faith
END:VEVENT
BEGIN:VEVENT
DTSTART;TZID=America/New_York:20250227T110000
DTEND;TZID=America/New_York:20250227T123000
DTSTAMP:20260425T194334
CREATED:20250109T163950Z
LAST-MODIFIED:20250109T164313Z
UID:10015351-1740654000-1740659400@epworth.faith
SUMMARY:Grief Support Group (Baker Room)
DESCRIPTION:
URL:https://epworth.faith/event/grief-support-group-baker-room/2025-02-27/
LOCATION:Epworth United Methodist Church\, 19285 Holland Glade Road\, Rehoboth Beach\, DE\, 19971\, United States
CATEGORIES:Church,Groups
ORGANIZER;CN="Vicki Gordy-Stith":MAILTO:vgordy-stith@epworth.faith
END:VEVENT
BEGIN:VEVENT
DTSTART;TZID=America/New_York:20250227T120000
DTEND;TZID=America/New_York:20250227T130000
DTSTAMP:20260425T194334
CREATED:20240905T122329Z
LAST-MODIFIED:20251023T150055Z
UID:10014377-1740657600-1740661200@epworth.faith
SUMMARY:Alanon Meeting (Branford Room)
DESCRIPTION:
URL:https://epworth.faith/event/alanon-meeting-branford-room-3/2025-02-27/
LOCATION:Epworth United Methodist Church\, 19285 Holland Glade Road\, Rehoboth Beach\, DE\, 19971\, United States
CATEGORIES:Church,Groups
END:VEVENT
BEGIN:VEVENT
DTSTART;TZID=America/New_York:20250227T180000
DTEND;TZID=America/New_York:20250227T200000
DTSTAMP:20260425T194334
CREATED:20250102T154449Z
LAST-MODIFIED:20250303T203012Z
UID:10015526-1740679200-1740686400@epworth.faith
SUMMARY:Disciple Class (Starnes Room)
DESCRIPTION:
URL:https://epworth.faith/event/disciple-class-starnes-room/2025-02-27/
LOCATION:Epworth United Methodist Church\, 19285 Holland Glade Road\, Rehoboth Beach\, DE\, 19971\, United States
CATEGORIES:Church,Groups
ORGANIZER;CN="Val Linder":MAILTO:rovalinder@comcast.net
END:VEVENT
BEGIN:VEVENT
DTSTART;TZID=America/New_York:20250227T193000
DTEND;TZID=America/New_York:20250227T203000
DTSTAMP:20260425T194334
CREATED:20240905T122521Z
LAST-MODIFIED:20251023T150301Z
UID:10014429-1740684600-1740688200@epworth.faith
SUMMARY:AA Meeting (Baker Room)
DESCRIPTION:
URL:https://epworth.faith/event/aa-meeting-baker-room/2025-02-27/
LOCATION:Epworth United Methodist Church\, 19285 Holland Glade Road\, Rehoboth Beach\, DE\, 19971\, United States
CATEGORIES:Church,Groups
END:VEVENT
BEGIN:VEVENT
DTSTART;TZID=America/New_York:20250228T090000
DTEND;TZID=America/New_York:20250228T130000
DTSTAMP:20260425T194334
CREATED:20250225T171840Z
LAST-MODIFIED:20250225T171840Z
UID:10015546-1740733200-1740747600@epworth.faith
SUMMARY:Soup Prep (Kitchen)
DESCRIPTION:
URL:https://epworth.faith/event/soup-prep-kitchen-34/
LOCATION:Epworth United Methodist Church\, 19285 Holland Glade Road\, Rehoboth Beach\, DE\, 19971\, United States
CATEGORIES:Church,Groups
END:VEVENT
BEGIN:VEVENT
DTSTART;TZID=America/New_York:20250228T100000
DTEND;TZID=America/New_York:20250228T120000
DTSTAMP:20260425T194334
CREATED:20250205T141804Z
LAST-MODIFIED:20250205T141804Z
UID:10015506-1740736800-1740744000@epworth.faith
SUMMARY:Abbott's Mill Nature Center Visit - Preschool (Fellowship Hall)
DESCRIPTION:
URL:https://epworth.faith/event/abbotts-mill-nature-center-visit-preschool-fellowship-hall/
LOCATION:Epworth United Methodist Church\, 19285 Holland Glade Road\, Rehoboth Beach\, DE\, 19971\, United States
CATEGORIES:Church,Preschool
ORGANIZER;CN="Betsy Plowman":MAILTO:bplowman@epworth.faith
END:VEVENT
BEGIN:VEVENT
DTSTART;TZID=America/New_York:20250228T190000
DTEND;TZID=America/New_York:20250228T203000
DTSTAMP:20260425T194334
CREATED:20240307T214311Z
LAST-MODIFIED:20250213T222032Z
UID:10012368-1740769200-1740774600@epworth.faith
SUMMARY:Southern DE Alliance for Racial Justice Concert (Sanctuary\, Choir Room\, Baker Room)
DESCRIPTION:Southern Delaware Alliance for Racial Justice sponsors From Dreams to Action: Celebrating MLK’s Legacy for Change Friday February 28 at 7 pm (tickets\, $25) \nBuilding and Tech: 5-10 pm\nBaker Room 6:00-6:30pm
URL:https://epworth.faith/event/southern-de-alliance-for-racial-justice-concert-sanctuary-and-choir-room/
LOCATION:Epworth United Methodist Church\, 19285 Holland Glade Road\, Rehoboth Beach\, DE\, 19971\, United States
CATEGORIES:Concerts,Facility Rentals
ORGANIZER;CN="Joseph Lawson":MAILTO:josephplawson@gmail.com
END:VEVENT
BEGIN:VEVENT
DTSTART;TZID=America/New_York:20250301T090000
DTEND;TZID=America/New_York:20250301T100000
DTSTAMP:20260425T194334
CREATED:20240905T122704Z
LAST-MODIFIED:20251023T150523Z
UID:10014481-1740819600-1740823200@epworth.faith
SUMMARY:ACA Meeting (Baker Room)
DESCRIPTION:
URL:https://epworth.faith/event/aca-meeting-baker-room/2025-03-01/
LOCATION:Epworth United Methodist Church\, 19285 Holland Glade Road\, Rehoboth Beach\, DE\, 19971\, United States
CATEGORIES:Church,Groups
END:VEVENT
END:VCALENDAR