BEGIN:VCALENDAR
VERSION:2.0
PRODID:-//Epworth UMC - ECPv6.15.20//NONSGML v1.0//EN
CALSCALE:GREGORIAN
METHOD:PUBLISH
X-ORIGINAL-URL:https://epworth.faith
X-WR-CALDESC:Events for Epworth UMC
REFRESH-INTERVAL;VALUE=DURATION:PT1H
X-Robots-Tag:noindex
X-PUBLISHED-TTL:PT1H
BEGIN:VTIMEZONE
TZID:America/New_York
BEGIN:DAYLIGHT
TZOFFSETFROM:-0500
TZOFFSETTO:-0400
TZNAME:EDT
DTSTART:20240310T070000
END:DAYLIGHT
BEGIN:STANDARD
TZOFFSETFROM:-0400
TZOFFSETTO:-0500
TZNAME:EST
DTSTART:20241103T060000
END:STANDARD
BEGIN:DAYLIGHT
TZOFFSETFROM:-0500
TZOFFSETTO:-0400
TZNAME:EDT
DTSTART:20250309T070000
END:DAYLIGHT
BEGIN:STANDARD
TZOFFSETFROM:-0400
TZOFFSETTO:-0500
TZNAME:EST
DTSTART:20251102T060000
END:STANDARD
BEGIN:DAYLIGHT
TZOFFSETFROM:-0500
TZOFFSETTO:-0400
TZNAME:EDT
DTSTART:20260308T070000
END:DAYLIGHT
BEGIN:STANDARD
TZOFFSETFROM:-0400
TZOFFSETTO:-0500
TZNAME:EST
DTSTART:20261101T060000
END:STANDARD
END:VTIMEZONE
BEGIN:VEVENT
DTSTART;TZID=America/New_York:20250318T110000
DTEND;TZID=America/New_York:20250318T130000
DTSTAMP:20260426T000329
CREATED:20250225T133042Z
LAST-MODIFIED:20250225T133042Z
UID:10015543-1742295600-1742302800@epworth.faith
SUMMARY:365 Christmas Joy - Flowers (Fellowship Hall)
DESCRIPTION:
URL:https://epworth.faith/event/365-christmas-joy-flowers-fellowship-hall/
LOCATION:Epworth United Methodist Church\, 19285 Holland Glade Road\, Rehoboth Beach\, DE\, 19971\, United States
CATEGORIES:Church,Groups
ORGANIZER;CN="Sue Brenton":MAILTO:myshadow143@verizon.net
END:VEVENT
BEGIN:VEVENT
DTSTART;TZID=America/New_York:20250318T120000
DTEND;TZID=America/New_York:20250318T140000
DTSTAMP:20260426T000329
CREATED:20231101T154604Z
LAST-MODIFIED:20231101T154604Z
UID:10010523-1742299200-1742306400@epworth.faith
SUMMARY:Staff Meeting (Conference Room)
DESCRIPTION:
URL:https://epworth.faith/event/staff-meeting-conference-room/2025-03-18/
LOCATION:Epworth United Methodist Church\, 19285 Holland Glade Road\, Rehoboth Beach\, DE\, 19971\, United States
CATEGORIES:Church,Staff
ORGANIZER;CN="Vicki Gordy-Stith":MAILTO:vgordy-stith@epworth.faith
END:VEVENT
BEGIN:VEVENT
DTSTART;TZID=America/New_York:20250318T180000
DTEND;TZID=America/New_York:20250318T190000
DTSTAMP:20260426T000329
CREATED:20240905T121346Z
LAST-MODIFIED:20251023T144445Z
UID:10014119-1742320800-1742324400@epworth.faith
SUMMARY:Alanon Meeting (Branford Room)
DESCRIPTION:
URL:https://epworth.faith/event/alanon-meeting-branford-room/2025-03-18/
LOCATION:Epworth United Methodist Church\, 19285 Holland Glade Road\, Rehoboth Beach\, DE\, 19971\, United States
CATEGORIES:Church,Groups
END:VEVENT
BEGIN:VEVENT
DTSTART;TZID=America/New_York:20250318T183000
DTEND;TZID=America/New_York:20250318T213000
DTSTAMP:20260426T000329
CREATED:20240529T212715Z
LAST-MODIFIED:20250317T133252Z
UID:10013538-1742322600-1742333400@epworth.faith
SUMMARY:Face to Face Emmaus Team Training (Fellowship Hall)
DESCRIPTION:
URL:https://epworth.faith/event/face-to-face-emmaus-team-training-fellowship-hall/2025-03-18/
LOCATION:Epworth United Methodist Church\, 19285 Holland Glade Road\, Rehoboth Beach\, DE\, 19971\, United States
CATEGORIES:Church,Groups
ORGANIZER;CN="Mickie McManamon":MAILTO:mmcmanamon@epworth.faith
END:VEVENT
BEGIN:VEVENT
DTSTART;TZID=America/New_York:20250318T190000
DTEND;TZID=America/New_York:20250318T200000
DTSTAMP:20260426T000329
CREATED:20240905T121615Z
LAST-MODIFIED:20251023T144756Z
UID:10014171-1742324400-1742328000@epworth.faith
SUMMARY:Alanon Meeting (Baker Room)
DESCRIPTION:
URL:https://epworth.faith/event/alanon-meeting-baker-room/2025-03-18/
LOCATION:Epworth United Methodist Church\, 19285 Holland Glade Road\, Rehoboth Beach\, DE\, 19971\, United States
CATEGORIES:Church,Groups
END:VEVENT
BEGIN:VEVENT
DTSTART;TZID=America/New_York:20250318T190000
DTEND;TZID=America/New_York:20250318T200000
DTSTAMP:20260426T000329
CREATED:20240905T121808Z
LAST-MODIFIED:20251023T145128Z
UID:10014223-1742324400-1742328000@epworth.faith
SUMMARY:AA Meeting (Music Room)
DESCRIPTION:
URL:https://epworth.faith/event/aa-meeting-music-room/2025-03-18/
LOCATION:Epworth United Methodist Church\, 19285 Holland Glade Road\, Rehoboth Beach\, DE\, 19971\, United States
CATEGORIES:Church,Groups
END:VEVENT
BEGIN:VEVENT
DTSTART;TZID=America/New_York:20250319T100000
DTEND;TZID=America/New_York:20250319T120000
DTSTAMP:20260426T000329
CREATED:20240509T205948Z
LAST-MODIFIED:20240509T205948Z
UID:10013443-1742378400-1742385600@epworth.faith
SUMMARY:Sisters in Christ Bible Study (Starnes Room)
DESCRIPTION:
URL:https://epworth.faith/event/sisters-in-christ-bible-study-starnes-room/2025-03-19/
LOCATION:Epworth United Methodist Church\, 19285 Holland Glade Road\, Rehoboth Beach\, DE\, 19971\, United States
CATEGORIES:Church,Groups
ORGANIZER;CN="Susan Jimenez":MAILTO:saj19971@gmail.com
END:VEVENT
BEGIN:VEVENT
DTSTART;TZID=America/New_York:20250319T120000
DTEND;TZID=America/New_York:20250319T133000
DTSTAMP:20260426T000329
CREATED:20250224T214403Z
LAST-MODIFIED:20250224T214403Z
UID:10015539-1742385600-1742391000@epworth.faith
SUMMARY:Plant Sale Meeting (Office Conference Room)
DESCRIPTION:
URL:https://epworth.faith/event/plant-sale-meeting-office-conference-room-2/
LOCATION:Epworth United Methodist Church\, 19285 Holland Glade Road\, Rehoboth Beach\, DE\, 19971\, United States
CATEGORIES:Church,Groups
ORGANIZER;CN="Sue Brenton":MAILTO:myshadow143@verizon.net
END:VEVENT
BEGIN:VEVENT
DTSTART;TZID=America/New_York:20250319T160000
DTEND;TZID=America/New_York:20250319T170000
DTSTAMP:20260426T000329
CREATED:20250312T200721Z
LAST-MODIFIED:20250312T200721Z
UID:10015895-1742400000-1742403600@epworth.faith
SUMMARY:Book Club (Starnes Room)
DESCRIPTION:
URL:https://epworth.faith/event/book-club-starnes-room/2025-03-19/
LOCATION:Epworth United Methodist Church\, 19285 Holland Glade Road\, Rehoboth Beach\, DE\, 19971\, United States
CATEGORIES:Church,Groups
END:VEVENT
BEGIN:VEVENT
DTSTART;TZID=America/New_York:20250319T173000
DTEND;TZID=America/New_York:20250319T183000
DTSTAMP:20260426T000329
CREATED:20250116T215058Z
LAST-MODIFIED:20250911T132405Z
UID:10017342-1742405400-1742409000@epworth.faith
SUMMARY:Chancel Choir Practice (Music Room)
DESCRIPTION:
URL:https://epworth.faith/event/chancel-choir-practice-music-room-2/2025-03-19/
LOCATION:Epworth United Methodist Church\, 19285 Holland Glade Road\, Rehoboth Beach\, DE\, 19971\, United States
CATEGORIES:Church,Groups
ORGANIZER;CN="Doug Yetter":MAILTO:dyetter@epworth.faith
END:VEVENT
BEGIN:VEVENT
DTSTART;TZID=America/New_York:20250319T173000
DTEND;TZID=America/New_York:20250319T183000
DTSTAMP:20260426T000329
CREATED:20250116T215324Z
LAST-MODIFIED:20250528T122635Z
UID:10016585-1742405400-1742409000@epworth.faith
SUMMARY:Memorial Bells Practice (Music Room)
DESCRIPTION:
URL:https://epworth.faith/event/memorial-bells-practice-music-room/2025-03-19/
LOCATION:Epworth United Methodist Church\, 19285 Holland Glade Road\, Rehoboth Beach\, DE\, 19971\, United States
CATEGORIES:Church,Music
ORGANIZER;CN="Doug Yetter":MAILTO:dyetter@epworth.faith
END:VEVENT
BEGIN:VEVENT
DTSTART;TZID=America/New_York:20250319T183000
DTEND;TZID=America/New_York:20250319T210000
DTSTAMP:20260426T000329
CREATED:20240321T141329Z
LAST-MODIFIED:20240321T141511Z
UID:10012583-1742409000-1742418000@epworth.faith
SUMMARY:ManKind Project (MKP) (Baker Lounge)
DESCRIPTION:
URL:https://epworth.faith/event/mankind-project-mkp-baker-lounge-4/2025-03-19/
LOCATION:Epworth United Methodist Church\, 19285 Holland Glade Road\, Rehoboth Beach\, DE\, 19971\, United States
CATEGORIES:Church,Groups
ORGANIZER;CN="Rick Buske":MAILTO:rick.buske@gmail.com
END:VEVENT
BEGIN:VEVENT
DTSTART;TZID=America/New_York:20250320T100000
DTEND;TZID=America/New_York:20250320T113000
DTSTAMP:20260426T000329
CREATED:20250115T175521Z
LAST-MODIFIED:20250115T175521Z
UID:10015372-1742464800-1742470200@epworth.faith
SUMMARY:Parkinson's Voice Project Choir Project (Music Room)
DESCRIPTION:
URL:https://epworth.faith/event/parkinsons-voice-project-choir-project-music-room/2025-03-20/
LOCATION:Epworth United Methodist Church\, 19285 Holland Glade Road\, Rehoboth Beach\, DE\, 19971\, United States
CATEGORIES:Church,Groups
ORGANIZER;CN="Doug Yetter":MAILTO:dyetter@epworth.faith
END:VEVENT
BEGIN:VEVENT
DTSTART;TZID=America/New_York:20250320T110000
DTEND;TZID=America/New_York:20250320T120000
DTSTAMP:20260426T000329
CREATED:20250312T195827Z
LAST-MODIFIED:20250312T195919Z
UID:10015836-1742468400-1742472000@epworth.faith
SUMMARY:Grief Support Group (Baker Room)
DESCRIPTION:
URL:https://epworth.faith/event/grief-support-group-baker-room-2/2025-03-20/
LOCATION:Epworth United Methodist Church\, 19285 Holland Glade Road\, Rehoboth Beach\, DE\, 19971\, United States
CATEGORIES:Church,Groups
ORGANIZER;CN="Vicki Gordy-Stith":MAILTO:vgordy-stith@epworth.faith
END:VEVENT
BEGIN:VEVENT
DTSTART;TZID=America/New_York:20250320T120000
DTEND;TZID=America/New_York:20250320T130000
DTSTAMP:20260426T000329
CREATED:20240905T122329Z
LAST-MODIFIED:20251023T150055Z
UID:10014380-1742472000-1742475600@epworth.faith
SUMMARY:Alanon Meeting (Branford Room)
DESCRIPTION:
URL:https://epworth.faith/event/alanon-meeting-branford-room-3/2025-03-20/
LOCATION:Epworth United Methodist Church\, 19285 Holland Glade Road\, Rehoboth Beach\, DE\, 19971\, United States
CATEGORIES:Church,Groups
END:VEVENT
BEGIN:VEVENT
DTSTART;TZID=America/New_York:20250320T183000
DTEND;TZID=America/New_York:20250320T200000
DTSTAMP:20260426T000329
CREATED:20250116T214257Z
LAST-MODIFIED:20250220T191246Z
UID:10015392-1742495400-1742500800@epworth.faith
SUMMARY:Eleventh Commandment Study Group (Branford Room)
DESCRIPTION:
URL:https://epworth.faith/event/eleventh-commandment-study-group-starnes-room/2025-03-20/
LOCATION:Epworth United Methodist Church\, 19285 Holland Glade Road\, Rehoboth Beach\, DE\, 19971\, United States
CATEGORIES:Church,Groups
ORGANIZER;CN="Bob Paulen":MAILTO:bobpaulen@yahoo.com
END:VEVENT
BEGIN:VEVENT
DTSTART;TZID=America/New_York:20250320T193000
DTEND;TZID=America/New_York:20250320T203000
DTSTAMP:20260426T000329
CREATED:20240905T122521Z
LAST-MODIFIED:20251023T150301Z
UID:10014432-1742499000-1742502600@epworth.faith
SUMMARY:AA Meeting (Baker Room)
DESCRIPTION:
URL:https://epworth.faith/event/aa-meeting-baker-room/2025-03-20/
LOCATION:Epworth United Methodist Church\, 19285 Holland Glade Road\, Rehoboth Beach\, DE\, 19971\, United States
CATEGORIES:Church,Groups
END:VEVENT
BEGIN:VEVENT
DTSTART;TZID=America/New_York:20250322T090000
DTEND;TZID=America/New_York:20250322T100000
DTSTAMP:20260426T000329
CREATED:20240905T122704Z
LAST-MODIFIED:20251023T150523Z
UID:10014484-1742634000-1742637600@epworth.faith
SUMMARY:ACA Meeting (Baker Room)
DESCRIPTION:
URL:https://epworth.faith/event/aca-meeting-baker-room/2025-03-22/
LOCATION:Epworth United Methodist Church\, 19285 Holland Glade Road\, Rehoboth Beach\, DE\, 19971\, United States
CATEGORIES:Church,Groups
END:VEVENT
BEGIN:VEVENT
DTSTART;TZID=America/New_York:20250322T180000
DTEND;TZID=America/New_York:20250322T190000
DTSTAMP:20260426T000329
CREATED:20240905T122918Z
LAST-MODIFIED:20251023T150738Z
UID:10014536-1742666400-1742670000@epworth.faith
SUMMARY:Alanon Meeting (Baker Room)
DESCRIPTION:
URL:https://epworth.faith/event/alanon-meeting-baker-room-2/2025-03-22/
LOCATION:Epworth United Methodist Church\, 19285 Holland Glade Road\, Rehoboth Beach\, DE\, 19971\, United States
CATEGORIES:Church,Groups
END:VEVENT
BEGIN:VEVENT
DTSTART;TZID=America/New_York:20250322T180000
DTEND;TZID=America/New_York:20250322T190000
DTSTAMP:20260426T000329
CREATED:20240905T123154Z
LAST-MODIFIED:20251023T152520Z
UID:10014588-1742666400-1742670000@epworth.faith
SUMMARY:AA Meeting (Branford Room)
DESCRIPTION:
URL:https://epworth.faith/event/aa-meeting-branford-room/2025-03-22/
LOCATION:Epworth United Methodist Church\, 19285 Holland Glade Road\, Rehoboth Beach\, DE\, 19971\, United States
CATEGORIES:Church,Groups
END:VEVENT
BEGIN:VEVENT
DTSTART;TZID=America/New_York:20250323T100000
DTEND;TZID=America/New_York:20250323T110000
DTSTAMP:20260426T000329
CREATED:20230909T152658Z
LAST-MODIFIED:20230909T161232Z
UID:10009090-1742724000-1742727600@epworth.faith
SUMMARY:Blended ASL Worship Service (Sanctuary & Online)
DESCRIPTION:YouTube Livestream\nYouTube ASL Livestream\nFacebook Livestream
URL:https://epworth.faith/event/blended-worship-service-sanctuary-on-line-2/2025-03-23/
LOCATION:Epworth United Methodist Church\, 19285 Holland Glade Road\, Rehoboth Beach\, DE\, 19971\, United States
CATEGORIES:Worship
ORGANIZER;CN="Vicki Gordy-Stith":MAILTO:vgordy-stith@epworth.faith
END:VEVENT
BEGIN:VEVENT
DTSTART;TZID=America/New_York:20250323T110000
DTEND;TZID=America/New_York:20250323T124500
DTSTAMP:20260426T000329
CREATED:20250303T202501Z
LAST-MODIFIED:20250303T202548Z
UID:10015559-1742727600-1742733900@epworth.faith
SUMMARY:Flower Ministry for Arrangements (Starnes Room)
DESCRIPTION:
URL:https://epworth.faith/event/flower-ministry-for-arrangements-starnes-room/2025-03-23/
LOCATION:Epworth United Methodist Church\, 19285 Holland Glade Road\, Rehoboth Beach\, DE\, 19971\, United States
CATEGORIES:Church,Groups
ORGANIZER;CN="Val Linder":MAILTO:rovalinder@comcast.net
END:VEVENT
BEGIN:VEVENT
DTSTART;TZID=America/New_York:20250323T111500
DTEND;TZID=America/New_York:20250323T114500
DTSTAMP:20260426T000329
CREATED:20241120T193843Z
LAST-MODIFIED:20241120T193843Z
UID:10015197-1742728500-1742730300@epworth.faith
SUMMARY:Stephen Ministry Prayer Chapel (Baker Room)
DESCRIPTION:
URL:https://epworth.faith/event/stephen-ministry-prayer-chapel-baker-room/2025-03-23/
LOCATION:Epworth United Methodist Church\, 19285 Holland Glade Road\, Rehoboth Beach\, DE\, 19971\, United States
CATEGORIES:Church,Groups
END:VEVENT
BEGIN:VEVENT
DTSTART;TZID=America/New_York:20250323T113000
DTEND;TZID=America/New_York:20250323T123000
DTSTAMP:20260426T000329
CREATED:20240826T184533Z
LAST-MODIFIED:20240826T184533Z
UID:10014055-1742729400-1742733000@epworth.faith
SUMMARY:Meet Me @ Epworth Group Bible Study (Branford Lounge)
DESCRIPTION:
URL:https://epworth.faith/event/meet-me-epworth-group-bible-study-branford-lounge/2025-03-23/
LOCATION:Epworth United Methodist Church\, 19285 Holland Glade Road\, Rehoboth Beach\, DE\, 19971\, United States
CATEGORIES:Church,Groups
ORGANIZER;CN="Mickie McManamon":MAILTO:mmcmanamon@epworth.faith
END:VEVENT
BEGIN:VEVENT
DTSTART;TZID=America/New_York:20250324T170000
DTEND;TZID=America/New_York:20250324T180000
DTSTAMP:20260426T000329
CREATED:20240905T122003Z
LAST-MODIFIED:20251023T143906Z
UID:10014276-1742835600-1742839200@epworth.faith
SUMMARY:Alanon Newcomers (Baker Room)
DESCRIPTION:
URL:https://epworth.faith/event/alanon-newcomers-baker-room/2025-03-24/
LOCATION:Epworth United Methodist Church\, 19285 Holland Glade Road\, Rehoboth Beach\, DE\, 19971\, United States
CATEGORIES:Church,Groups
END:VEVENT
BEGIN:VEVENT
DTSTART;TZID=America/New_York:20250324T180000
DTEND;TZID=America/New_York:20250324T190000
DTSTAMP:20260426T000329
CREATED:20240905T122138Z
LAST-MODIFIED:20251023T144119Z
UID:10014328-1742839200-1742842800@epworth.faith
SUMMARY:Alanon Meeting (Branford Room)
DESCRIPTION:
URL:https://epworth.faith/event/alanon-meeting-branford-room-2/2025-03-24/
LOCATION:Epworth United Methodist Church\, 19285 Holland Glade Road\, Rehoboth Beach\, DE\, 19971\, United States
CATEGORIES:Church,Groups
END:VEVENT
BEGIN:VEVENT
DTSTART;TZID=America/New_York:20250325T120000
DTEND;TZID=America/New_York:20250325T140000
DTSTAMP:20260426T000329
CREATED:20231101T154604Z
LAST-MODIFIED:20231101T154604Z
UID:10010524-1742904000-1742911200@epworth.faith
SUMMARY:Staff Meeting (Conference Room)
DESCRIPTION:
URL:https://epworth.faith/event/staff-meeting-conference-room/2025-03-25/
LOCATION:Epworth United Methodist Church\, 19285 Holland Glade Road\, Rehoboth Beach\, DE\, 19971\, United States
CATEGORIES:Church,Staff
ORGANIZER;CN="Vicki Gordy-Stith":MAILTO:vgordy-stith@epworth.faith
END:VEVENT
BEGIN:VEVENT
DTSTART;TZID=America/New_York:20250325T180000
DTEND;TZID=America/New_York:20250325T190000
DTSTAMP:20260426T000329
CREATED:20240905T121346Z
LAST-MODIFIED:20251023T144445Z
UID:10014120-1742925600-1742929200@epworth.faith
SUMMARY:Alanon Meeting (Branford Room)
DESCRIPTION:
URL:https://epworth.faith/event/alanon-meeting-branford-room/2025-03-25/
LOCATION:Epworth United Methodist Church\, 19285 Holland Glade Road\, Rehoboth Beach\, DE\, 19971\, United States
CATEGORIES:Church,Groups
END:VEVENT
BEGIN:VEVENT
DTSTART;TZID=America/New_York:20250325T183000
DTEND;TZID=America/New_York:20250325T213000
DTSTAMP:20260426T000329
CREATED:20240529T212715Z
LAST-MODIFIED:20250317T133252Z
UID:10013539-1742927400-1742938200@epworth.faith
SUMMARY:Face to Face Emmaus Team Training (Fellowship Hall)
DESCRIPTION:
URL:https://epworth.faith/event/face-to-face-emmaus-team-training-fellowship-hall/2025-03-25/
LOCATION:Epworth United Methodist Church\, 19285 Holland Glade Road\, Rehoboth Beach\, DE\, 19971\, United States
CATEGORIES:Church,Groups
ORGANIZER;CN="Mickie McManamon":MAILTO:mmcmanamon@epworth.faith
END:VEVENT
BEGIN:VEVENT
DTSTART;TZID=America/New_York:20250325T190000
DTEND;TZID=America/New_York:20250325T200000
DTSTAMP:20260426T000329
CREATED:20240905T121615Z
LAST-MODIFIED:20251023T144756Z
UID:10014172-1742929200-1742932800@epworth.faith
SUMMARY:Alanon Meeting (Baker Room)
DESCRIPTION:
URL:https://epworth.faith/event/alanon-meeting-baker-room/2025-03-25/
LOCATION:Epworth United Methodist Church\, 19285 Holland Glade Road\, Rehoboth Beach\, DE\, 19971\, United States
CATEGORIES:Church,Groups
END:VEVENT
END:VCALENDAR