BEGIN:VCALENDAR
VERSION:2.0
PRODID:-//Epworth UMC - ECPv6.15.20//NONSGML v1.0//EN
CALSCALE:GREGORIAN
METHOD:PUBLISH
X-ORIGINAL-URL:https://epworth.faith
X-WR-CALDESC:Events for Epworth UMC
REFRESH-INTERVAL;VALUE=DURATION:PT1H
X-Robots-Tag:noindex
X-PUBLISHED-TTL:PT1H
BEGIN:VTIMEZONE
TZID:America/New_York
BEGIN:DAYLIGHT
TZOFFSETFROM:-0500
TZOFFSETTO:-0400
TZNAME:EDT
DTSTART:20240310T070000
END:DAYLIGHT
BEGIN:STANDARD
TZOFFSETFROM:-0400
TZOFFSETTO:-0500
TZNAME:EST
DTSTART:20241103T060000
END:STANDARD
BEGIN:DAYLIGHT
TZOFFSETFROM:-0500
TZOFFSETTO:-0400
TZNAME:EDT
DTSTART:20250309T070000
END:DAYLIGHT
BEGIN:STANDARD
TZOFFSETFROM:-0400
TZOFFSETTO:-0500
TZNAME:EST
DTSTART:20251102T060000
END:STANDARD
BEGIN:DAYLIGHT
TZOFFSETFROM:-0500
TZOFFSETTO:-0400
TZNAME:EDT
DTSTART:20260308T070000
END:DAYLIGHT
BEGIN:STANDARD
TZOFFSETFROM:-0400
TZOFFSETTO:-0500
TZNAME:EST
DTSTART:20261101T060000
END:STANDARD
END:VTIMEZONE
BEGIN:VEVENT
DTSTART;TZID=America/New_York:20250416T100000
DTEND;TZID=America/New_York:20250416T120000
DTSTAMP:20260425T232159
CREATED:20240509T205948Z
LAST-MODIFIED:20240509T205948Z
UID:10013447-1744797600-1744804800@epworth.faith
SUMMARY:Sisters in Christ Bible Study (Starnes Room)
DESCRIPTION:
URL:https://epworth.faith/event/sisters-in-christ-bible-study-starnes-room/2025-04-16/
LOCATION:Epworth United Methodist Church\, 19285 Holland Glade Road\, Rehoboth Beach\, DE\, 19971\, United States
CATEGORIES:Church,Groups
ORGANIZER;CN="Susan Jimenez":MAILTO:saj19971@gmail.com
END:VEVENT
BEGIN:VEVENT
DTSTART;TZID=America/New_York:20250416T173000
DTEND;TZID=America/New_York:20250416T183000
DTSTAMP:20260425T232159
CREATED:20250116T215058Z
LAST-MODIFIED:20250911T132405Z
UID:10017346-1744824600-1744828200@epworth.faith
SUMMARY:Chancel Choir Practice (Music Room)
DESCRIPTION:
URL:https://epworth.faith/event/chancel-choir-practice-music-room-2/2025-04-16/
LOCATION:Epworth United Methodist Church\, 19285 Holland Glade Road\, Rehoboth Beach\, DE\, 19971\, United States
CATEGORIES:Church,Groups
ORGANIZER;CN="Doug Yetter":MAILTO:dyetter@epworth.faith
END:VEVENT
BEGIN:VEVENT
DTSTART;TZID=America/New_York:20250416T173000
DTEND;TZID=America/New_York:20250416T183000
DTSTAMP:20260425T232159
CREATED:20250116T215324Z
LAST-MODIFIED:20250528T122635Z
UID:10016589-1744824600-1744828200@epworth.faith
SUMMARY:Memorial Bells Practice (Music Room)
DESCRIPTION:
URL:https://epworth.faith/event/memorial-bells-practice-music-room/2025-04-16/
LOCATION:Epworth United Methodist Church\, 19285 Holland Glade Road\, Rehoboth Beach\, DE\, 19971\, United States
CATEGORIES:Church,Music
ORGANIZER;CN="Doug Yetter":MAILTO:dyetter@epworth.faith
END:VEVENT
BEGIN:VEVENT
DTSTART;TZID=America/New_York:20250416T183000
DTEND;TZID=America/New_York:20250416T210000
DTSTAMP:20260425T232159
CREATED:20240321T141329Z
LAST-MODIFIED:20240321T141511Z
UID:10012584-1744828200-1744837200@epworth.faith
SUMMARY:ManKind Project (MKP) (Baker Lounge)
DESCRIPTION:
URL:https://epworth.faith/event/mankind-project-mkp-baker-lounge-4/2025-04-16/
LOCATION:Epworth United Methodist Church\, 19285 Holland Glade Road\, Rehoboth Beach\, DE\, 19971\, United States
CATEGORIES:Church,Groups
ORGANIZER;CN="Rick Buske":MAILTO:rick.buske@gmail.com
END:VEVENT
BEGIN:VEVENT
DTSTART;TZID=America/New_York:20250417T110000
DTEND;TZID=America/New_York:20250417T120000
DTSTAMP:20260425T232159
CREATED:20250312T195827Z
LAST-MODIFIED:20250312T195919Z
UID:10015840-1744887600-1744891200@epworth.faith
SUMMARY:Grief Support Group (Baker Room)
DESCRIPTION:
URL:https://epworth.faith/event/grief-support-group-baker-room-2/2025-04-17/
LOCATION:Epworth United Methodist Church\, 19285 Holland Glade Road\, Rehoboth Beach\, DE\, 19971\, United States
CATEGORIES:Church,Groups
ORGANIZER;CN="Vicki Gordy-Stith":MAILTO:vgordy-stith@epworth.faith
END:VEVENT
BEGIN:VEVENT
DTSTART;TZID=America/New_York:20250417T120000
DTEND;TZID=America/New_York:20250417T130000
DTSTAMP:20260425T232159
CREATED:20240905T122329Z
LAST-MODIFIED:20251023T150055Z
UID:10014384-1744891200-1744894800@epworth.faith
SUMMARY:Alanon Meeting (Branford Room)
DESCRIPTION:
URL:https://epworth.faith/event/alanon-meeting-branford-room-3/2025-04-17/
LOCATION:Epworth United Methodist Church\, 19285 Holland Glade Road\, Rehoboth Beach\, DE\, 19971\, United States
CATEGORIES:Church,Groups
END:VEVENT
BEGIN:VEVENT
DTSTART;TZID=America/New_York:20250417T190000
DTEND;TZID=America/New_York:20250417T190000
DTSTAMP:20260425T232159
CREATED:20250322T202546Z
LAST-MODIFIED:20250322T202620Z
UID:10016000-1744916400-1744916400@epworth.faith
SUMMARY:Holy Thursday - Last Supper
DESCRIPTION:Join us for the remembrance of The Last Supper\, the tradition which began as the Passover seder and has become our Communion. \nThe service begins at 7 p.m. Thursday\, April 17 in the sanctuary.
URL:https://epworth.faith/event/holy-thursday-last-supper/
LOCATION:Epworth United Methodist Church\, 19285 Holland Glade Road\, Rehoboth Beach\, DE\, 19971\, United States
CATEGORIES:Holy Week 2025
ATTACH;FMTTYPE=image/jpeg:https://epworth.faith/wp-content/uploads/2025/03/the-last-supper-2024-04-04-18-39-40-utc.jpg
END:VEVENT
BEGIN:VEVENT
DTSTART;TZID=America/New_York:20250417T193000
DTEND;TZID=America/New_York:20250417T203000
DTSTAMP:20260425T232159
CREATED:20240905T122521Z
LAST-MODIFIED:20251023T150301Z
UID:10014436-1744918200-1744921800@epworth.faith
SUMMARY:AA Meeting (Baker Room)
DESCRIPTION:
URL:https://epworth.faith/event/aa-meeting-baker-room/2025-04-17/
LOCATION:Epworth United Methodist Church\, 19285 Holland Glade Road\, Rehoboth Beach\, DE\, 19971\, United States
CATEGORIES:Church,Groups
END:VEVENT
BEGIN:VEVENT
DTSTART;TZID=America/New_York:20250418T190000
DTEND;TZID=America/New_York:20250418T190000
DTSTAMP:20260425T232159
CREATED:20250322T202155Z
LAST-MODIFIED:20250322T202252Z
UID:10015999-1745002800-1745002800@epworth.faith
SUMMARY:Good Friday Tenebrae Service
DESCRIPTION:This Tenebrae service is one of the most emotional traditions of the church. The story of Jesus’ arrest\, trial\, suffering\, and death is punctuated by musical meditations by our Chancel Choir and Bell Choir\, as well as traditional hymns. After each section of The Passion of Our Lord is completed\, candles are extinguished and the lights are dimmed\, leaving us in darkness at the end of the service. Worshippers are invited to remain and pray after the service\, as we leave in silence. \nThe service begins at 7 p.m. Friday\, April 18. The word Tenebrae is Latin for “shadows” or “darkness.” It can also be translated as “night” or “death.”
URL:https://epworth.faith/event/good-friday-tenebrae-service/
LOCATION:Epworth United Methodist Church\, 19285 Holland Glade Road\, Rehoboth Beach\, DE\, 19971\, United States
CATEGORIES:Holy Week 2025
ATTACH;FMTTYPE=image/jpeg:https://epworth.faith/wp-content/uploads/2025/03/tenebrae.jpg
END:VEVENT
BEGIN:VEVENT
DTSTART;TZID=America/New_York:20250419T090000
DTEND;TZID=America/New_York:20250419T100000
DTSTAMP:20260425T232159
CREATED:20240905T122704Z
LAST-MODIFIED:20251023T150523Z
UID:10014488-1745053200-1745056800@epworth.faith
SUMMARY:ACA Meeting (Baker Room)
DESCRIPTION:
URL:https://epworth.faith/event/aca-meeting-baker-room/2025-04-19/
LOCATION:Epworth United Methodist Church\, 19285 Holland Glade Road\, Rehoboth Beach\, DE\, 19971\, United States
CATEGORIES:Church,Groups
END:VEVENT
BEGIN:VEVENT
DTSTART;TZID=America/New_York:20250419T090000
DTEND;TZID=America/New_York:20250419T120000
DTSTAMP:20260425T232159
CREATED:20250311T181351Z
LAST-MODIFIED:20250311T181351Z
UID:10015832-1745053200-1745064000@epworth.faith
SUMMARY:Worship Design Team - Easter Set-Up (Sanctuary)
DESCRIPTION:
URL:https://epworth.faith/event/worship-design-team-easter-set-up-sanctuary/
LOCATION:Epworth United Methodist Church\, 19285 Holland Glade Road\, Rehoboth Beach\, DE\, 19971\, United States
CATEGORIES:Church,Groups
ORGANIZER;CN="Murray Archibald":MAILTO:rma.archibald@gmail.com
END:VEVENT
BEGIN:VEVENT
DTSTART;TZID=America/New_York:20250419T180000
DTEND;TZID=America/New_York:20250419T190000
DTSTAMP:20260425T232159
CREATED:20240905T122918Z
LAST-MODIFIED:20251023T150738Z
UID:10014540-1745085600-1745089200@epworth.faith
SUMMARY:Alanon Meeting (Baker Room)
DESCRIPTION:
URL:https://epworth.faith/event/alanon-meeting-baker-room-2/2025-04-19/
LOCATION:Epworth United Methodist Church\, 19285 Holland Glade Road\, Rehoboth Beach\, DE\, 19971\, United States
CATEGORIES:Church,Groups
END:VEVENT
BEGIN:VEVENT
DTSTART;TZID=America/New_York:20250419T180000
DTEND;TZID=America/New_York:20250419T190000
DTSTAMP:20260425T232159
CREATED:20240905T123154Z
LAST-MODIFIED:20251023T152520Z
UID:10014592-1745085600-1745089200@epworth.faith
SUMMARY:AA Meeting (Branford Room)
DESCRIPTION:
URL:https://epworth.faith/event/aa-meeting-branford-room/2025-04-19/
LOCATION:Epworth United Methodist Church\, 19285 Holland Glade Road\, Rehoboth Beach\, DE\, 19971\, United States
CATEGORIES:Church,Groups
END:VEVENT
BEGIN:VEVENT
DTSTART;TZID=America/New_York:20250420T060000
DTEND;TZID=America/New_York:20250420T064500
DTSTAMP:20260425T232159
CREATED:20250317T161431Z
LAST-MODIFIED:20250417T133035Z
UID:10015905-1745128800-1745131500@epworth.faith
SUMMARY:Easter Sunrise Worship Service
DESCRIPTION:Members of Epworth’s Praise Team led by Doug Yetter join Pastors Vicki and Bo Gordy-Stith to celebrate the miracle of the resurrection by the Rehoboth Beach bandstand. \nThe service begins at 6 a.m. Sunday\, April 20 and lasts about 45 minutes.
URL:https://epworth.faith/event/easter-sunrise-worship-service-600am-645am-rehoboth-beach-bandstand-area/
LOCATION:Rehoboth Beach Bandstand\, 1 Rehoboth Ave.\, Rehoboth Beach\, Delaware\, 19971
CATEGORIES:Holy Week 2025,Neighborhood/Community Groups,Worship
ATTACH;FMTTYPE=image/jpeg:https://epworth.faith/wp-content/uploads/2025/03/Sunrise.jpg
ORGANIZER;CN="Vicki Gordy-Stith":MAILTO:vgordy-stith@epworth.faith
END:VEVENT
BEGIN:VEVENT
DTSTART;TZID=America/New_York:20250420T100000
DTEND;TZID=America/New_York:20250420T110000
DTSTAMP:20260425T232159
CREATED:20250322T193119Z
LAST-MODIFIED:20250322T193120Z
UID:10009094-1745143200-1745146800@epworth.faith
SUMMARY:Blended ASL Easter Sunday Service (Sanctuary & Online)
DESCRIPTION:Christ’s resurrection is the cornerstone of the Christian faith\, providing the doctrine\, hope and life of the church. Celebrate the Resurrection with us through the Word and music – featuring our Chancel Choir providing traditional hymns and anthems and the Praise Team with more contemporary musical offerings\, both accompanied by a professional wind quintet with flute\, oboe\, clarinet\, bassoon and trumpet. The service is led by Rev. Dr. Vicki Gordy-Stith. \nThe service begins at 10 a.m. Sunday\, April 20. \nYouTube Livestream\nYouTube ASL Livestream\nFacebook Livestream
URL:https://epworth.faith/event/blended-worship-service-sanctuary-on-line-2-2/
LOCATION:Epworth United Methodist Church\, 19285 Holland Glade Road\, Rehoboth Beach\, DE\, 19971\, United States
CATEGORIES:Holy Week 2025,Worship
ATTACH;FMTTYPE=image/jpeg:https://epworth.faith/wp-content/uploads/2023/09/Easter-small.jpg
ORGANIZER;CN="Vicki Gordy-Stith":MAILTO:vgordy-stith@epworth.faith
END:VEVENT
BEGIN:VEVENT
DTSTART;TZID=America/New_York:20250420T110000
DTEND;TZID=America/New_York:20250420T124500
DTSTAMP:20260425T232159
CREATED:20250303T202501Z
LAST-MODIFIED:20250303T202548Z
UID:10015563-1745146800-1745153100@epworth.faith
SUMMARY:Flower Ministry for Arrangements (Starnes Room)
DESCRIPTION:
URL:https://epworth.faith/event/flower-ministry-for-arrangements-starnes-room/2025-04-20/
LOCATION:Epworth United Methodist Church\, 19285 Holland Glade Road\, Rehoboth Beach\, DE\, 19971\, United States
CATEGORIES:Church,Groups
ORGANIZER;CN="Val Linder":MAILTO:rovalinder@comcast.net
END:VEVENT
BEGIN:VEVENT
DTSTART;TZID=America/New_York:20250420T111500
DTEND;TZID=America/New_York:20250420T114500
DTSTAMP:20260425T232159
CREATED:20241120T193843Z
LAST-MODIFIED:20241120T193843Z
UID:10015201-1745147700-1745149500@epworth.faith
SUMMARY:Stephen Ministry Prayer Chapel (Baker Room)
DESCRIPTION:
URL:https://epworth.faith/event/stephen-ministry-prayer-chapel-baker-room/2025-04-20/
LOCATION:Epworth United Methodist Church\, 19285 Holland Glade Road\, Rehoboth Beach\, DE\, 19971\, United States
CATEGORIES:Church,Groups
END:VEVENT
BEGIN:VEVENT
DTSTART;TZID=America/New_York:20250420T113000
DTEND;TZID=America/New_York:20250420T123000
DTSTAMP:20260425T232159
CREATED:20240826T184533Z
LAST-MODIFIED:20240826T184533Z
UID:10014059-1745148600-1745152200@epworth.faith
SUMMARY:Meet Me @ Epworth Group Bible Study (Branford Lounge)
DESCRIPTION:
URL:https://epworth.faith/event/meet-me-epworth-group-bible-study-branford-lounge/2025-04-20/
LOCATION:Epworth United Methodist Church\, 19285 Holland Glade Road\, Rehoboth Beach\, DE\, 19971\, United States
CATEGORIES:Church,Groups
ORGANIZER;CN="Mickie McManamon":MAILTO:mmcmanamon@epworth.faith
END:VEVENT
BEGIN:VEVENT
DTSTART;TZID=America/New_York:20250421T170000
DTEND;TZID=America/New_York:20250421T180000
DTSTAMP:20260425T232159
CREATED:20240905T122003Z
LAST-MODIFIED:20251023T143906Z
UID:10014280-1745254800-1745258400@epworth.faith
SUMMARY:Alanon Newcomers (Baker Room)
DESCRIPTION:
URL:https://epworth.faith/event/alanon-newcomers-baker-room/2025-04-21/
LOCATION:Epworth United Methodist Church\, 19285 Holland Glade Road\, Rehoboth Beach\, DE\, 19971\, United States
CATEGORIES:Church,Groups
END:VEVENT
BEGIN:VEVENT
DTSTART;TZID=America/New_York:20250421T180000
DTEND;TZID=America/New_York:20250421T190000
DTSTAMP:20260425T232159
CREATED:20240905T122138Z
LAST-MODIFIED:20251023T144119Z
UID:10014332-1745258400-1745262000@epworth.faith
SUMMARY:Alanon Meeting (Branford Room)
DESCRIPTION:
URL:https://epworth.faith/event/alanon-meeting-branford-room-2/2025-04-21/
LOCATION:Epworth United Methodist Church\, 19285 Holland Glade Road\, Rehoboth Beach\, DE\, 19971\, United States
CATEGORIES:Church,Groups
END:VEVENT
BEGIN:VEVENT
DTSTART;TZID=America/New_York:20250422T120000
DTEND;TZID=America/New_York:20250422T140000
DTSTAMP:20260425T232159
CREATED:20231101T154604Z
LAST-MODIFIED:20231101T154604Z
UID:10010528-1745323200-1745330400@epworth.faith
SUMMARY:Staff Meeting (Conference Room)
DESCRIPTION:
URL:https://epworth.faith/event/staff-meeting-conference-room/2025-04-22/
LOCATION:Epworth United Methodist Church\, 19285 Holland Glade Road\, Rehoboth Beach\, DE\, 19971\, United States
CATEGORIES:Church,Staff
ORGANIZER;CN="Vicki Gordy-Stith":MAILTO:vgordy-stith@epworth.faith
END:VEVENT
BEGIN:VEVENT
DTSTART;TZID=America/New_York:20250422T180000
DTEND;TZID=America/New_York:20250422T190000
DTSTAMP:20260425T232159
CREATED:20240905T121346Z
LAST-MODIFIED:20251023T144445Z
UID:10014124-1745344800-1745348400@epworth.faith
SUMMARY:Alanon Meeting (Branford Room)
DESCRIPTION:
URL:https://epworth.faith/event/alanon-meeting-branford-room/2025-04-22/
LOCATION:Epworth United Methodist Church\, 19285 Holland Glade Road\, Rehoboth Beach\, DE\, 19971\, United States
CATEGORIES:Church,Groups
END:VEVENT
BEGIN:VEVENT
DTSTART;TZID=America/New_York:20250422T183000
DTEND;TZID=America/New_York:20250422T213000
DTSTAMP:20260425T232159
CREATED:20240529T212715Z
LAST-MODIFIED:20250317T133252Z
UID:10013543-1745346600-1745357400@epworth.faith
SUMMARY:Face to Face Emmaus Team Training (Fellowship Hall)
DESCRIPTION:
URL:https://epworth.faith/event/face-to-face-emmaus-team-training-fellowship-hall/2025-04-22/
LOCATION:Epworth United Methodist Church\, 19285 Holland Glade Road\, Rehoboth Beach\, DE\, 19971\, United States
CATEGORIES:Church,Groups
ORGANIZER;CN="Mickie McManamon":MAILTO:mmcmanamon@epworth.faith
END:VEVENT
BEGIN:VEVENT
DTSTART;TZID=America/New_York:20250422T190000
DTEND;TZID=America/New_York:20250422T200000
DTSTAMP:20260425T232159
CREATED:20240905T121615Z
LAST-MODIFIED:20251023T144756Z
UID:10014176-1745348400-1745352000@epworth.faith
SUMMARY:Alanon Meeting (Baker Room)
DESCRIPTION:
URL:https://epworth.faith/event/alanon-meeting-baker-room/2025-04-22/
LOCATION:Epworth United Methodist Church\, 19285 Holland Glade Road\, Rehoboth Beach\, DE\, 19971\, United States
CATEGORIES:Church,Groups
END:VEVENT
BEGIN:VEVENT
DTSTART;TZID=America/New_York:20250422T190000
DTEND;TZID=America/New_York:20250422T200000
DTSTAMP:20260425T232159
CREATED:20240905T121808Z
LAST-MODIFIED:20251023T145128Z
UID:10014228-1745348400-1745352000@epworth.faith
SUMMARY:AA Meeting (Music Room)
DESCRIPTION:
URL:https://epworth.faith/event/aa-meeting-music-room/2025-04-22/
LOCATION:Epworth United Methodist Church\, 19285 Holland Glade Road\, Rehoboth Beach\, DE\, 19971\, United States
CATEGORIES:Church,Groups
END:VEVENT
BEGIN:VEVENT
DTSTART;TZID=America/New_York:20250423T100000
DTEND;TZID=America/New_York:20250423T120000
DTSTAMP:20260425T232159
CREATED:20240509T205948Z
LAST-MODIFIED:20240509T205948Z
UID:10013448-1745402400-1745409600@epworth.faith
SUMMARY:Sisters in Christ Bible Study (Starnes Room)
DESCRIPTION:
URL:https://epworth.faith/event/sisters-in-christ-bible-study-starnes-room/2025-04-23/
LOCATION:Epworth United Methodist Church\, 19285 Holland Glade Road\, Rehoboth Beach\, DE\, 19971\, United States
CATEGORIES:Church,Groups
ORGANIZER;CN="Susan Jimenez":MAILTO:saj19971@gmail.com
END:VEVENT
BEGIN:VEVENT
DTSTART;TZID=America/New_York:20250423T120000
DTEND;TZID=America/New_York:20250423T130000
DTSTAMP:20260425T232159
CREATED:20250317T135359Z
LAST-MODIFIED:20250317T135359Z
UID:10015901-1745409600-1745413200@epworth.faith
SUMMARY:Moms Demand Action Meeting (Starnes Room)
DESCRIPTION:
URL:https://epworth.faith/event/moms-demand-action-meeting-starnes-room-5/
LOCATION:Epworth United Methodist Church\, 19285 Holland Glade Road\, Rehoboth Beach\, DE\, 19971\, United States
CATEGORIES:Church,Groups
END:VEVENT
BEGIN:VEVENT
DTSTART;TZID=America/New_York:20250423T120000
DTEND;TZID=America/New_York:20250423T133000
DTSTAMP:20260425T232159
CREATED:20250224T214522Z
LAST-MODIFIED:20250224T214522Z
UID:10015541-1745409600-1745415000@epworth.faith
SUMMARY:Plant Sale Meeting (Office Conference Room)
DESCRIPTION:
URL:https://epworth.faith/event/plant-sale-meeting-office-conference-room-4/
LOCATION:Epworth United Methodist Church\, 19285 Holland Glade Road\, Rehoboth Beach\, DE\, 19971\, United States
CATEGORIES:Church,Groups
ORGANIZER;CN="Sue Brenton":MAILTO:myshadow143@verizon.net
END:VEVENT
BEGIN:VEVENT
DTSTART;TZID=America/New_York:20250423T130000
DTEND;TZID=America/New_York:20250423T143000
DTSTAMP:20260425T232159
CREATED:20250227T142345Z
LAST-MODIFIED:20250227T142345Z
UID:10015548-1745413200-1745418600@epworth.faith
SUMMARY:Moms Demand Action Meeting (Starnes Room)
DESCRIPTION:
URL:https://epworth.faith/event/moms-demand-action-meeting-starnes-room-2/
LOCATION:Epworth United Methodist Church\, 19285 Holland Glade Road\, Rehoboth Beach\, DE\, 19971\, United States
CATEGORIES:Church,Groups
END:VEVENT
BEGIN:VEVENT
DTSTART;TZID=America/New_York:20250423T173000
DTEND;TZID=America/New_York:20250423T183000
DTSTAMP:20260425T232159
CREATED:20250116T215058Z
LAST-MODIFIED:20250911T132405Z
UID:10017347-1745429400-1745433000@epworth.faith
SUMMARY:Chancel Choir Practice (Music Room)
DESCRIPTION:
URL:https://epworth.faith/event/chancel-choir-practice-music-room-2/2025-04-23/
LOCATION:Epworth United Methodist Church\, 19285 Holland Glade Road\, Rehoboth Beach\, DE\, 19971\, United States
CATEGORIES:Church,Groups
ORGANIZER;CN="Doug Yetter":MAILTO:dyetter@epworth.faith
END:VEVENT
END:VCALENDAR