BEGIN:VCALENDAR
VERSION:2.0
PRODID:-//Epworth UMC - ECPv6.15.20//NONSGML v1.0//EN
CALSCALE:GREGORIAN
METHOD:PUBLISH
X-ORIGINAL-URL:https://epworth.faith
X-WR-CALDESC:Events for Epworth UMC
REFRESH-INTERVAL;VALUE=DURATION:PT1H
X-Robots-Tag:noindex
X-PUBLISHED-TTL:PT1H
BEGIN:VTIMEZONE
TZID:America/New_York
BEGIN:DAYLIGHT
TZOFFSETFROM:-0500
TZOFFSETTO:-0400
TZNAME:EDT
DTSTART:20250309T070000
END:DAYLIGHT
BEGIN:STANDARD
TZOFFSETFROM:-0400
TZOFFSETTO:-0500
TZNAME:EST
DTSTART:20251102T060000
END:STANDARD
BEGIN:DAYLIGHT
TZOFFSETFROM:-0500
TZOFFSETTO:-0400
TZNAME:EDT
DTSTART:20260308T070000
END:DAYLIGHT
BEGIN:STANDARD
TZOFFSETFROM:-0400
TZOFFSETTO:-0500
TZNAME:EST
DTSTART:20261101T060000
END:STANDARD
BEGIN:DAYLIGHT
TZOFFSETFROM:-0500
TZOFFSETTO:-0400
TZNAME:EDT
DTSTART:20270314T070000
END:DAYLIGHT
BEGIN:STANDARD
TZOFFSETFROM:-0400
TZOFFSETTO:-0500
TZNAME:EST
DTSTART:20271107T060000
END:STANDARD
END:VTIMEZONE
BEGIN:VEVENT
DTSTART;TZID=America/New_York:20260629T130000
DTEND;TZID=America/New_York:20260629T230000
DTSTAMP:20260423T170539
CREATED:20260212T143116Z
LAST-MODIFIED:20260212T143119Z
UID:10021224-1782738000-1782774000@epworth.faith
SUMMARY:Raleigh Ringers Handbell Ensemble (Sanctuary\, Fellowship Hall\, Music Room & Youth Room)
DESCRIPTION:
URL:https://epworth.faith/event/raleigh-ringers-handbell-ensemble-sanctuary-fellowship-hall-music-room-youth-room/
LOCATION:Epworth United Methodist Church\, 19285 Holland Glade Road\, Rehoboth Beach\, DE\, 19971\, United States
CATEGORIES:Church,Concerts,Facility Rentals
ORGANIZER;CN="Christine Fox-Roberts":MAILTO:christine.fox.roberts@gmail.com
END:VEVENT
BEGIN:VEVENT
DTSTART;TZID=America/New_York:20260629T170000
DTEND;TZID=America/New_York:20260629T180000
DTSTAMP:20260423T170539
CREATED:20240905T122003Z
LAST-MODIFIED:20251023T143906Z
UID:10018327-1782752400-1782756000@epworth.faith
SUMMARY:Alanon Newcomers (Baker Room)
DESCRIPTION:
URL:https://epworth.faith/event/alanon-newcomers-baker-room/2026-06-29/
LOCATION:Epworth United Methodist Church\, 19285 Holland Glade Road\, Rehoboth Beach\, DE\, 19971\, United States
CATEGORIES:Church,Groups
END:VEVENT
BEGIN:VEVENT
DTSTART;TZID=America/New_York:20260629T180000
DTEND;TZID=America/New_York:20260629T190000
DTSTAMP:20260423T170539
CREATED:20240905T122138Z
LAST-MODIFIED:20251023T144119Z
UID:10018578-1782756000-1782759600@epworth.faith
SUMMARY:Alanon Meeting (Branford Room)
DESCRIPTION:
URL:https://epworth.faith/event/alanon-meeting-branford-room-2/2026-06-29/
LOCATION:Epworth United Methodist Church\, 19285 Holland Glade Road\, Rehoboth Beach\, DE\, 19971\, United States
CATEGORIES:Church,Groups
END:VEVENT
BEGIN:VEVENT
DTSTART;TZID=America/New_York:20260629T180000
DTEND;TZID=America/New_York:20260629T193000
DTSTAMP:20260423T170539
CREATED:20250925T182614Z
LAST-MODIFIED:20250929T160622Z
UID:10017776-1782756000-1782761400@epworth.faith
SUMMARY:Social Justice Meeting (Starnes Room)
DESCRIPTION:
URL:https://epworth.faith/event/social-justice-meeting-starnes-room/2026-06-29/
LOCATION:Epworth United Methodist Church\, 19285 Holland Glade Road\, Rehoboth Beach\, DE\, 19971\, United States
CATEGORIES:Church,Groups
END:VEVENT
BEGIN:VEVENT
DTSTART;TZID=America/New_York:20260629T180000
DTEND;TZID=America/New_York:20260629T193000
DTSTAMP:20260423T170539
CREATED:20260331T183517Z
LAST-MODIFIED:20260331T183517Z
UID:10022172-1782756000-1782761400@epworth.faith
SUMMARY:Prostate Cancer Support Group (Baker Lounge)
DESCRIPTION:
URL:https://epworth.faith/event/prostate-cancer-support-group-baker-lounge/2026-06-29/
LOCATION:Epworth United Methodist Church\, 19285 Holland Glade Road\, Rehoboth Beach\, DE\, 19971\, United States
CATEGORIES:Church,Groups
ORGANIZER;CN="Bob Thoman":MAILTO:bobthomanappraisals@gmail.com
END:VEVENT
BEGIN:VEVENT
DTSTART;TZID=America/New_York:20260630T120000
DTEND;TZID=America/New_York:20260630T140000
DTSTAMP:20260423T170539
CREATED:20231101T154604Z
LAST-MODIFIED:20231101T154604Z
UID:10010590-1782820800-1782828000@epworth.faith
SUMMARY:Staff Meeting (Conference Room)
DESCRIPTION:
URL:https://epworth.faith/event/staff-meeting-conference-room/2026-06-30/
LOCATION:Epworth United Methodist Church\, 19285 Holland Glade Road\, Rehoboth Beach\, DE\, 19971\, United States
CATEGORIES:Church,Staff
ORGANIZER;CN="Vicki Gordy-Stith":MAILTO:vgordy-stith@epworth.faith
END:VEVENT
BEGIN:VEVENT
DTSTART;TZID=America/New_York:20260630T180000
DTEND;TZID=America/New_York:20260630T190000
DTSTAMP:20260423T170539
CREATED:20240905T121346Z
LAST-MODIFIED:20251023T144445Z
UID:10018829-1782842400-1782846000@epworth.faith
SUMMARY:Alanon Meeting (Branford Room)
DESCRIPTION:
URL:https://epworth.faith/event/alanon-meeting-branford-room/2026-06-30/
LOCATION:Epworth United Methodist Church\, 19285 Holland Glade Road\, Rehoboth Beach\, DE\, 19971\, United States
CATEGORIES:Church,Groups
END:VEVENT
BEGIN:VEVENT
DTSTART;TZID=America/New_York:20260630T190000
DTEND;TZID=America/New_York:20260630T200000
DTSTAMP:20260423T170539
CREATED:20240905T121615Z
LAST-MODIFIED:20251023T144756Z
UID:10019080-1782846000-1782849600@epworth.faith
SUMMARY:Alanon Meeting (Baker Room)
DESCRIPTION:
URL:https://epworth.faith/event/alanon-meeting-baker-room/2026-06-30/
LOCATION:Epworth United Methodist Church\, 19285 Holland Glade Road\, Rehoboth Beach\, DE\, 19971\, United States
CATEGORIES:Church,Groups
END:VEVENT
BEGIN:VEVENT
DTSTART;TZID=America/New_York:20260630T190000
DTEND;TZID=America/New_York:20260630T200000
DTSTAMP:20260423T170539
CREATED:20240905T121808Z
LAST-MODIFIED:20251023T145128Z
UID:10019331-1782846000-1782849600@epworth.faith
SUMMARY:AA Meeting (Music Room)
DESCRIPTION:
URL:https://epworth.faith/event/aa-meeting-music-room/2026-06-30/
LOCATION:Epworth United Methodist Church\, 19285 Holland Glade Road\, Rehoboth Beach\, DE\, 19971\, United States
CATEGORIES:Church,Groups
END:VEVENT
BEGIN:VEVENT
DTSTART;TZID=America/New_York:20260701T183000
DTEND;TZID=America/New_York:20260701T210000
DTSTAMP:20260423T170539
CREATED:20240321T141039Z
LAST-MODIFIED:20240321T141039Z
UID:10012479-1782930600-1782939600@epworth.faith
SUMMARY:ManKind Project (MKP) (Baker Lounge)
DESCRIPTION:
URL:https://epworth.faith/event/mankind-project-mkp-baker-lounge-3/2026-07-01/
LOCATION:Epworth United Methodist Church\, 19285 Holland Glade Road\, Rehoboth Beach\, DE\, 19971\, United States
CATEGORIES:Church,Groups
ORGANIZER;CN="Rick Buske":MAILTO:rick.buske@gmail.com
END:VEVENT
BEGIN:VEVENT
DTSTART;TZID=America/New_York:20260702T093000
DTEND;TZID=America/New_York:20260702T103000
DTSTAMP:20260423T170539
CREATED:20250521T185021Z
LAST-MODIFIED:20260205T141334Z
UID:10021176-1782984600-1782988200@epworth.faith
SUMMARY:Alzheimer/Dementia Support Group (Baker Room)
DESCRIPTION:
URL:https://epworth.faith/event/alzheimer-dementia-support-group-baker-room/2026-07-02/
LOCATION:Epworth United Methodist Church\, 19285 Holland Glade Road\, Rehoboth Beach\, DE\, 19971\, United States
CATEGORIES:Church,Groups
ORGANIZER;CN="Harry Martens":MAILTO:HMartensiii@gmail.com
END:VEVENT
BEGIN:VEVENT
DTSTART;TZID=America/New_York:20260702T100000
DTEND;TZID=America/New_York:20260702T113000
DTSTAMP:20260423T170539
CREATED:20260407T210128Z
LAST-MODIFIED:20260407T210128Z
UID:10022189-1782986400-1782991800@epworth.faith
SUMMARY:Voices of Hope Practice (Music Room)
DESCRIPTION:
URL:https://epworth.faith/event/voices-of-hope-practice-music-room-2/2026-07-02/
LOCATION:Epworth United Methodist Church\, 19285 Holland Glade Road\, Rehoboth Beach\, DE\, 19971\, United States
CATEGORIES:Church,Groups
ORGANIZER;CN="Doug Yetter":MAILTO:dyetter@epworth.faith
END:VEVENT
BEGIN:VEVENT
DTSTART;TZID=America/New_York:20260702T110000
DTEND;TZID=America/New_York:20260702T120000
DTSTAMP:20260423T170539
CREATED:20250513T184931Z
LAST-MODIFIED:20260129T210925Z
UID:10021072-1782990000-1782993600@epworth.faith
SUMMARY:Grief Group (Baker Room)
DESCRIPTION:
URL:https://epworth.faith/event/grief-group-baker-room/2026-07-02/
LOCATION:Epworth United Methodist Church\, 19285 Holland Glade Road\, Rehoboth Beach\, DE\, 19971\, United States
ORGANIZER;CN="Vicki Gordy-Stith":MAILTO:vgordy-stith@epworth.faith
END:VEVENT
BEGIN:VEVENT
DTSTART;TZID=America/New_York:20260702T120000
DTEND;TZID=America/New_York:20260702T130000
DTSTAMP:20260423T170539
CREATED:20240905T122329Z
LAST-MODIFIED:20251023T150055Z
UID:10019583-1782993600-1782997200@epworth.faith
SUMMARY:Alanon Meeting (Branford Room)
DESCRIPTION:
URL:https://epworth.faith/event/alanon-meeting-branford-room-3/2026-07-02/
LOCATION:Epworth United Methodist Church\, 19285 Holland Glade Road\, Rehoboth Beach\, DE\, 19971\, United States
CATEGORIES:Church,Groups
END:VEVENT
BEGIN:VEVENT
DTSTART;TZID=America/New_York:20260702T130000
DTEND;TZID=America/New_York:20260702T143000
DTSTAMP:20260423T170539
CREATED:20260218T181808Z
LAST-MODIFIED:20260218T181808Z
UID:10021431-1782997200-1783002600@epworth.faith
SUMMARY:Social Justice Meeting (Starnes Room)
DESCRIPTION:
URL:https://epworth.faith/event/social-justice-meeting-starnes-room-2/2026-07-02/
LOCATION:Epworth United Methodist Church\, 19285 Holland Glade Road\, Rehoboth Beach\, DE\, 19971\, United States
CATEGORIES:Church,Groups
END:VEVENT
BEGIN:VEVENT
DTSTART;TZID=America/New_York:20260702T150000
DTEND;TZID=America/New_York:20260702T180000
DTSTAMP:20260423T170539
CREATED:20260416T162329Z
LAST-MODIFIED:20260416T162329Z
UID:10022200-1783004400-1783015200@epworth.faith
SUMMARY:Boys & Girls Club Family Fun Night (Back Parking Lot)
DESCRIPTION:
URL:https://epworth.faith/event/boys-girls-club-family-fun-night-back-parking-lot/
LOCATION:Epworth United Methodist Church\, 19285 Holland Glade Road\, Rehoboth Beach\, DE\, 19971\, United States
CATEGORIES:Church,Groups
ORGANIZER;CN="Avara Brown":MAILTO:AvBrown@bgclubs.org
END:VEVENT
BEGIN:VEVENT
DTSTART;TZID=America/New_York:20260702T193000
DTEND;TZID=America/New_York:20260702T203000
DTSTAMP:20260423T170539
CREATED:20240905T122521Z
LAST-MODIFIED:20251023T150301Z
UID:10019834-1783020600-1783024200@epworth.faith
SUMMARY:AA Meeting (Baker Room)
DESCRIPTION:
URL:https://epworth.faith/event/aa-meeting-baker-room/2026-07-02/
LOCATION:Epworth United Methodist Church\, 19285 Holland Glade Road\, Rehoboth Beach\, DE\, 19971\, United States
CATEGORIES:Church,Groups
END:VEVENT
BEGIN:VEVENT
DTSTART;TZID=America/New_York:20260704T090000
DTEND;TZID=America/New_York:20260704T100000
DTSTAMP:20260423T170539
CREATED:20240905T122704Z
LAST-MODIFIED:20251023T150523Z
UID:10020085-1783155600-1783159200@epworth.faith
SUMMARY:ACA Meeting (Baker Room)
DESCRIPTION:
URL:https://epworth.faith/event/aca-meeting-baker-room/2026-07-04/
LOCATION:Epworth United Methodist Church\, 19285 Holland Glade Road\, Rehoboth Beach\, DE\, 19971\, United States
CATEGORIES:Church,Groups
END:VEVENT
BEGIN:VEVENT
DTSTART;TZID=America/New_York:20260704T180000
DTEND;TZID=America/New_York:20260704T190000
DTSTAMP:20260423T170539
CREATED:20240905T122918Z
LAST-MODIFIED:20251023T150738Z
UID:10020336-1783188000-1783191600@epworth.faith
SUMMARY:Alanon Meeting (Baker Room)
DESCRIPTION:
URL:https://epworth.faith/event/alanon-meeting-baker-room-2/2026-07-04/
LOCATION:Epworth United Methodist Church\, 19285 Holland Glade Road\, Rehoboth Beach\, DE\, 19971\, United States
CATEGORIES:Church,Groups
END:VEVENT
BEGIN:VEVENT
DTSTART;TZID=America/New_York:20260704T180000
DTEND;TZID=America/New_York:20260704T190000
DTSTAMP:20260423T170539
CREATED:20240905T123154Z
LAST-MODIFIED:20251023T152520Z
UID:10020587-1783188000-1783191600@epworth.faith
SUMMARY:AA Meeting (Branford Room)
DESCRIPTION:
URL:https://epworth.faith/event/aa-meeting-branford-room/2026-07-04/
LOCATION:Epworth United Methodist Church\, 19285 Holland Glade Road\, Rehoboth Beach\, DE\, 19971\, United States
CATEGORIES:Church,Groups
END:VEVENT
BEGIN:VEVENT
DTSTART;TZID=America/New_York:20260705T100000
DTEND;TZID=America/New_York:20260705T110000
DTSTAMP:20260423T170539
CREATED:20230909T152658Z
LAST-MODIFIED:20230909T161232Z
UID:10009157-1783245600-1783249200@epworth.faith
SUMMARY:Blended ASL Worship Service (Sanctuary & Online)
DESCRIPTION:YouTube Livestream\nYouTube ASL Livestream\nFacebook Livestream
URL:https://epworth.faith/event/blended-worship-service-sanctuary-on-line-2/2026-07-05/
LOCATION:Epworth United Methodist Church\, 19285 Holland Glade Road\, Rehoboth Beach\, DE\, 19971\, United States
CATEGORIES:Worship
ORGANIZER;CN="Vicki Gordy-Stith":MAILTO:vgordy-stith@epworth.faith
END:VEVENT
BEGIN:VEVENT
DTSTART;TZID=America/New_York:20260705T110000
DTEND;TZID=America/New_York:20260705T124500
DTSTAMP:20260423T170539
CREATED:20250303T202501Z
LAST-MODIFIED:20250303T202548Z
UID:10015626-1783249200-1783255500@epworth.faith
SUMMARY:Flower Ministry for Arrangements (Starnes Room)
DESCRIPTION:
URL:https://epworth.faith/event/flower-ministry-for-arrangements-starnes-room/2026-07-05/
LOCATION:Epworth United Methodist Church\, 19285 Holland Glade Road\, Rehoboth Beach\, DE\, 19971\, United States
CATEGORIES:Church,Groups
ORGANIZER;CN="Val Linder":MAILTO:rovalinder@comcast.net
END:VEVENT
BEGIN:VEVENT
DTSTART;TZID=America/New_York:20260705T111500
DTEND;TZID=America/New_York:20260705T114500
DTSTAMP:20260423T170539
CREATED:20251023T142658Z
LAST-MODIFIED:20251023T142658Z
UID:10018077-1783250100-1783251900@epworth.faith
SUMMARY:Stephen Ministry Prayer Chapel (Baker Room)
DESCRIPTION:
URL:https://epworth.faith/event/stephen-ministry-prayer-chapel-baker-room-2/2026-07-05/
LOCATION:Epworth United Methodist Church\, 19285 Holland Glade Road\, Rehoboth Beach\, DE\, 19971\, United States
CATEGORIES:Church,Groups
END:VEVENT
BEGIN:VEVENT
DTSTART;TZID=America/New_York:20260706T170000
DTEND;TZID=America/New_York:20260706T180000
DTSTAMP:20260423T170539
CREATED:20240905T122003Z
LAST-MODIFIED:20251023T143906Z
UID:10018328-1783357200-1783360800@epworth.faith
SUMMARY:Alanon Newcomers (Baker Room)
DESCRIPTION:
URL:https://epworth.faith/event/alanon-newcomers-baker-room/2026-07-06/
LOCATION:Epworth United Methodist Church\, 19285 Holland Glade Road\, Rehoboth Beach\, DE\, 19971\, United States
CATEGORIES:Church,Groups
END:VEVENT
BEGIN:VEVENT
DTSTART;TZID=America/New_York:20260706T180000
DTEND;TZID=America/New_York:20260706T190000
DTSTAMP:20260423T170539
CREATED:20240905T122138Z
LAST-MODIFIED:20251023T144119Z
UID:10018579-1783360800-1783364400@epworth.faith
SUMMARY:Alanon Meeting (Branford Room)
DESCRIPTION:
URL:https://epworth.faith/event/alanon-meeting-branford-room-2/2026-07-06/
LOCATION:Epworth United Methodist Church\, 19285 Holland Glade Road\, Rehoboth Beach\, DE\, 19971\, United States
CATEGORIES:Church,Groups
END:VEVENT
BEGIN:VEVENT
DTSTART;TZID=America/New_York:20260706T180000
DTEND;TZID=America/New_York:20260706T193000
DTSTAMP:20260423T170539
CREATED:20250925T182614Z
LAST-MODIFIED:20250929T160622Z
UID:10017777-1783360800-1783366200@epworth.faith
SUMMARY:Social Justice Meeting (Starnes Room)
DESCRIPTION:
URL:https://epworth.faith/event/social-justice-meeting-starnes-room/2026-07-06/
LOCATION:Epworth United Methodist Church\, 19285 Holland Glade Road\, Rehoboth Beach\, DE\, 19971\, United States
CATEGORIES:Church,Groups
END:VEVENT
BEGIN:VEVENT
DTSTART;TZID=America/New_York:20260707T120000
DTEND;TZID=America/New_York:20260707T140000
DTSTAMP:20260423T170539
CREATED:20231101T154604Z
LAST-MODIFIED:20231101T154604Z
UID:10010591-1783425600-1783432800@epworth.faith
SUMMARY:Staff Meeting (Conference Room)
DESCRIPTION:
URL:https://epworth.faith/event/staff-meeting-conference-room/2026-07-07/
LOCATION:Epworth United Methodist Church\, 19285 Holland Glade Road\, Rehoboth Beach\, DE\, 19971\, United States
CATEGORIES:Church,Staff
ORGANIZER;CN="Vicki Gordy-Stith":MAILTO:vgordy-stith@epworth.faith
END:VEVENT
BEGIN:VEVENT
DTSTART;TZID=America/New_York:20260707T180000
DTEND;TZID=America/New_York:20260707T190000
DTSTAMP:20260423T170539
CREATED:20240905T121346Z
LAST-MODIFIED:20251023T144445Z
UID:10018830-1783447200-1783450800@epworth.faith
SUMMARY:Alanon Meeting (Branford Room)
DESCRIPTION:
URL:https://epworth.faith/event/alanon-meeting-branford-room/2026-07-07/
LOCATION:Epworth United Methodist Church\, 19285 Holland Glade Road\, Rehoboth Beach\, DE\, 19971\, United States
CATEGORIES:Church,Groups
END:VEVENT
BEGIN:VEVENT
DTSTART;TZID=America/New_York:20260707T180000
DTEND;TZID=America/New_York:20260707T200000
DTSTAMP:20260423T170539
CREATED:20250529T174528Z
LAST-MODIFIED:20250529T174528Z
UID:10016765-1783447200-1783454400@epworth.faith
SUMMARY:SPRC Meeting (Office Conference Room)
DESCRIPTION:
URL:https://epworth.faith/event/sprc-meeting-office-conference-room/2026-07-07/
LOCATION:Epworth United Methodist Church\, 19285 Holland Glade Road\, Rehoboth Beach\, DE\, 19971\, United States
CATEGORIES:Church,Groups
ORGANIZER;CN="Sandy Pierce":MAILTO:sfpierce01@gmail.com
END:VEVENT
BEGIN:VEVENT
DTSTART;TZID=America/New_York:20260707T184500
DTEND;TZID=America/New_York:20260707T200000
DTSTAMP:20260423T170539
CREATED:20250821T173340Z
LAST-MODIFIED:20250821T173340Z
UID:10017071-1783449900-1783454400@epworth.faith
SUMMARY:Faith Friends & Issues Group (Zoom)
DESCRIPTION:
URL:https://epworth.faith/event/faith-friends-issues-group-zoom/2026-07-07/
LOCATION:Epworth United Methodist Church\, 19285 Holland Glade Road\, Rehoboth Beach\, DE\, 19971\, United States
CATEGORIES:Church,Groups
ORGANIZER;CN="Sandy Paulen":MAILTO:sandypaulen@gmail.com
END:VEVENT
END:VCALENDAR