BEGIN:VCALENDAR
VERSION:2.0
PRODID:-//Epworth UMC - ECPv6.15.20//NONSGML v1.0//EN
CALSCALE:GREGORIAN
METHOD:PUBLISH
X-WR-CALNAME:Epworth UMC
X-ORIGINAL-URL:https://epworth.faith
X-WR-CALDESC:Events for Epworth UMC
REFRESH-INTERVAL;VALUE=DURATION:PT1H
X-Robots-Tag:noindex
X-PUBLISHED-TTL:PT1H
BEGIN:VTIMEZONE
TZID:America/New_York
BEGIN:DAYLIGHT
TZOFFSETFROM:-0500
TZOFFSETTO:-0400
TZNAME:EDT
DTSTART:20240310T070000
END:DAYLIGHT
BEGIN:STANDARD
TZOFFSETFROM:-0400
TZOFFSETTO:-0500
TZNAME:EST
DTSTART:20241103T060000
END:STANDARD
BEGIN:DAYLIGHT
TZOFFSETFROM:-0500
TZOFFSETTO:-0400
TZNAME:EDT
DTSTART:20250309T070000
END:DAYLIGHT
BEGIN:STANDARD
TZOFFSETFROM:-0400
TZOFFSETTO:-0500
TZNAME:EST
DTSTART:20251102T060000
END:STANDARD
BEGIN:DAYLIGHT
TZOFFSETFROM:-0500
TZOFFSETTO:-0400
TZNAME:EDT
DTSTART:20260308T070000
END:DAYLIGHT
BEGIN:STANDARD
TZOFFSETFROM:-0400
TZOFFSETTO:-0500
TZNAME:EST
DTSTART:20261101T060000
END:STANDARD
END:VTIMEZONE
BEGIN:VEVENT
DTSTART;TZID=America/New_York:20250528T120000
DTEND;TZID=America/New_York:20250528T140000
DTSTAMP:20260425T122625
CREATED:20250521T140023Z
LAST-MODIFIED:20250521T140023Z
UID:10016544-1748433600-1748440800@epworth.faith
SUMMARY:Fundraising Committee Meeting (Office Conference Room)
DESCRIPTION:
URL:https://epworth.faith/event/fundraising-committee-meeting-office-conference-room-7/
LOCATION:Epworth United Methodist Church\, 19285 Holland Glade Road\, Rehoboth Beach\, DE\, 19971\, United States
CATEGORIES:Church,Groups
ORGANIZER;CN="Susan Jimenez":MAILTO:saj19971@gmail.com
END:VEVENT
BEGIN:VEVENT
DTSTART;TZID=America/New_York:20250528T130000
DTEND;TZID=America/New_York:20250528T143000
DTSTAMP:20260425T122625
CREATED:20250227T142434Z
LAST-MODIFIED:20250227T142434Z
UID:10015549-1748437200-1748442600@epworth.faith
SUMMARY:Moms Demand Action Meeting (Starnes Room)
DESCRIPTION:
URL:https://epworth.faith/event/moms-demand-action-meeting-starnes-room-3/
LOCATION:Epworth United Methodist Church\, 19285 Holland Glade Road\, Rehoboth Beach\, DE\, 19971\, United States
CATEGORIES:Church,Groups
END:VEVENT
BEGIN:VEVENT
DTSTART;TZID=America/New_York:20250528T173000
DTEND;TZID=America/New_York:20250528T183000
DTSTAMP:20260425T122625
CREATED:20250116T215058Z
LAST-MODIFIED:20250911T132405Z
UID:10017352-1748453400-1748457000@epworth.faith
SUMMARY:Chancel Choir Practice (Music Room)
DESCRIPTION:
URL:https://epworth.faith/event/chancel-choir-practice-music-room-2/2025-05-28/
LOCATION:Epworth United Methodist Church\, 19285 Holland Glade Road\, Rehoboth Beach\, DE\, 19971\, United States
CATEGORIES:Church,Groups
ORGANIZER;CN="Doug Yetter":MAILTO:dyetter@epworth.faith
END:VEVENT
BEGIN:VEVENT
DTSTART;TZID=America/New_York:20250528T173000
DTEND;TZID=America/New_York:20250528T183000
DTSTAMP:20260425T122625
CREATED:20250116T215324Z
LAST-MODIFIED:20250528T122635Z
UID:10016595-1748453400-1748457000@epworth.faith
SUMMARY:Memorial Bells Practice (Music Room)
DESCRIPTION:
URL:https://epworth.faith/event/memorial-bells-practice-music-room/2025-05-28/
LOCATION:Epworth United Methodist Church\, 19285 Holland Glade Road\, Rehoboth Beach\, DE\, 19971\, United States
CATEGORIES:Church,Music
ORGANIZER;CN="Doug Yetter":MAILTO:dyetter@epworth.faith
END:VEVENT
BEGIN:VEVENT
DTSTART;TZID=America/New_York:20250529T093000
DTEND;TZID=America/New_York:20250529T103000
DTSTAMP:20260425T122625
CREATED:20250521T185021Z
LAST-MODIFIED:20260205T141334Z
UID:10016546-1748511000-1748514600@epworth.faith
SUMMARY:Alzheimer/Dementia Support Group (Baker Room)
DESCRIPTION:
URL:https://epworth.faith/event/alzheimer-dementia-support-group-baker-room/2025-05-29/
LOCATION:Epworth United Methodist Church\, 19285 Holland Glade Road\, Rehoboth Beach\, DE\, 19971\, United States
CATEGORIES:Church,Groups
ORGANIZER;CN="Harry Martens":MAILTO:HMartensiii@gmail.com
END:VEVENT
BEGIN:VEVENT
DTSTART;TZID=America/New_York:20250529T100000
DTEND;TZID=America/New_York:20250529T113000
DTSTAMP:20260425T122625
CREATED:20250513T185955Z
LAST-MODIFIED:20250513T185955Z
UID:10016467-1748512800-1748518200@epworth.faith
SUMMARY:Parkinson's Voice Project Choir (Music Room)
DESCRIPTION:
URL:https://epworth.faith/event/parkinsons-voice-project-choir-music-room/2025-05-29/
LOCATION:Epworth United Methodist Church\, 19285 Holland Glade Road\, Rehoboth Beach\, DE\, 19971\, United States
CATEGORIES:Church,Groups
ORGANIZER;CN="Doug Yetter":MAILTO:dyetter@epworth.faith
END:VEVENT
BEGIN:VEVENT
DTSTART;TZID=America/New_York:20250529T110000
DTEND;TZID=America/New_York:20250529T120000
DTSTAMP:20260425T122625
CREATED:20250513T184931Z
LAST-MODIFIED:20260129T210925Z
UID:10016433-1748516400-1748520000@epworth.faith
SUMMARY:Grief Group (Baker Room)
DESCRIPTION:
URL:https://epworth.faith/event/grief-group-baker-room/2025-05-29/
LOCATION:Epworth United Methodist Church\, 19285 Holland Glade Road\, Rehoboth Beach\, DE\, 19971\, United States
ORGANIZER;CN="Vicki Gordy-Stith":MAILTO:vgordy-stith@epworth.faith
END:VEVENT
BEGIN:VEVENT
DTSTART;TZID=America/New_York:20250529T120000
DTEND;TZID=America/New_York:20250529T130000
DTSTAMP:20260425T122625
CREATED:20240905T122329Z
LAST-MODIFIED:20251023T150055Z
UID:10014390-1748520000-1748523600@epworth.faith
SUMMARY:Alanon Meeting (Branford Room)
DESCRIPTION:
URL:https://epworth.faith/event/alanon-meeting-branford-room-3/2025-05-29/
LOCATION:Epworth United Methodist Church\, 19285 Holland Glade Road\, Rehoboth Beach\, DE\, 19971\, United States
CATEGORIES:Church,Groups
END:VEVENT
BEGIN:VEVENT
DTSTART;TZID=America/New_York:20250529T130000
DTEND;TZID=America/New_York:20250529T143000
DTSTAMP:20260425T122625
CREATED:20250519T164054Z
LAST-MODIFIED:20250519T164054Z
UID:10016536-1748523600-1748529000@epworth.faith
SUMMARY:Church Directory Team (Office Conference Room)
DESCRIPTION:
URL:https://epworth.faith/event/church-directory-team-office-conference-room/
LOCATION:Epworth United Methodist Church\, 19285 Holland Glade Road\, Rehoboth Beach\, DE\, 19971\, United States
CATEGORIES:Church,Groups
ORGANIZER;CN="Rick Buske":MAILTO:rick.buske@gmail.com
END:VEVENT
BEGIN:VEVENT
DTSTART;TZID=America/New_York:20250529T193000
DTEND;TZID=America/New_York:20250529T203000
DTSTAMP:20260425T122625
CREATED:20240905T122521Z
LAST-MODIFIED:20251023T150301Z
UID:10014442-1748547000-1748550600@epworth.faith
SUMMARY:AA Meeting (Baker Room)
DESCRIPTION:
URL:https://epworth.faith/event/aa-meeting-baker-room/2025-05-29/
LOCATION:Epworth United Methodist Church\, 19285 Holland Glade Road\, Rehoboth Beach\, DE\, 19971\, United States
CATEGORIES:Church,Groups
END:VEVENT
BEGIN:VEVENT
DTSTART;TZID=America/New_York:20250530T190000
DTEND;TZID=America/New_York:20250530T203000
DTSTAMP:20260425T122625
CREATED:20250325T192303Z
LAST-MODIFIED:20250325T192304Z
UID:10016006-1748631600-1748637000@epworth.faith
SUMMARY:Peace Prayer Vigil (Parking Lot)
DESCRIPTION:
URL:https://epworth.faith/event/peace-prayer-vigil-parking-lot/
LOCATION:Epworth United Methodist Church\, 19285 Holland Glade Road\, Rehoboth Beach\, DE\, 19971\, United States
CATEGORIES:Church,Neighborhood/Community Groups
ORGANIZER;CN="Vicki Gordy-Stith":MAILTO:vgordy-stith@epworth.faith
END:VEVENT
BEGIN:VEVENT
DTSTART;TZID=America/New_York:20250531T090000
DTEND;TZID=America/New_York:20250531T100000
DTSTAMP:20260425T122625
CREATED:20240905T122704Z
LAST-MODIFIED:20251023T150523Z
UID:10014494-1748682000-1748685600@epworth.faith
SUMMARY:ACA Meeting (Baker Room)
DESCRIPTION:
URL:https://epworth.faith/event/aca-meeting-baker-room/2025-05-31/
LOCATION:Epworth United Methodist Church\, 19285 Holland Glade Road\, Rehoboth Beach\, DE\, 19971\, United States
CATEGORIES:Church,Groups
END:VEVENT
BEGIN:VEVENT
DTSTART;TZID=America/New_York:20250531T180000
DTEND;TZID=America/New_York:20250531T190000
DTSTAMP:20260425T122625
CREATED:20240905T122918Z
LAST-MODIFIED:20251023T150738Z
UID:10014546-1748714400-1748718000@epworth.faith
SUMMARY:Alanon Meeting (Baker Room)
DESCRIPTION:
URL:https://epworth.faith/event/alanon-meeting-baker-room-2/2025-05-31/
LOCATION:Epworth United Methodist Church\, 19285 Holland Glade Road\, Rehoboth Beach\, DE\, 19971\, United States
CATEGORIES:Church,Groups
END:VEVENT
BEGIN:VEVENT
DTSTART;TZID=America/New_York:20250531T180000
DTEND;TZID=America/New_York:20250531T190000
DTSTAMP:20260425T122625
CREATED:20240905T123154Z
LAST-MODIFIED:20251023T152520Z
UID:10014598-1748714400-1748718000@epworth.faith
SUMMARY:AA Meeting (Branford Room)
DESCRIPTION:
URL:https://epworth.faith/event/aa-meeting-branford-room/2025-05-31/
LOCATION:Epworth United Methodist Church\, 19285 Holland Glade Road\, Rehoboth Beach\, DE\, 19971\, United States
CATEGORIES:Church,Groups
END:VEVENT
BEGIN:VEVENT
DTSTART;TZID=America/New_York:20250601T100000
DTEND;TZID=America/New_York:20250601T110000
DTSTAMP:20260425T122625
CREATED:20230909T152658Z
LAST-MODIFIED:20230909T161232Z
UID:10009100-1748772000-1748775600@epworth.faith
SUMMARY:Blended ASL Worship Service (Sanctuary & Online)
DESCRIPTION:YouTube Livestream\nYouTube ASL Livestream\nFacebook Livestream
URL:https://epworth.faith/event/blended-worship-service-sanctuary-on-line-2/2025-06-01/
LOCATION:Epworth United Methodist Church\, 19285 Holland Glade Road\, Rehoboth Beach\, DE\, 19971\, United States
CATEGORIES:Worship
ORGANIZER;CN="Vicki Gordy-Stith":MAILTO:vgordy-stith@epworth.faith
END:VEVENT
BEGIN:VEVENT
DTSTART;TZID=America/New_York:20250601T110000
DTEND;TZID=America/New_York:20250601T124500
DTSTAMP:20260425T122625
CREATED:20250303T202501Z
LAST-MODIFIED:20250303T202548Z
UID:10015569-1748775600-1748781900@epworth.faith
SUMMARY:Flower Ministry for Arrangements (Starnes Room)
DESCRIPTION:
URL:https://epworth.faith/event/flower-ministry-for-arrangements-starnes-room/2025-06-01/
LOCATION:Epworth United Methodist Church\, 19285 Holland Glade Road\, Rehoboth Beach\, DE\, 19971\, United States
CATEGORIES:Church,Groups
ORGANIZER;CN="Val Linder":MAILTO:rovalinder@comcast.net
END:VEVENT
BEGIN:VEVENT
DTSTART;TZID=America/New_York:20250601T111500
DTEND;TZID=America/New_York:20250601T114500
DTSTAMP:20260425T122625
CREATED:20241120T193843Z
LAST-MODIFIED:20241120T193843Z
UID:10015207-1748776500-1748778300@epworth.faith
SUMMARY:Stephen Ministry Prayer Chapel (Baker Room)
DESCRIPTION:
URL:https://epworth.faith/event/stephen-ministry-prayer-chapel-baker-room/2025-06-01/
LOCATION:Epworth United Methodist Church\, 19285 Holland Glade Road\, Rehoboth Beach\, DE\, 19971\, United States
CATEGORIES:Church,Groups
END:VEVENT
BEGIN:VEVENT
DTSTART;TZID=America/New_York:20250601T113000
DTEND;TZID=America/New_York:20250601T130000
DTSTAMP:20260425T122625
CREATED:20250318T193540Z
LAST-MODIFIED:20250318T193540Z
UID:10015906-1748777400-1748782800@epworth.faith
SUMMARY:New Member Class (Office Conference Room)
DESCRIPTION:
URL:https://epworth.faith/event/new-member-class-office-conference-room/
LOCATION:Epworth United Methodist Church\, 19285 Holland Glade Road\, Rehoboth Beach\, DE\, 19971\, United States
CATEGORIES:Church,Groups
ORGANIZER;CN="Todd Popham":MAILTO:sakjstr@udel.edu
END:VEVENT
BEGIN:VEVENT
DTSTART;TZID=America/New_York:20250602T170000
DTEND;TZID=America/New_York:20250602T180000
DTSTAMP:20260425T122625
CREATED:20240905T122003Z
LAST-MODIFIED:20251023T143906Z
UID:10014286-1748883600-1748887200@epworth.faith
SUMMARY:Alanon Newcomers (Baker Room)
DESCRIPTION:
URL:https://epworth.faith/event/alanon-newcomers-baker-room/2025-06-02/
LOCATION:Epworth United Methodist Church\, 19285 Holland Glade Road\, Rehoboth Beach\, DE\, 19971\, United States
CATEGORIES:Church,Groups
END:VEVENT
BEGIN:VEVENT
DTSTART;TZID=America/New_York:20250602T180000
DTEND;TZID=America/New_York:20250602T190000
DTSTAMP:20260425T122625
CREATED:20240905T122138Z
LAST-MODIFIED:20251023T144119Z
UID:10014338-1748887200-1748890800@epworth.faith
SUMMARY:Alanon Meeting (Branford Room)
DESCRIPTION:
URL:https://epworth.faith/event/alanon-meeting-branford-room-2/2025-06-02/
LOCATION:Epworth United Methodist Church\, 19285 Holland Glade Road\, Rehoboth Beach\, DE\, 19971\, United States
CATEGORIES:Church,Groups
END:VEVENT
BEGIN:VEVENT
DTSTART;TZID=America/New_York:20250602T183000
DTEND;TZID=America/New_York:20250602T203000
DTSTAMP:20260425T122625
CREATED:20240716T191053Z
LAST-MODIFIED:20240716T191053Z
UID:10013981-1748889000-1748896200@epworth.faith
SUMMARY:Camp Rehoboth Dress Rehearsal (Sanctuary & Music Room)
DESCRIPTION:
URL:https://epworth.faith/event/camp-rehoboth-dress-rehearsal-sanctuary-music-room-3/
LOCATION:Epworth United Methodist Church\, 19285 Holland Glade Road\, Rehoboth Beach\, DE\, 19971\, United States
CATEGORIES:Church,Concerts,Facility Rentals
ORGANIZER;CN="David Scuccimarra":MAILTO:Scuch@aol.com
END:VEVENT
BEGIN:VEVENT
DTSTART;TZID=America/New_York:20250603T120000
DTEND;TZID=America/New_York:20250603T140000
DTSTAMP:20260425T122625
CREATED:20231101T154604Z
LAST-MODIFIED:20231101T154604Z
UID:10010534-1748952000-1748959200@epworth.faith
SUMMARY:Staff Meeting (Conference Room)
DESCRIPTION:
URL:https://epworth.faith/event/staff-meeting-conference-room/2025-06-03/
LOCATION:Epworth United Methodist Church\, 19285 Holland Glade Road\, Rehoboth Beach\, DE\, 19971\, United States
CATEGORIES:Church,Staff
ORGANIZER;CN="Vicki Gordy-Stith":MAILTO:vgordy-stith@epworth.faith
END:VEVENT
BEGIN:VEVENT
DTSTART;TZID=America/New_York:20250603T180000
DTEND;TZID=America/New_York:20250603T190000
DTSTAMP:20260425T122625
CREATED:20240905T121346Z
LAST-MODIFIED:20251023T144445Z
UID:10014130-1748973600-1748977200@epworth.faith
SUMMARY:Alanon Meeting (Branford Room)
DESCRIPTION:
URL:https://epworth.faith/event/alanon-meeting-branford-room/2025-06-03/
LOCATION:Epworth United Methodist Church\, 19285 Holland Glade Road\, Rehoboth Beach\, DE\, 19971\, United States
CATEGORIES:Church,Groups
END:VEVENT
BEGIN:VEVENT
DTSTART;TZID=America/New_York:20250603T180000
DTEND;TZID=America/New_York:20250603T200000
DTSTAMP:20260425T122625
CREATED:20250529T174528Z
LAST-MODIFIED:20250529T174528Z
UID:10016752-1748973600-1748980800@epworth.faith
SUMMARY:SPRC Meeting (Office Conference Room)
DESCRIPTION:
URL:https://epworth.faith/event/sprc-meeting-office-conference-room/2025-06-03/
LOCATION:Epworth United Methodist Church\, 19285 Holland Glade Road\, Rehoboth Beach\, DE\, 19971\, United States
CATEGORIES:Church,Groups
ORGANIZER;CN="Sandy Pierce":MAILTO:sfpierce01@gmail.com
END:VEVENT
BEGIN:VEVENT
DTSTART;TZID=America/New_York:20250603T190000
DTEND;TZID=America/New_York:20250603T200000
DTSTAMP:20260425T122625
CREATED:20240905T121615Z
LAST-MODIFIED:20251023T144756Z
UID:10014182-1748977200-1748980800@epworth.faith
SUMMARY:Alanon Meeting (Baker Room)
DESCRIPTION:
URL:https://epworth.faith/event/alanon-meeting-baker-room/2025-06-03/
LOCATION:Epworth United Methodist Church\, 19285 Holland Glade Road\, Rehoboth Beach\, DE\, 19971\, United States
CATEGORIES:Church,Groups
END:VEVENT
BEGIN:VEVENT
DTSTART;TZID=America/New_York:20250603T190000
DTEND;TZID=America/New_York:20250603T200000
DTSTAMP:20260425T122625
CREATED:20240905T121808Z
LAST-MODIFIED:20251023T145128Z
UID:10014234-1748977200-1748980800@epworth.faith
SUMMARY:AA Meeting (Music Room)
DESCRIPTION:
URL:https://epworth.faith/event/aa-meeting-music-room/2025-06-03/
LOCATION:Epworth United Methodist Church\, 19285 Holland Glade Road\, Rehoboth Beach\, DE\, 19971\, United States
CATEGORIES:Church,Groups
END:VEVENT
BEGIN:VEVENT
DTSTART;TZID=America/New_York:20250604T173000
DTEND;TZID=America/New_York:20250604T183000
DTSTAMP:20260425T122625
CREATED:20250116T215058Z
LAST-MODIFIED:20250911T132405Z
UID:10017353-1749058200-1749061800@epworth.faith
SUMMARY:Chancel Choir Practice (Music Room)
DESCRIPTION:
URL:https://epworth.faith/event/chancel-choir-practice-music-room-2/2025-06-04/
LOCATION:Epworth United Methodist Church\, 19285 Holland Glade Road\, Rehoboth Beach\, DE\, 19971\, United States
CATEGORIES:Church,Groups
ORGANIZER;CN="Doug Yetter":MAILTO:dyetter@epworth.faith
END:VEVENT
BEGIN:VEVENT
DTSTART;TZID=America/New_York:20250604T173000
DTEND;TZID=America/New_York:20250604T183000
DTSTAMP:20260425T122625
CREATED:20250116T215324Z
LAST-MODIFIED:20250528T122635Z
UID:10016596-1749058200-1749061800@epworth.faith
SUMMARY:Memorial Bells Practice (Music Room)
DESCRIPTION:
URL:https://epworth.faith/event/memorial-bells-practice-music-room/2025-06-04/
LOCATION:Epworth United Methodist Church\, 19285 Holland Glade Road\, Rehoboth Beach\, DE\, 19971\, United States
CATEGORIES:Church,Music
ORGANIZER;CN="Doug Yetter":MAILTO:dyetter@epworth.faith
END:VEVENT
BEGIN:VEVENT
DTSTART;TZID=America/New_York:20250604T183000
DTEND;TZID=America/New_York:20250604T210000
DTSTAMP:20260425T122625
CREATED:20240321T141039Z
LAST-MODIFIED:20240321T141039Z
UID:10012466-1749061800-1749070800@epworth.faith
SUMMARY:ManKind Project (MKP) (Baker Lounge)
DESCRIPTION:
URL:https://epworth.faith/event/mankind-project-mkp-baker-lounge-3/2025-06-04/
LOCATION:Epworth United Methodist Church\, 19285 Holland Glade Road\, Rehoboth Beach\, DE\, 19971\, United States
CATEGORIES:Church,Groups
ORGANIZER;CN="Rick Buske":MAILTO:rick.buske@gmail.com
END:VEVENT
BEGIN:VEVENT
DTSTART;TZID=America/New_York:20250605T093000
DTEND;TZID=America/New_York:20250605T103000
DTSTAMP:20260425T122625
CREATED:20250521T185021Z
LAST-MODIFIED:20260205T141334Z
UID:10016547-1749115800-1749119400@epworth.faith
SUMMARY:Alzheimer/Dementia Support Group (Baker Room)
DESCRIPTION:
URL:https://epworth.faith/event/alzheimer-dementia-support-group-baker-room/2025-06-05/
LOCATION:Epworth United Methodist Church\, 19285 Holland Glade Road\, Rehoboth Beach\, DE\, 19971\, United States
CATEGORIES:Church,Groups
ORGANIZER;CN="Harry Martens":MAILTO:HMartensiii@gmail.com
END:VEVENT
END:VCALENDAR