BEGIN:VCALENDAR
VERSION:2.0
PRODID:-//Epworth UMC - ECPv6.15.20//NONSGML v1.0//EN
CALSCALE:GREGORIAN
METHOD:PUBLISH
X-WR-CALNAME:Epworth UMC
X-ORIGINAL-URL:https://epworth.faith
X-WR-CALDESC:Events for Epworth UMC
REFRESH-INTERVAL;VALUE=DURATION:PT1H
X-Robots-Tag:noindex
X-PUBLISHED-TTL:PT1H
BEGIN:VTIMEZONE
TZID:America/New_York
BEGIN:DAYLIGHT
TZOFFSETFROM:-0500
TZOFFSETTO:-0400
TZNAME:EDT
DTSTART:20240310T070000
END:DAYLIGHT
BEGIN:STANDARD
TZOFFSETFROM:-0400
TZOFFSETTO:-0500
TZNAME:EST
DTSTART:20241103T060000
END:STANDARD
BEGIN:DAYLIGHT
TZOFFSETFROM:-0500
TZOFFSETTO:-0400
TZNAME:EDT
DTSTART:20250309T070000
END:DAYLIGHT
BEGIN:STANDARD
TZOFFSETFROM:-0400
TZOFFSETTO:-0500
TZNAME:EST
DTSTART:20251102T060000
END:STANDARD
BEGIN:DAYLIGHT
TZOFFSETFROM:-0500
TZOFFSETTO:-0400
TZNAME:EDT
DTSTART:20260308T070000
END:DAYLIGHT
BEGIN:STANDARD
TZOFFSETFROM:-0400
TZOFFSETTO:-0500
TZNAME:EST
DTSTART:20261101T060000
END:STANDARD
END:VTIMEZONE
BEGIN:VEVENT
DTSTART;TZID=America/New_York:20250909T120000
DTEND;TZID=America/New_York:20250909T140000
DTSTAMP:20260425T120447
CREATED:20231101T154604Z
LAST-MODIFIED:20231101T154604Z
UID:10010548-1757419200-1757426400@epworth.faith
SUMMARY:Staff Meeting (Conference Room)
DESCRIPTION:
URL:https://epworth.faith/event/staff-meeting-conference-room/2025-09-09/
LOCATION:Epworth United Methodist Church\, 19285 Holland Glade Road\, Rehoboth Beach\, DE\, 19971\, United States
CATEGORIES:Church,Staff
ORGANIZER;CN="Vicki Gordy-Stith":MAILTO:vgordy-stith@epworth.faith
END:VEVENT
BEGIN:VEVENT
DTSTART;TZID=America/New_York:20250909T140000
DTEND;TZID=America/New_York:20250909T153000
DTSTAMP:20260425T120447
CREATED:20250826T132411Z
LAST-MODIFIED:20250826T132411Z
UID:10017243-1757426400-1757431800@epworth.faith
SUMMARY:Strategic Planning for Clear Space Meeting (Baker Room)
DESCRIPTION:
URL:https://epworth.faith/event/strategic-planning-for-clear-space-meeting-baker-room-2/
LOCATION:Epworth United Methodist Church\, 19285 Holland Glade Road\, Rehoboth Beach\, DE\, 19971\, United States
CATEGORIES:Church,Groups
END:VEVENT
BEGIN:VEVENT
DTSTART;TZID=America/New_York:20250909T140000
DTEND;TZID=America/New_York:20250909T170000
DTSTAMP:20260425T120447
CREATED:20250709T184523Z
LAST-MODIFIED:20250709T184523Z
UID:10016985-1757426400-1757437200@epworth.faith
SUMMARY:Stitching Group (Branford Room)
DESCRIPTION:
URL:https://epworth.faith/event/stitching-group-branford-room/2025-09-09/
LOCATION:Epworth United Methodist Church\, 19285 Holland Glade Road\, Rehoboth Beach\, DE\, 19971\, United States
CATEGORIES:Church,Groups
END:VEVENT
BEGIN:VEVENT
DTSTART;TZID=America/New_York:20250909T180000
DTEND;TZID=America/New_York:20250909T190000
DTSTAMP:20260425T120447
CREATED:20240905T121346Z
LAST-MODIFIED:20251023T144445Z
UID:10014144-1757440800-1757444400@epworth.faith
SUMMARY:Alanon Meeting (Branford Room)
DESCRIPTION:
URL:https://epworth.faith/event/alanon-meeting-branford-room/2025-09-09/
LOCATION:Epworth United Methodist Church\, 19285 Holland Glade Road\, Rehoboth Beach\, DE\, 19971\, United States
CATEGORIES:Church,Groups
END:VEVENT
BEGIN:VEVENT
DTSTART;TZID=America/New_York:20250909T180000
DTEND;TZID=America/New_York:20250909T200000
DTSTAMP:20260425T120447
CREATED:20250709T125038Z
LAST-MODIFIED:20250709T125038Z
UID:10016858-1757440800-1757448000@epworth.faith
SUMMARY:Trustee Committee Meeting (Zoom)
DESCRIPTION:
URL:https://epworth.faith/event/trustee-committee-meeting-zoom/2025-09-09/
LOCATION:Epworth United Methodist Church\, 19285 Holland Glade Road\, Rehoboth Beach\, DE\, 19971\, United States
ORGANIZER;CN="Tom Lewis":MAILTO:mathguy29@yahoo.com
END:VEVENT
BEGIN:VEVENT
DTSTART;TZID=America/New_York:20250909T190000
DTEND;TZID=America/New_York:20250909T200000
DTSTAMP:20260425T120447
CREATED:20240905T121615Z
LAST-MODIFIED:20251023T144756Z
UID:10014196-1757444400-1757448000@epworth.faith
SUMMARY:Alanon Meeting (Baker Room)
DESCRIPTION:
URL:https://epworth.faith/event/alanon-meeting-baker-room/2025-09-09/
LOCATION:Epworth United Methodist Church\, 19285 Holland Glade Road\, Rehoboth Beach\, DE\, 19971\, United States
CATEGORIES:Church,Groups
END:VEVENT
BEGIN:VEVENT
DTSTART;TZID=America/New_York:20250909T190000
DTEND;TZID=America/New_York:20250909T200000
DTSTAMP:20260425T120447
CREATED:20240905T121808Z
LAST-MODIFIED:20251023T145128Z
UID:10014248-1757444400-1757448000@epworth.faith
SUMMARY:AA Meeting (Music Room)
DESCRIPTION:
URL:https://epworth.faith/event/aa-meeting-music-room/2025-09-09/
LOCATION:Epworth United Methodist Church\, 19285 Holland Glade Road\, Rehoboth Beach\, DE\, 19971\, United States
CATEGORIES:Church,Groups
END:VEVENT
BEGIN:VEVENT
DTSTART;TZID=America/New_York:20250910T090000
DTEND;TZID=America/New_York:20250910T160000
DTSTAMP:20260425T120447
CREATED:20250903T183307Z
LAST-MODIFIED:20250903T183307Z
UID:10017285-1757494800-1757520000@epworth.faith
SUMMARY:Board of Ordained Ministries Meeting (Branford Room)
DESCRIPTION:
URL:https://epworth.faith/event/board-of-ordained-ministries-meeting-branford-room/
LOCATION:Epworth United Methodist Church\, 19285 Holland Glade Road\, Rehoboth Beach\, DE\, 19971\, United States
CATEGORIES:Church,Groups
ORGANIZER;CN="Vicki Gordy-Stith":MAILTO:vgordy-stith@epworth.faith
END:VEVENT
BEGIN:VEVENT
DTSTART;TZID=America/New_York:20250910T120000
DTEND;TZID=America/New_York:20250910T140000
DTSTAMP:20260425T120447
CREATED:20250828T195210Z
LAST-MODIFIED:20250828T195210Z
UID:10017284-1757505600-1757512800@epworth.faith
SUMMARY:Fundraising Committee Meeting (Office Conference Room)
DESCRIPTION:
URL:https://epworth.faith/event/fundraising-committee-meeting-office-conference-room-9/
LOCATION:Epworth United Methodist Church\, 19285 Holland Glade Road\, Rehoboth Beach\, DE\, 19971\, United States
CATEGORIES:Church,Groups
ORGANIZER;CN="Sue Brenton":MAILTO:myshadow143@verizon.net
END:VEVENT
BEGIN:VEVENT
DTSTART;TZID=America/New_York:20250910T130000
DTEND;TZID=America/New_York:20250910T150000
DTSTAMP:20260425T120447
CREATED:20250109T161802Z
LAST-MODIFIED:20250109T161802Z
UID:10015334-1757509200-1757516400@epworth.faith
SUMMARY:Moms Deman Action (Starnes Room)
DESCRIPTION:
URL:https://epworth.faith/event/moms-deman-action-starnes-room/2025-09-10/
LOCATION:Epworth United Methodist Church\, 19285 Holland Glade Road\, Rehoboth Beach\, DE\, 19971\, United States
CATEGORIES:Church,Groups
END:VEVENT
BEGIN:VEVENT
DTSTART;TZID=America/New_York:20250910T163000
DTEND;TZID=America/New_York:20250910T173000
DTSTAMP:20260425T120447
CREATED:20250528T122948Z
LAST-MODIFIED:20250911T130205Z
UID:10017293-1757521800-1757525400@epworth.faith
SUMMARY:Memorial Bells Practice (Music Room)
DESCRIPTION:
URL:https://epworth.faith/event/memorial-bells-practice-music-room-2/2025-09-10/
LOCATION:Epworth United Methodist Church\, 19285 Holland Glade Road\, Rehoboth Beach\, DE\, 19971\, United States
CATEGORIES:Church,Music
ORGANIZER;CN="Doug Yetter":MAILTO:dyetter@epworth.faith
END:VEVENT
BEGIN:VEVENT
DTSTART;TZID=America/New_York:20250910T173000
DTEND;TZID=America/New_York:20250910T183000
DTSTAMP:20260425T120447
CREATED:20250116T215058Z
LAST-MODIFIED:20250911T132405Z
UID:10017367-1757525400-1757529000@epworth.faith
SUMMARY:Chancel Choir Practice (Music Room)
DESCRIPTION:
URL:https://epworth.faith/event/chancel-choir-practice-music-room-2/2025-09-10/
LOCATION:Epworth United Methodist Church\, 19285 Holland Glade Road\, Rehoboth Beach\, DE\, 19971\, United States
CATEGORIES:Church,Groups
ORGANIZER;CN="Doug Yetter":MAILTO:dyetter@epworth.faith
END:VEVENT
BEGIN:VEVENT
DTSTART;TZID=America/New_York:20250911T093000
DTEND;TZID=America/New_York:20250911T103000
DTSTAMP:20260425T120447
CREATED:20250521T185021Z
LAST-MODIFIED:20260205T141334Z
UID:10016561-1757583000-1757586600@epworth.faith
SUMMARY:Alzheimer/Dementia Support Group (Baker Room)
DESCRIPTION:
URL:https://epworth.faith/event/alzheimer-dementia-support-group-baker-room/2025-09-11/
LOCATION:Epworth United Methodist Church\, 19285 Holland Glade Road\, Rehoboth Beach\, DE\, 19971\, United States
CATEGORIES:Church,Groups
ORGANIZER;CN="Harry Martens":MAILTO:HMartensiii@gmail.com
END:VEVENT
BEGIN:VEVENT
DTSTART;TZID=America/New_York:20250911T100000
DTEND;TZID=America/New_York:20250911T110000
DTSTAMP:20260425T120447
CREATED:20250820T150631Z
LAST-MODIFIED:20250820T150631Z
UID:10017037-1757584800-1757588400@epworth.faith
SUMMARY:LRAC Meeting (Starnes Room)
DESCRIPTION:
URL:https://epworth.faith/event/lrac-meeting-starnes-room-2/
LOCATION:Epworth United Methodist Church\, 19285 Holland Glade Road\, Rehoboth Beach\, DE\, 19971\, United States
CATEGORIES:Church,Groups
END:VEVENT
BEGIN:VEVENT
DTSTART;TZID=America/New_York:20250911T110000
DTEND;TZID=America/New_York:20250911T120000
DTSTAMP:20260425T120447
CREATED:20250513T184931Z
LAST-MODIFIED:20260129T210925Z
UID:10016448-1757588400-1757592000@epworth.faith
SUMMARY:Grief Group (Baker Room)
DESCRIPTION:
URL:https://epworth.faith/event/grief-group-baker-room/2025-09-11/
LOCATION:Epworth United Methodist Church\, 19285 Holland Glade Road\, Rehoboth Beach\, DE\, 19971\, United States
ORGANIZER;CN="Vicki Gordy-Stith":MAILTO:vgordy-stith@epworth.faith
END:VEVENT
BEGIN:VEVENT
DTSTART;TZID=America/New_York:20250911T120000
DTEND;TZID=America/New_York:20250911T130000
DTSTAMP:20260425T120447
CREATED:20240905T122329Z
LAST-MODIFIED:20251023T150055Z
UID:10014405-1757592000-1757595600@epworth.faith
SUMMARY:Alanon Meeting (Branford Room)
DESCRIPTION:
URL:https://epworth.faith/event/alanon-meeting-branford-room-3/2025-09-11/
LOCATION:Epworth United Methodist Church\, 19285 Holland Glade Road\, Rehoboth Beach\, DE\, 19971\, United States
CATEGORIES:Church,Groups
END:VEVENT
BEGIN:VEVENT
DTSTART;TZID=America/New_York:20250911T193000
DTEND;TZID=America/New_York:20250911T203000
DTSTAMP:20260425T120447
CREATED:20240905T122521Z
LAST-MODIFIED:20251023T150301Z
UID:10014457-1757619000-1757622600@epworth.faith
SUMMARY:AA Meeting (Baker Room)
DESCRIPTION:
URL:https://epworth.faith/event/aa-meeting-baker-room/2025-09-11/
LOCATION:Epworth United Methodist Church\, 19285 Holland Glade Road\, Rehoboth Beach\, DE\, 19971\, United States
CATEGORIES:Church,Groups
END:VEVENT
BEGIN:VEVENT
DTSTART;TZID=America/New_York:20250912T110000
DTEND;TZID=America/New_York:20250912T180000
DTSTAMP:20260425T120447
CREATED:20250908T160135Z
LAST-MODIFIED:20250908T162456Z
UID:10017287-1757674800-1757700000@epworth.faith
SUMMARY:Celebration of Life for Frances Mason (Sanctuary & Fellowship Hall)
DESCRIPTION:
URL:https://epworth.faith/event/celebration-of-life-for-francis-mason-sanctuary-fellowship-hall/
LOCATION:Epworth United Methodist Church\, 19285 Holland Glade Road\, Rehoboth Beach\, DE\, 19971\, United States
CATEGORIES:Church,Funerals
END:VEVENT
BEGIN:VEVENT
DTSTART;TZID=America/New_York:20250913T090000
DTEND;TZID=America/New_York:20250913T100000
DTSTAMP:20260425T120447
CREATED:20240905T122704Z
LAST-MODIFIED:20251023T150523Z
UID:10014509-1757754000-1757757600@epworth.faith
SUMMARY:ACA Meeting (Baker Room)
DESCRIPTION:
URL:https://epworth.faith/event/aca-meeting-baker-room/2025-09-13/
LOCATION:Epworth United Methodist Church\, 19285 Holland Glade Road\, Rehoboth Beach\, DE\, 19971\, United States
CATEGORIES:Church,Groups
END:VEVENT
BEGIN:VEVENT
DTSTART;TZID=America/New_York:20250913T180000
DTEND;TZID=America/New_York:20250913T190000
DTSTAMP:20260425T120447
CREATED:20240905T122918Z
LAST-MODIFIED:20251023T150738Z
UID:10014561-1757786400-1757790000@epworth.faith
SUMMARY:Alanon Meeting (Baker Room)
DESCRIPTION:
URL:https://epworth.faith/event/alanon-meeting-baker-room-2/2025-09-13/
LOCATION:Epworth United Methodist Church\, 19285 Holland Glade Road\, Rehoboth Beach\, DE\, 19971\, United States
CATEGORIES:Church,Groups
END:VEVENT
BEGIN:VEVENT
DTSTART;TZID=America/New_York:20250913T180000
DTEND;TZID=America/New_York:20250913T190000
DTSTAMP:20260425T120447
CREATED:20240905T123154Z
LAST-MODIFIED:20251023T152520Z
UID:10014613-1757786400-1757790000@epworth.faith
SUMMARY:AA Meeting (Branford Room)
DESCRIPTION:
URL:https://epworth.faith/event/aa-meeting-branford-room/2025-09-13/
LOCATION:Epworth United Methodist Church\, 19285 Holland Glade Road\, Rehoboth Beach\, DE\, 19971\, United States
CATEGORIES:Church,Groups
END:VEVENT
BEGIN:VEVENT
DTSTART;TZID=America/New_York:20250914T100000
DTEND;TZID=America/New_York:20250914T110000
DTSTAMP:20260425T120447
CREATED:20230909T152658Z
LAST-MODIFIED:20230909T161232Z
UID:10009115-1757844000-1757847600@epworth.faith
SUMMARY:Blended ASL Worship Service (Sanctuary & Online)
DESCRIPTION:YouTube Livestream\nYouTube ASL Livestream\nFacebook Livestream
URL:https://epworth.faith/event/blended-worship-service-sanctuary-on-line-2/2025-09-14/
LOCATION:Epworth United Methodist Church\, 19285 Holland Glade Road\, Rehoboth Beach\, DE\, 19971\, United States
CATEGORIES:Worship
ORGANIZER;CN="Vicki Gordy-Stith":MAILTO:vgordy-stith@epworth.faith
END:VEVENT
BEGIN:VEVENT
DTSTART;TZID=America/New_York:20250914T110000
DTEND;TZID=America/New_York:20250914T124500
DTSTAMP:20260425T120447
CREATED:20250303T202501Z
LAST-MODIFIED:20250303T202548Z
UID:10015584-1757847600-1757853900@epworth.faith
SUMMARY:Flower Ministry for Arrangements (Starnes Room)
DESCRIPTION:
URL:https://epworth.faith/event/flower-ministry-for-arrangements-starnes-room/2025-09-14/
LOCATION:Epworth United Methodist Church\, 19285 Holland Glade Road\, Rehoboth Beach\, DE\, 19971\, United States
CATEGORIES:Church,Groups
ORGANIZER;CN="Val Linder":MAILTO:rovalinder@comcast.net
END:VEVENT
BEGIN:VEVENT
DTSTART;TZID=America/New_York:20250914T111500
DTEND;TZID=America/New_York:20250914T114500
DTSTAMP:20260425T120447
CREATED:20241120T193843Z
LAST-MODIFIED:20241120T193843Z
UID:10015222-1757848500-1757850300@epworth.faith
SUMMARY:Stephen Ministry Prayer Chapel (Baker Room)
DESCRIPTION:
URL:https://epworth.faith/event/stephen-ministry-prayer-chapel-baker-room/2025-09-14/
LOCATION:Epworth United Methodist Church\, 19285 Holland Glade Road\, Rehoboth Beach\, DE\, 19971\, United States
CATEGORIES:Church,Groups
END:VEVENT
BEGIN:VEVENT
DTSTART;TZID=America/New_York:20250915T170000
DTEND;TZID=America/New_York:20250915T180000
DTSTAMP:20260425T120447
CREATED:20240905T122003Z
LAST-MODIFIED:20251023T143906Z
UID:10014301-1757955600-1757959200@epworth.faith
SUMMARY:Alanon Newcomers (Baker Room)
DESCRIPTION:
URL:https://epworth.faith/event/alanon-newcomers-baker-room/2025-09-15/
LOCATION:Epworth United Methodist Church\, 19285 Holland Glade Road\, Rehoboth Beach\, DE\, 19971\, United States
CATEGORIES:Church,Groups
END:VEVENT
BEGIN:VEVENT
DTSTART;TZID=America/New_York:20250915T170000
DTEND;TZID=America/New_York:20250915T190000
DTSTAMP:20260425T120447
CREATED:20250109T155917Z
LAST-MODIFIED:20250109T155917Z
UID:10015330-1757955600-1757962800@epworth.faith
SUMMARY:Kiva Club Meeting (Youth Room)
DESCRIPTION:
URL:https://epworth.faith/event/kiva-club-meeting-youth-room-5/
LOCATION:Epworth United Methodist Church\, 19285 Holland Glade Road\, Rehoboth Beach\, DE\, 19971\, United States
CATEGORIES:Church,Groups
ORGANIZER;CN="Jackie Shockley":MAILTO:jacshock@aol.com
END:VEVENT
BEGIN:VEVENT
DTSTART;TZID=America/New_York:20250915T180000
DTEND;TZID=America/New_York:20250915T190000
DTSTAMP:20260425T120447
CREATED:20240905T122138Z
LAST-MODIFIED:20251023T144119Z
UID:10014353-1757959200-1757962800@epworth.faith
SUMMARY:Alanon Meeting (Branford Room)
DESCRIPTION:
URL:https://epworth.faith/event/alanon-meeting-branford-room-2/2025-09-15/
LOCATION:Epworth United Methodist Church\, 19285 Holland Glade Road\, Rehoboth Beach\, DE\, 19971\, United States
CATEGORIES:Church,Groups
END:VEVENT
BEGIN:VEVENT
DTSTART;TZID=America/New_York:20250915T183000
DTEND;TZID=America/New_York:20250915T203000
DTSTAMP:20260425T120447
CREATED:20250812T184139Z
LAST-MODIFIED:20250812T184139Z
UID:10017032-1757961000-1757968200@epworth.faith
SUMMARY:Camp Rehoboth Dress Rehearsal (Sanctuary & Music Room)
DESCRIPTION:
URL:https://epworth.faith/event/camp-rehoboth-dress-rehearsal-sanctuary-music-room-5/
LOCATION:Epworth United Methodist Church\, 19285 Holland Glade Road\, Rehoboth Beach\, DE\, 19971\, United States
CATEGORIES:Church,Groups
ORGANIZER;CN="David Scuccimarra":MAILTO:Scuch@aol.com
END:VEVENT
BEGIN:VEVENT
DTSTART;TZID=America/New_York:20250916T120000
DTEND;TZID=America/New_York:20250916T140000
DTSTAMP:20260425T120447
CREATED:20231101T154604Z
LAST-MODIFIED:20231101T154604Z
UID:10010549-1758024000-1758031200@epworth.faith
SUMMARY:Staff Meeting (Conference Room)
DESCRIPTION:
URL:https://epworth.faith/event/staff-meeting-conference-room/2025-09-16/
LOCATION:Epworth United Methodist Church\, 19285 Holland Glade Road\, Rehoboth Beach\, DE\, 19971\, United States
CATEGORIES:Church,Staff
ORGANIZER;CN="Vicki Gordy-Stith":MAILTO:vgordy-stith@epworth.faith
END:VEVENT
BEGIN:VEVENT
DTSTART;TZID=America/New_York:20250916T140000
DTEND;TZID=America/New_York:20250916T170000
DTSTAMP:20260425T120447
CREATED:20250709T184523Z
LAST-MODIFIED:20250709T184523Z
UID:10016986-1758031200-1758042000@epworth.faith
SUMMARY:Stitching Group (Branford Room)
DESCRIPTION:
URL:https://epworth.faith/event/stitching-group-branford-room/2025-09-16/
LOCATION:Epworth United Methodist Church\, 19285 Holland Glade Road\, Rehoboth Beach\, DE\, 19971\, United States
CATEGORIES:Church,Groups
END:VEVENT
END:VCALENDAR