BEGIN:VCALENDAR
VERSION:2.0
PRODID:-//Epworth UMC - ECPv6.15.20//NONSGML v1.0//EN
CALSCALE:GREGORIAN
METHOD:PUBLISH
X-ORIGINAL-URL:https://epworth.faith
X-WR-CALDESC:Events for Epworth UMC
REFRESH-INTERVAL;VALUE=DURATION:PT1H
X-Robots-Tag:noindex
X-PUBLISHED-TTL:PT1H
BEGIN:VTIMEZONE
TZID:America/New_York
BEGIN:DAYLIGHT
TZOFFSETFROM:-0500
TZOFFSETTO:-0400
TZNAME:EDT
DTSTART:20240310T070000
END:DAYLIGHT
BEGIN:STANDARD
TZOFFSETFROM:-0400
TZOFFSETTO:-0500
TZNAME:EST
DTSTART:20241103T060000
END:STANDARD
BEGIN:DAYLIGHT
TZOFFSETFROM:-0500
TZOFFSETTO:-0400
TZNAME:EDT
DTSTART:20250309T070000
END:DAYLIGHT
BEGIN:STANDARD
TZOFFSETFROM:-0400
TZOFFSETTO:-0500
TZNAME:EST
DTSTART:20251102T060000
END:STANDARD
BEGIN:DAYLIGHT
TZOFFSETFROM:-0500
TZOFFSETTO:-0400
TZNAME:EDT
DTSTART:20260308T070000
END:DAYLIGHT
BEGIN:STANDARD
TZOFFSETFROM:-0400
TZOFFSETTO:-0500
TZNAME:EST
DTSTART:20261101T060000
END:STANDARD
END:VTIMEZONE
BEGIN:VEVENT
DTSTART;TZID=America/New_York:20250326T120000
DTEND;TZID=America/New_York:20250326T130000
DTSTAMP:20260425T222824
CREATED:20250317T133721Z
LAST-MODIFIED:20250317T133721Z
UID:10015900-1742990400-1742994000@epworth.faith
SUMMARY:Moms Demand Action Meeting (Starnes Room)
DESCRIPTION:
URL:https://epworth.faith/event/moms-demand-action-meeting-starnes-room-4/
LOCATION:Epworth United Methodist Church\, 19285 Holland Glade Road\, Rehoboth Beach\, DE\, 19971\, United States
CATEGORIES:Church,Groups
END:VEVENT
BEGIN:VEVENT
DTSTART;TZID=America/New_York:20250326T130000
DTEND;TZID=America/New_York:20250326T143000
DTSTAMP:20260425T222824
CREATED:20250227T142225Z
LAST-MODIFIED:20250227T142225Z
UID:10015547-1742994000-1742999400@epworth.faith
SUMMARY:Moms Demand Action Meeting (Starnes Room)
DESCRIPTION:
URL:https://epworth.faith/event/moms-demand-action-meeting-starnes-room/
LOCATION:Epworth United Methodist Church\, 19285 Holland Glade Road\, Rehoboth Beach\, DE\, 19971\, United States
CATEGORIES:Church,Groups
END:VEVENT
BEGIN:VEVENT
DTSTART;TZID=America/New_York:20250326T160000
DTEND;TZID=America/New_York:20250326T170000
DTSTAMP:20260425T222824
CREATED:20250312T200721Z
LAST-MODIFIED:20250312T200721Z
UID:10015896-1743004800-1743008400@epworth.faith
SUMMARY:Book Club (Starnes Room)
DESCRIPTION:
URL:https://epworth.faith/event/book-club-starnes-room/2025-03-26/
LOCATION:Epworth United Methodist Church\, 19285 Holland Glade Road\, Rehoboth Beach\, DE\, 19971\, United States
CATEGORIES:Church,Groups
END:VEVENT
BEGIN:VEVENT
DTSTART;TZID=America/New_York:20250326T173000
DTEND;TZID=America/New_York:20250326T183000
DTSTAMP:20260425T222824
CREATED:20250116T215058Z
LAST-MODIFIED:20250911T132405Z
UID:10017343-1743010200-1743013800@epworth.faith
SUMMARY:Chancel Choir Practice (Music Room)
DESCRIPTION:
URL:https://epworth.faith/event/chancel-choir-practice-music-room-2/2025-03-26/
LOCATION:Epworth United Methodist Church\, 19285 Holland Glade Road\, Rehoboth Beach\, DE\, 19971\, United States
CATEGORIES:Church,Groups
ORGANIZER;CN="Doug Yetter":MAILTO:dyetter@epworth.faith
END:VEVENT
BEGIN:VEVENT
DTSTART;TZID=America/New_York:20250326T173000
DTEND;TZID=America/New_York:20250326T183000
DTSTAMP:20260425T222824
CREATED:20250116T215324Z
LAST-MODIFIED:20250528T122635Z
UID:10016586-1743010200-1743013800@epworth.faith
SUMMARY:Memorial Bells Practice (Music Room)
DESCRIPTION:
URL:https://epworth.faith/event/memorial-bells-practice-music-room/2025-03-26/
LOCATION:Epworth United Methodist Church\, 19285 Holland Glade Road\, Rehoboth Beach\, DE\, 19971\, United States
CATEGORIES:Church,Music
ORGANIZER;CN="Doug Yetter":MAILTO:dyetter@epworth.faith
END:VEVENT
BEGIN:VEVENT
DTSTART;TZID=America/New_York:20250327T100000
DTEND;TZID=America/New_York:20250327T113000
DTSTAMP:20260425T222824
CREATED:20250115T175521Z
LAST-MODIFIED:20250115T175521Z
UID:10015373-1743069600-1743075000@epworth.faith
SUMMARY:Parkinson's Voice Project Choir Project (Music Room)
DESCRIPTION:
URL:https://epworth.faith/event/parkinsons-voice-project-choir-project-music-room/2025-03-27/
LOCATION:Epworth United Methodist Church\, 19285 Holland Glade Road\, Rehoboth Beach\, DE\, 19971\, United States
CATEGORIES:Church,Groups
ORGANIZER;CN="Doug Yetter":MAILTO:dyetter@epworth.faith
END:VEVENT
BEGIN:VEVENT
DTSTART;TZID=America/New_York:20250327T110000
DTEND;TZID=America/New_York:20250327T120000
DTSTAMP:20260425T222824
CREATED:20250312T195827Z
LAST-MODIFIED:20250312T195919Z
UID:10015837-1743073200-1743076800@epworth.faith
SUMMARY:Grief Support Group (Baker Room)
DESCRIPTION:
URL:https://epworth.faith/event/grief-support-group-baker-room-2/2025-03-27/
LOCATION:Epworth United Methodist Church\, 19285 Holland Glade Road\, Rehoboth Beach\, DE\, 19971\, United States
CATEGORIES:Church,Groups
ORGANIZER;CN="Vicki Gordy-Stith":MAILTO:vgordy-stith@epworth.faith
END:VEVENT
BEGIN:VEVENT
DTSTART;TZID=America/New_York:20250327T120000
DTEND;TZID=America/New_York:20250327T130000
DTSTAMP:20260425T222824
CREATED:20240905T122329Z
LAST-MODIFIED:20251023T150055Z
UID:10014381-1743076800-1743080400@epworth.faith
SUMMARY:Alanon Meeting (Branford Room)
DESCRIPTION:
URL:https://epworth.faith/event/alanon-meeting-branford-room-3/2025-03-27/
LOCATION:Epworth United Methodist Church\, 19285 Holland Glade Road\, Rehoboth Beach\, DE\, 19971\, United States
CATEGORIES:Church,Groups
END:VEVENT
BEGIN:VEVENT
DTSTART;TZID=America/New_York:20250327T183000
DTEND;TZID=America/New_York:20250327T200000
DTSTAMP:20260425T222824
CREATED:20250116T214257Z
LAST-MODIFIED:20250220T191246Z
UID:10015393-1743100200-1743105600@epworth.faith
SUMMARY:Eleventh Commandment Study Group (Branford Room)
DESCRIPTION:
URL:https://epworth.faith/event/eleventh-commandment-study-group-starnes-room/2025-03-27/
LOCATION:Epworth United Methodist Church\, 19285 Holland Glade Road\, Rehoboth Beach\, DE\, 19971\, United States
CATEGORIES:Church,Groups
ORGANIZER;CN="Bob Paulen":MAILTO:bobpaulen@yahoo.com
END:VEVENT
BEGIN:VEVENT
DTSTART;TZID=America/New_York:20250327T193000
DTEND;TZID=America/New_York:20250327T203000
DTSTAMP:20260425T222824
CREATED:20240905T122521Z
LAST-MODIFIED:20251023T150301Z
UID:10014433-1743103800-1743107400@epworth.faith
SUMMARY:AA Meeting (Baker Room)
DESCRIPTION:
URL:https://epworth.faith/event/aa-meeting-baker-room/2025-03-27/
LOCATION:Epworth United Methodist Church\, 19285 Holland Glade Road\, Rehoboth Beach\, DE\, 19971\, United States
CATEGORIES:Church,Groups
END:VEVENT
BEGIN:VEVENT
DTSTART;TZID=America/New_York:20250329T090000
DTEND;TZID=America/New_York:20250329T100000
DTSTAMP:20260425T222824
CREATED:20240905T122704Z
LAST-MODIFIED:20251023T150523Z
UID:10014485-1743238800-1743242400@epworth.faith
SUMMARY:ACA Meeting (Baker Room)
DESCRIPTION:
URL:https://epworth.faith/event/aca-meeting-baker-room/2025-03-29/
LOCATION:Epworth United Methodist Church\, 19285 Holland Glade Road\, Rehoboth Beach\, DE\, 19971\, United States
CATEGORIES:Church,Groups
END:VEVENT
BEGIN:VEVENT
DTSTART;TZID=America/New_York:20250329T090000
DTEND;TZID=America/New_York:20250329T110000
DTSTAMP:20260425T222824
CREATED:20250325T191932Z
LAST-MODIFIED:20250325T191932Z
UID:10016005-1743238800-1743246000@epworth.faith
SUMMARY:CCM Breakfast (Fellowship Hall)
DESCRIPTION:
URL:https://epworth.faith/event/ccm-breakfast-fellowship-hall/
LOCATION:Epworth United Methodist Church\, 19285 Holland Glade Road\, Rehoboth Beach\, DE\, 19971\, United States
CATEGORIES:Church,Groups
ORGANIZER;CN="Vicki Gordy-Stith":MAILTO:vgordy-stith@epworth.faith
END:VEVENT
BEGIN:VEVENT
DTSTART;TZID=America/New_York:20250329T180000
DTEND;TZID=America/New_York:20250329T190000
DTSTAMP:20260425T222824
CREATED:20240905T122918Z
LAST-MODIFIED:20251023T150738Z
UID:10014537-1743271200-1743274800@epworth.faith
SUMMARY:Alanon Meeting (Baker Room)
DESCRIPTION:
URL:https://epworth.faith/event/alanon-meeting-baker-room-2/2025-03-29/
LOCATION:Epworth United Methodist Church\, 19285 Holland Glade Road\, Rehoboth Beach\, DE\, 19971\, United States
CATEGORIES:Church,Groups
END:VEVENT
BEGIN:VEVENT
DTSTART;TZID=America/New_York:20250329T180000
DTEND;TZID=America/New_York:20250329T190000
DTSTAMP:20260425T222824
CREATED:20240905T123154Z
LAST-MODIFIED:20251023T152520Z
UID:10014589-1743271200-1743274800@epworth.faith
SUMMARY:AA Meeting (Branford Room)
DESCRIPTION:
URL:https://epworth.faith/event/aa-meeting-branford-room/2025-03-29/
LOCATION:Epworth United Methodist Church\, 19285 Holland Glade Road\, Rehoboth Beach\, DE\, 19971\, United States
CATEGORIES:Church,Groups
END:VEVENT
BEGIN:VEVENT
DTSTART;TZID=America/New_York:20250330T100000
DTEND;TZID=America/New_York:20250330T110000
DTSTAMP:20260425T222824
CREATED:20230909T152658Z
LAST-MODIFIED:20230909T161232Z
UID:10009091-1743328800-1743332400@epworth.faith
SUMMARY:Blended ASL Worship Service (Sanctuary & Online)
DESCRIPTION:YouTube Livestream\nYouTube ASL Livestream\nFacebook Livestream
URL:https://epworth.faith/event/blended-worship-service-sanctuary-on-line-2/2025-03-30/
LOCATION:Epworth United Methodist Church\, 19285 Holland Glade Road\, Rehoboth Beach\, DE\, 19971\, United States
CATEGORIES:Worship
ORGANIZER;CN="Vicki Gordy-Stith":MAILTO:vgordy-stith@epworth.faith
END:VEVENT
BEGIN:VEVENT
DTSTART;TZID=America/New_York:20250330T110000
DTEND;TZID=America/New_York:20250330T120000
DTSTAMP:20260425T222824
CREATED:20250213T170858Z
LAST-MODIFIED:20250305T204317Z
UID:10015511-1743332400-1743336000@epworth.faith
SUMMARY:Coffee Conversation - After Service (Fellowship Hall)
DESCRIPTION:
URL:https://epworth.faith/event/coffee-conversation-after-service-fellowship-hall/2025-03-30/
LOCATION:Epworth United Methodist Church\, 19285 Holland Glade Road\, Rehoboth Beach\, DE\, 19971\, United States
CATEGORIES:Church,Worship
ORGANIZER;CN="Vicki Gordy-Stith":MAILTO:vgordy-stith@epworth.faith
END:VEVENT
BEGIN:VEVENT
DTSTART;TZID=America/New_York:20250330T110000
DTEND;TZID=America/New_York:20250330T124500
DTSTAMP:20260425T222824
CREATED:20250303T202501Z
LAST-MODIFIED:20250303T202548Z
UID:10015560-1743332400-1743338700@epworth.faith
SUMMARY:Flower Ministry for Arrangements (Starnes Room)
DESCRIPTION:
URL:https://epworth.faith/event/flower-ministry-for-arrangements-starnes-room/2025-03-30/
LOCATION:Epworth United Methodist Church\, 19285 Holland Glade Road\, Rehoboth Beach\, DE\, 19971\, United States
CATEGORIES:Church,Groups
ORGANIZER;CN="Val Linder":MAILTO:rovalinder@comcast.net
END:VEVENT
BEGIN:VEVENT
DTSTART;TZID=America/New_York:20250330T111500
DTEND;TZID=America/New_York:20250330T114500
DTSTAMP:20260425T222824
CREATED:20241120T193843Z
LAST-MODIFIED:20241120T193843Z
UID:10015198-1743333300-1743335100@epworth.faith
SUMMARY:Stephen Ministry Prayer Chapel (Baker Room)
DESCRIPTION:
URL:https://epworth.faith/event/stephen-ministry-prayer-chapel-baker-room/2025-03-30/
LOCATION:Epworth United Methodist Church\, 19285 Holland Glade Road\, Rehoboth Beach\, DE\, 19971\, United States
CATEGORIES:Church,Groups
END:VEVENT
BEGIN:VEVENT
DTSTART;TZID=America/New_York:20250330T113000
DTEND;TZID=America/New_York:20250330T123000
DTSTAMP:20260425T222824
CREATED:20240826T184533Z
LAST-MODIFIED:20240826T184533Z
UID:10014056-1743334200-1743337800@epworth.faith
SUMMARY:Meet Me @ Epworth Group Bible Study (Branford Lounge)
DESCRIPTION:
URL:https://epworth.faith/event/meet-me-epworth-group-bible-study-branford-lounge/2025-03-30/
LOCATION:Epworth United Methodist Church\, 19285 Holland Glade Road\, Rehoboth Beach\, DE\, 19971\, United States
CATEGORIES:Church,Groups
ORGANIZER;CN="Mickie McManamon":MAILTO:mmcmanamon@epworth.faith
END:VEVENT
BEGIN:VEVENT
DTSTART;TZID=America/New_York:20250331T170000
DTEND;TZID=America/New_York:20250331T180000
DTSTAMP:20260425T222824
CREATED:20240905T122003Z
LAST-MODIFIED:20251023T143906Z
UID:10014277-1743440400-1743444000@epworth.faith
SUMMARY:Alanon Newcomers (Baker Room)
DESCRIPTION:
URL:https://epworth.faith/event/alanon-newcomers-baker-room/2025-03-31/
LOCATION:Epworth United Methodist Church\, 19285 Holland Glade Road\, Rehoboth Beach\, DE\, 19971\, United States
CATEGORIES:Church,Groups
END:VEVENT
BEGIN:VEVENT
DTSTART;TZID=America/New_York:20250331T180000
DTEND;TZID=America/New_York:20250331T190000
DTSTAMP:20260425T222824
CREATED:20240905T122138Z
LAST-MODIFIED:20251023T144119Z
UID:10014329-1743444000-1743447600@epworth.faith
SUMMARY:Alanon Meeting (Branford Room)
DESCRIPTION:
URL:https://epworth.faith/event/alanon-meeting-branford-room-2/2025-03-31/
LOCATION:Epworth United Methodist Church\, 19285 Holland Glade Road\, Rehoboth Beach\, DE\, 19971\, United States
CATEGORIES:Church,Groups
END:VEVENT
BEGIN:VEVENT
DTSTART;TZID=America/New_York:20250401T110000
DTEND;TZID=America/New_York:20250401T130000
DTSTAMP:20260425T222824
CREATED:20250225T133134Z
LAST-MODIFIED:20250225T133134Z
UID:10015544-1743505200-1743512400@epworth.faith
SUMMARY:365 Christmas Joy - Easter Eggs (Fellowship Hall)
DESCRIPTION:
URL:https://epworth.faith/event/365-christmas-joy-easter-eggs-fellowship-hall/
LOCATION:Epworth United Methodist Church\, 19285 Holland Glade Road\, Rehoboth Beach\, DE\, 19971\, United States
CATEGORIES:Church,Groups
ORGANIZER;CN="Sue Brenton":MAILTO:myshadow143@verizon.net
END:VEVENT
BEGIN:VEVENT
DTSTART;TZID=America/New_York:20250401T120000
DTEND;TZID=America/New_York:20250401T140000
DTSTAMP:20260425T222824
CREATED:20231101T154604Z
LAST-MODIFIED:20231101T154604Z
UID:10010525-1743508800-1743516000@epworth.faith
SUMMARY:Staff Meeting (Conference Room)
DESCRIPTION:
URL:https://epworth.faith/event/staff-meeting-conference-room/2025-04-01/
LOCATION:Epworth United Methodist Church\, 19285 Holland Glade Road\, Rehoboth Beach\, DE\, 19971\, United States
CATEGORIES:Church,Staff
ORGANIZER;CN="Vicki Gordy-Stith":MAILTO:vgordy-stith@epworth.faith
END:VEVENT
BEGIN:VEVENT
DTSTART;TZID=America/New_York:20250401T180000
DTEND;TZID=America/New_York:20250401T190000
DTSTAMP:20260425T222824
CREATED:20240905T121346Z
LAST-MODIFIED:20251023T144445Z
UID:10014121-1743530400-1743534000@epworth.faith
SUMMARY:Alanon Meeting (Branford Room)
DESCRIPTION:
URL:https://epworth.faith/event/alanon-meeting-branford-room/2025-04-01/
LOCATION:Epworth United Methodist Church\, 19285 Holland Glade Road\, Rehoboth Beach\, DE\, 19971\, United States
CATEGORIES:Church,Groups
END:VEVENT
BEGIN:VEVENT
DTSTART;TZID=America/New_York:20250401T183000
DTEND;TZID=America/New_York:20250401T213000
DTSTAMP:20260425T222824
CREATED:20240529T212715Z
LAST-MODIFIED:20250317T133252Z
UID:10013540-1743532200-1743543000@epworth.faith
SUMMARY:Face to Face Emmaus Team Training (Fellowship Hall)
DESCRIPTION:
URL:https://epworth.faith/event/face-to-face-emmaus-team-training-fellowship-hall/2025-04-01/
LOCATION:Epworth United Methodist Church\, 19285 Holland Glade Road\, Rehoboth Beach\, DE\, 19971\, United States
CATEGORIES:Church,Groups
ORGANIZER;CN="Mickie McManamon":MAILTO:mmcmanamon@epworth.faith
END:VEVENT
BEGIN:VEVENT
DTSTART;TZID=America/New_York:20250401T190000
DTEND;TZID=America/New_York:20250401T200000
DTSTAMP:20260425T222824
CREATED:20240905T121615Z
LAST-MODIFIED:20251023T144756Z
UID:10014173-1743534000-1743537600@epworth.faith
SUMMARY:Alanon Meeting (Baker Room)
DESCRIPTION:
URL:https://epworth.faith/event/alanon-meeting-baker-room/2025-04-01/
LOCATION:Epworth United Methodist Church\, 19285 Holland Glade Road\, Rehoboth Beach\, DE\, 19971\, United States
CATEGORIES:Church,Groups
END:VEVENT
BEGIN:VEVENT
DTSTART;TZID=America/New_York:20250401T190000
DTEND;TZID=America/New_York:20250401T200000
DTSTAMP:20260425T222824
CREATED:20240905T121808Z
LAST-MODIFIED:20251023T145128Z
UID:10014225-1743534000-1743537600@epworth.faith
SUMMARY:AA Meeting (Music Room)
DESCRIPTION:
URL:https://epworth.faith/event/aa-meeting-music-room/2025-04-01/
LOCATION:Epworth United Methodist Church\, 19285 Holland Glade Road\, Rehoboth Beach\, DE\, 19971\, United States
CATEGORIES:Church,Groups
END:VEVENT
BEGIN:VEVENT
DTSTART;TZID=America/New_York:20250402T100000
DTEND;TZID=America/New_York:20250402T120000
DTSTAMP:20260425T222824
CREATED:20240509T205948Z
LAST-MODIFIED:20240509T205948Z
UID:10013445-1743588000-1743595200@epworth.faith
SUMMARY:Sisters in Christ Bible Study (Starnes Room)
DESCRIPTION:
URL:https://epworth.faith/event/sisters-in-christ-bible-study-starnes-room/2025-04-02/
LOCATION:Epworth United Methodist Church\, 19285 Holland Glade Road\, Rehoboth Beach\, DE\, 19971\, United States
CATEGORIES:Church,Groups
ORGANIZER;CN="Susan Jimenez":MAILTO:saj19971@gmail.com
END:VEVENT
BEGIN:VEVENT
DTSTART;TZID=America/New_York:20250402T160000
DTEND;TZID=America/New_York:20250402T170000
DTSTAMP:20260425T222824
CREATED:20250312T200721Z
LAST-MODIFIED:20250312T200721Z
UID:10015897-1743609600-1743613200@epworth.faith
SUMMARY:Book Club (Starnes Room)
DESCRIPTION:
URL:https://epworth.faith/event/book-club-starnes-room/2025-04-02/
LOCATION:Epworth United Methodist Church\, 19285 Holland Glade Road\, Rehoboth Beach\, DE\, 19971\, United States
CATEGORIES:Church,Groups
END:VEVENT
BEGIN:VEVENT
DTSTART;TZID=America/New_York:20250402T173000
DTEND;TZID=America/New_York:20250402T183000
DTSTAMP:20260425T222824
CREATED:20250116T215058Z
LAST-MODIFIED:20250911T132405Z
UID:10017344-1743615000-1743618600@epworth.faith
SUMMARY:Chancel Choir Practice (Music Room)
DESCRIPTION:
URL:https://epworth.faith/event/chancel-choir-practice-music-room-2/2025-04-02/
LOCATION:Epworth United Methodist Church\, 19285 Holland Glade Road\, Rehoboth Beach\, DE\, 19971\, United States
CATEGORIES:Church,Groups
ORGANIZER;CN="Doug Yetter":MAILTO:dyetter@epworth.faith
END:VEVENT
END:VCALENDAR