BEGIN:VCALENDAR
VERSION:2.0
PRODID:-//Epworth UMC - ECPv6.15.20//NONSGML v1.0//EN
CALSCALE:GREGORIAN
METHOD:PUBLISH
X-ORIGINAL-URL:https://epworth.faith
X-WR-CALDESC:Events for Epworth UMC
REFRESH-INTERVAL;VALUE=DURATION:PT1H
X-Robots-Tag:noindex
X-PUBLISHED-TTL:PT1H
BEGIN:VTIMEZONE
TZID:America/New_York
BEGIN:DAYLIGHT
TZOFFSETFROM:-0500
TZOFFSETTO:-0400
TZNAME:EDT
DTSTART:20250309T070000
END:DAYLIGHT
BEGIN:STANDARD
TZOFFSETFROM:-0400
TZOFFSETTO:-0500
TZNAME:EST
DTSTART:20251102T060000
END:STANDARD
BEGIN:DAYLIGHT
TZOFFSETFROM:-0500
TZOFFSETTO:-0400
TZNAME:EDT
DTSTART:20260308T070000
END:DAYLIGHT
BEGIN:STANDARD
TZOFFSETFROM:-0400
TZOFFSETTO:-0500
TZNAME:EST
DTSTART:20261101T060000
END:STANDARD
BEGIN:DAYLIGHT
TZOFFSETFROM:-0500
TZOFFSETTO:-0400
TZNAME:EDT
DTSTART:20270314T070000
END:DAYLIGHT
BEGIN:STANDARD
TZOFFSETFROM:-0400
TZOFFSETTO:-0500
TZNAME:EST
DTSTART:20271107T060000
END:STANDARD
END:VTIMEZONE
BEGIN:VEVENT
DTSTART;TZID=America/New_York:20260317T173000
DTEND;TZID=America/New_York:20260317T200000
DTSTAMP:20260423T201245
CREATED:20260108T135022Z
LAST-MODIFIED:20260305T211406Z
UID:10020963-1773768600-1773777600@epworth.faith
SUMMARY:Parent Night for Boys & Girls Club (Fellowship Hall)
DESCRIPTION:
URL:https://epworth.faith/event/parent-night-for-boys-girls-club-fellowship-hall/
LOCATION:Epworth United Methodist Church\, 19285 Holland Glade Road\, Rehoboth Beach\, DE\, 19971\, United States
CATEGORIES:Church,Groups
ORGANIZER;CN="Avara Brown":MAILTO:AvBrown@bgclubs.org
END:VEVENT
BEGIN:VEVENT
DTSTART;TZID=America/New_York:20260317T180000
DTEND;TZID=America/New_York:20260317T190000
DTSTAMP:20260423T201245
CREATED:20240905T121346Z
LAST-MODIFIED:20251023T144445Z
UID:10018814-1773770400-1773774000@epworth.faith
SUMMARY:Alanon Meeting (Branford Room)
DESCRIPTION:
URL:https://epworth.faith/event/alanon-meeting-branford-room/2026-03-17/
LOCATION:Epworth United Methodist Church\, 19285 Holland Glade Road\, Rehoboth Beach\, DE\, 19971\, United States
CATEGORIES:Church,Groups
END:VEVENT
BEGIN:VEVENT
DTSTART;TZID=America/New_York:20260317T183000
DTEND;TZID=America/New_York:20260317T200000
DTSTAMP:20260423T201245
CREATED:20260128T185145Z
LAST-MODIFIED:20260213T203323Z
UID:10021039-1773772200-1773777600@epworth.faith
SUMMARY:An Unlikely Lent
DESCRIPTION:An Unlikely Lent: Extraordinary People of the Easter Story meets Tuesdays at 6:30 pm in person for six sessions starting February 24\, 2026. Contact Rev. David Garrett or Rev. Beth LaBella Foster \nThe meeting will be in the Starnes Room. \nClick on the book for more info \n  \n 
URL:https://epworth.faith/event/lent-bible-study-starnes-room/2026-03-17/
LOCATION:Epworth United Methodist Church\, 19285 Holland Glade Road\, Rehoboth Beach\, DE\, 19971\, United States
CATEGORIES:Church,Groups
ATTACH;FMTTYPE=image/jpeg:https://epworth.faith/wp-content/uploads/2026/01/unlikelyweb.jpg
ORGANIZER;CN="David Garrett":MAILTO:dlgarrett4rb@gmail.com
END:VEVENT
BEGIN:VEVENT
DTSTART;TZID=America/New_York:20260317T184500
DTEND;TZID=America/New_York:20260317T200000
DTSTAMP:20260423T201245
CREATED:20250821T173501Z
LAST-MODIFIED:20250821T173501Z
UID:10017187-1773773100-1773777600@epworth.faith
SUMMARY:Faith Friends & Issues Group (Zoom)
DESCRIPTION:
URL:https://epworth.faith/event/faith-friends-issues-group-zoom-2/2026-03-17/
LOCATION:Epworth United Methodist Church\, 19285 Holland Glade Road\, Rehoboth Beach\, DE\, 19971\, United States
CATEGORIES:Church,Groups
ORGANIZER;CN="Sandy Paulen":MAILTO:sandypaulen@gmail.com
END:VEVENT
BEGIN:VEVENT
DTSTART;TZID=America/New_York:20260317T190000
DTEND;TZID=America/New_York:20260317T200000
DTSTAMP:20260423T201245
CREATED:20240905T121615Z
LAST-MODIFIED:20251023T144756Z
UID:10019065-1773774000-1773777600@epworth.faith
SUMMARY:Alanon Meeting (Baker Room)
DESCRIPTION:
URL:https://epworth.faith/event/alanon-meeting-baker-room/2026-03-17/
LOCATION:Epworth United Methodist Church\, 19285 Holland Glade Road\, Rehoboth Beach\, DE\, 19971\, United States
CATEGORIES:Church,Groups
END:VEVENT
BEGIN:VEVENT
DTSTART;TZID=America/New_York:20260317T190000
DTEND;TZID=America/New_York:20260317T200000
DTSTAMP:20260423T201245
CREATED:20240905T121808Z
LAST-MODIFIED:20251023T145128Z
UID:10019316-1773774000-1773777600@epworth.faith
SUMMARY:AA Meeting (Music Room)
DESCRIPTION:
URL:https://epworth.faith/event/aa-meeting-music-room/2026-03-17/
LOCATION:Epworth United Methodist Church\, 19285 Holland Glade Road\, Rehoboth Beach\, DE\, 19971\, United States
CATEGORIES:Church,Groups
END:VEVENT
BEGIN:VEVENT
DTSTART;TZID=America/New_York:20260318T100000
DTEND;TZID=America/New_York:20260318T120000
DTSTAMP:20260423T201245
CREATED:20250827T201136Z
LAST-MODIFIED:20250827T201136Z
UID:10017271-1773828000-1773835200@epworth.faith
SUMMARY:Sisters in Christ Meetings (Starnes Room)
DESCRIPTION:
URL:https://epworth.faith/event/sisters-in-christ-meetings-starnes-room/2026-03-18/
LOCATION:Epworth United Methodist Church\, 19285 Holland Glade Road\, Rehoboth Beach\, DE\, 19971\, United States
CATEGORIES:Church,Groups
ORGANIZER;CN="Barbara Hoffman":MAILTO:revbarbarahoffman@gmail.com
END:VEVENT
BEGIN:VEVENT
DTSTART;TZID=America/New_York:20260318T124500
DTEND;TZID=America/New_York:20260318T134500
DTSTAMP:20260423T201245
CREATED:20260205T170009Z
LAST-MODIFIED:20260213T200356Z
UID:10021207-1773837900-1773841500@epworth.faith
SUMMARY:The Why & How of Stories Study Group (Baker Room)
DESCRIPTION:Led by Pastor Bo. Meets during Lent beginning at 12:45 p.m. Wednesday\, February 18.\nClick on the link for complete information. \nThe Why and How of Stories
URL:https://epworth.faith/event/the-why-how-of-stories-study-group-baker-room/2026-03-18/
LOCATION:Epworth United Methodist Church\, 19285 Holland Glade Road\, Rehoboth Beach\, DE\, 19971\, United States
CATEGORIES:Church,Groups
ATTACH;FMTTYPE=image/jpeg:https://epworth.faith/wp-content/uploads/2026/02/AdobeStock_923682342-scaled.jpeg
ORGANIZER;CN="Bo Gordy-Stith":MAILTO:bgordy-stith@epworth.faith
END:VEVENT
BEGIN:VEVENT
DTSTART;TZID=America/New_York:20260318T163000
DTEND;TZID=America/New_York:20260318T173000
DTSTAMP:20260423T201245
CREATED:20250528T122948Z
LAST-MODIFIED:20250911T130205Z
UID:10017320-1773851400-1773855000@epworth.faith
SUMMARY:Memorial Bells Practice (Music Room)
DESCRIPTION:
URL:https://epworth.faith/event/memorial-bells-practice-music-room-2/2026-03-18/
LOCATION:Epworth United Methodist Church\, 19285 Holland Glade Road\, Rehoboth Beach\, DE\, 19971\, United States
CATEGORIES:Church,Music
ORGANIZER;CN="Doug Yetter":MAILTO:dyetter@epworth.faith
END:VEVENT
BEGIN:VEVENT
DTSTART;TZID=America/New_York:20260318T173000
DTEND;TZID=America/New_York:20260318T183000
DTSTAMP:20260423T201245
CREATED:20250116T215058Z
LAST-MODIFIED:20250911T132405Z
UID:10017394-1773855000-1773858600@epworth.faith
SUMMARY:Chancel Choir Practice (Music Room)
DESCRIPTION:
URL:https://epworth.faith/event/chancel-choir-practice-music-room-2/2026-03-18/
LOCATION:Epworth United Methodist Church\, 19285 Holland Glade Road\, Rehoboth Beach\, DE\, 19971\, United States
CATEGORIES:Church,Groups
ORGANIZER;CN="Doug Yetter":MAILTO:dyetter@epworth.faith
END:VEVENT
BEGIN:VEVENT
DTSTART;TZID=America/New_York:20260318T183000
DTEND;TZID=America/New_York:20260318T193000
DTSTAMP:20260423T201245
CREATED:20250528T124534Z
LAST-MODIFIED:20250911T132748Z
UID:10017435-1773858600-1773862200@epworth.faith
SUMMARY:Praise Team (Sanctuary)
DESCRIPTION:
URL:https://epworth.faith/event/praise-team-sanctuary/2026-03-18/
LOCATION:Epworth United Methodist Church\, 19285 Holland Glade Road\, Rehoboth Beach\, DE\, 19971\, United States
CATEGORIES:Church,Music
ORGANIZER;CN="Doug Yetter":MAILTO:dyetter@epworth.faith
END:VEVENT
BEGIN:VEVENT
DTSTART;TZID=America/New_York:20260318T183000
DTEND;TZID=America/New_York:20260318T203000
DTSTAMP:20260423T201245
CREATED:20251023T154117Z
LAST-MODIFIED:20260214T112517Z
UID:10020814-1773858600-1773865800@epworth.faith
SUMMARY:Christianity and World Religions
DESCRIPTION:Click on the book for more information \nChristianity and World Religions: Questions We Ask About Other Faiths by Adam Hamilton \nWhy are there so many different religions? How should Christians view other religions? How is God at work in other religions? What is the fate of those who earnestly pursue God through other religions? In examining these major world religions and the beliefs of their followers\, Hamilton urges us as Christians to build bridges with others so that we might grow in our faith\, seek peace in our world\, love our neighbor\, and find positive ways to share the gospel. \nMeets Wednesdays at 7 pm in the Starnes Room starting March 4\, 2026 (no meeting April 8). \nContact Robin Duer or Mike Duer
URL:https://epworth.faith/event/duer-small-group-book-study-starnes-room-2/2026-03-18/
LOCATION:Epworth United Methodist Church\, 19285 Holland Glade Road\, Rehoboth Beach\, DE\, 19971\, United States
CATEGORIES:Church,Groups
ATTACH;FMTTYPE=image/jpeg:https://epworth.faith/wp-content/uploads/2025/10/religions.jpg
ORGANIZER;CN="Robin Duer":MAILTO:beachrobin12@aol.com
END:VEVENT
BEGIN:VEVENT
DTSTART;TZID=America/New_York:20260318T183000
DTEND;TZID=America/New_York:20260318T210000
DTSTAMP:20260423T201245
CREATED:20240321T141329Z
LAST-MODIFIED:20240321T141511Z
UID:10012595-1773858600-1773867600@epworth.faith
SUMMARY:ManKind Project (MKP) (Baker Lounge)
DESCRIPTION:
URL:https://epworth.faith/event/mankind-project-mkp-baker-lounge-4/2026-03-18/
LOCATION:Epworth United Methodist Church\, 19285 Holland Glade Road\, Rehoboth Beach\, DE\, 19971\, United States
CATEGORIES:Church,Groups
ORGANIZER;CN="Rick Buske":MAILTO:rick.buske@gmail.com
END:VEVENT
BEGIN:VEVENT
DTSTART;TZID=America/New_York:20260319T093000
DTEND;TZID=America/New_York:20260319T103000
DTSTAMP:20260423T201245
CREATED:20250521T185021Z
LAST-MODIFIED:20260205T141334Z
UID:10021161-1773912600-1773916200@epworth.faith
SUMMARY:Alzheimer/Dementia Support Group (Baker Room)
DESCRIPTION:
URL:https://epworth.faith/event/alzheimer-dementia-support-group-baker-room/2026-03-19/
LOCATION:Epworth United Methodist Church\, 19285 Holland Glade Road\, Rehoboth Beach\, DE\, 19971\, United States
CATEGORIES:Church,Groups
ORGANIZER;CN="Harry Martens":MAILTO:HMartensiii@gmail.com
END:VEVENT
BEGIN:VEVENT
DTSTART;TZID=America/New_York:20260319T100000
DTEND;TZID=America/New_York:20260319T113000
DTSTAMP:20260423T201245
CREATED:20260114T135227Z
LAST-MODIFIED:20260114T135227Z
UID:10021012-1773914400-1773919800@epworth.faith
SUMMARY:Voices of Hope Practice (Music Room)
DESCRIPTION:
URL:https://epworth.faith/event/voices-of-hope-practice-music-room/2026-03-19/
LOCATION:Epworth United Methodist Church\, 19285 Holland Glade Road\, Rehoboth Beach\, DE\, 19971\, United States
CATEGORIES:Church,Groups
ORGANIZER;CN="Doug Yetter":MAILTO:dyetter@epworth.faith
END:VEVENT
BEGIN:VEVENT
DTSTART;TZID=America/New_York:20260319T100000
DTEND;TZID=America/New_York:20260319T113000
DTSTAMP:20260423T201245
CREATED:20260213T210412Z
LAST-MODIFIED:20260213T210412Z
UID:10021346-1773914400-1773919800@epworth.faith
SUMMARY:The Spirituality of Age
DESCRIPTION:“These days we often hear the word spirituality. The spiritual search is a vital and continuous area of personal reflection for these authors. They encourage each of us to define the meaning of that word for ourselves. This book opens the door for all of us to explore our own growth\, insights\, inner peace\, and continued learning that is calling to us as we age”\n(Connie Goldman\, Author of Who Am I Now that I’m Not Who I Was?) \nContact Susan Love \nClick here for more information:\nhttps://epworth.faith/wp-content/uploads/2026/02/Susan-Love-Group.pdf \nThursdays from 10 to 11:30 for ten weeks\nBeginning February 26
URL:https://epworth.faith/event/the-spirituality-of-age/2026-03-19/
LOCATION:DE
CATEGORIES:Groups
END:VEVENT
BEGIN:VEVENT
DTSTART;TZID=America/New_York:20260319T110000
DTEND;TZID=America/New_York:20260319T120000
DTSTAMP:20260423T201245
CREATED:20250513T184931Z
LAST-MODIFIED:20260129T210925Z
UID:10021057-1773918000-1773921600@epworth.faith
SUMMARY:Grief Group (Baker Room)
DESCRIPTION:
URL:https://epworth.faith/event/grief-group-baker-room/2026-03-19/
LOCATION:Epworth United Methodist Church\, 19285 Holland Glade Road\, Rehoboth Beach\, DE\, 19971\, United States
ORGANIZER;CN="Vicki Gordy-Stith":MAILTO:vgordy-stith@epworth.faith
END:VEVENT
BEGIN:VEVENT
DTSTART;TZID=America/New_York:20260319T120000
DTEND;TZID=America/New_York:20260319T130000
DTSTAMP:20260423T201245
CREATED:20240905T122329Z
LAST-MODIFIED:20251023T150055Z
UID:10019568-1773921600-1773925200@epworth.faith
SUMMARY:Alanon Meeting (Branford Room)
DESCRIPTION:
URL:https://epworth.faith/event/alanon-meeting-branford-room-3/2026-03-19/
LOCATION:Epworth United Methodist Church\, 19285 Holland Glade Road\, Rehoboth Beach\, DE\, 19971\, United States
CATEGORIES:Church,Groups
END:VEVENT
BEGIN:VEVENT
DTSTART;TZID=America/New_York:20260319T130000
DTEND;TZID=America/New_York:20260319T143000
DTSTAMP:20260423T201245
CREATED:20260218T181808Z
LAST-MODIFIED:20260218T181808Z
UID:10021416-1773925200-1773930600@epworth.faith
SUMMARY:Social Justice Meeting (Starnes Room)
DESCRIPTION:
URL:https://epworth.faith/event/social-justice-meeting-starnes-room-2/2026-03-19/
LOCATION:Epworth United Methodist Church\, 19285 Holland Glade Road\, Rehoboth Beach\, DE\, 19971\, United States
CATEGORIES:Church,Groups
END:VEVENT
BEGIN:VEVENT
DTSTART;TZID=America/New_York:20260319T140000
DTEND;TZID=America/New_York:20260319T153000
DTSTAMP:20260423T201245
CREATED:20260212T194318Z
LAST-MODIFIED:20260226T222052Z
UID:10021356-1773928800-1773934200@epworth.faith
SUMMARY:Why Are We So Polarized? Group (Office Conference Room)
DESCRIPTION:Led by Pastor VIcki. \nJoin us for a six-week exploration of where our morals come from\, how our stories shape our values\, and how we can bridge the gap through open and honest relationships. We will use three books to help us examine our own values and understand the values of others: Learning to Disagree\, by John Inazu\, The Righteous Mind\, by Jonathan Haidt\, and I Never Thought of It That Way\, by Monica Guzman. We will offer a hybrid group\, meeting both in person and online via zoom\, on Thursdays. \nContact Pastor Vicki for more information or to sign up for the group.
URL:https://epworth.faith/event/why-are-we-so-polarized-group-office-conference-room-2-2-2/2026-03-19/
LOCATION:Epworth United Methodist Church\, 19285 Holland Glade Road\, Rehoboth Beach\, DE\, 19971\, United States
CATEGORIES:Church,Groups
ATTACH;FMTTYPE=image/jpeg:https://epworth.faith/wp-content/uploads/2026/02/Bookstudy.jpg
ORGANIZER;CN="Vicki Gordy-Stith":MAILTO:vgordy-stith@epworth.faith
END:VEVENT
BEGIN:VEVENT
DTSTART;TZID=America/New_York:20260319T190000
DTEND;TZID=America/New_York:20260319T203000
DTSTAMP:20260423T201245
CREATED:20260213T205028Z
LAST-MODIFIED:20260213T205124Z
UID:10021340-1773946800-1773952200@epworth.faith
SUMMARY:How to Know a Person
DESCRIPTION:How to Know a Person by David Brooks meets Thursdays at 7 pm in person at 18380 Alpine Loop\, Lewes\, for six weeks starting February 26\, \nClick on book for more information \nThis book nurtures your spiritual life by improving human connection\, seeing others deeply and be seen in return. Drawing from psychology\, neuroscience\, and other fields\, the book offers actionable advice on conversation\, attention\, and empathy to build stronger relationships\, moving beyond abstract ideas of “community” to concrete social skills like good listening\, asking the right questions\, and sharing vulnerability. It is for anyone seeking deeper connection and understanding in their\npersonal and professional lives. \nContact Todd Popham
URL:https://epworth.faith/event/how-to-know-a-person/2026-03-19/
LOCATION:18380 Alpine Loop\, Lewes\, 18380 Alpine Loop\, Lewes\, DE\, 19958\, United States
CATEGORIES:Groups
ATTACH;FMTTYPE=image/jpeg:https://epworth.faith/wp-content/uploads/2026/02/know-a-person.jpg
END:VEVENT
BEGIN:VEVENT
DTSTART;TZID=America/New_York:20260319T193000
DTEND;TZID=America/New_York:20260319T203000
DTSTAMP:20260423T201245
CREATED:20240905T122521Z
LAST-MODIFIED:20251023T150301Z
UID:10019819-1773948600-1773952200@epworth.faith
SUMMARY:AA Meeting (Baker Room)
DESCRIPTION:
URL:https://epworth.faith/event/aa-meeting-baker-room/2026-03-19/
LOCATION:Epworth United Methodist Church\, 19285 Holland Glade Road\, Rehoboth Beach\, DE\, 19971\, United States
CATEGORIES:Church,Groups
END:VEVENT
BEGIN:VEVENT
DTSTART;TZID=America/New_York:20260320T100000
DTEND;TZID=America/New_York:20260320T140000
DTSTAMP:20260423T201245
CREATED:20260304T204232Z
LAST-MODIFIED:20260304T204232Z
UID:10022135-1774000800-1774015200@epworth.faith
SUMMARY:Soup Prep (Kitchen)
DESCRIPTION:
URL:https://epworth.faith/event/soup-prep-kitchen-35/
LOCATION:Epworth United Methodist Church\, 19285 Holland Glade Road\, Rehoboth Beach\, DE\, 19971\, United States
CATEGORIES:Church,Groups
END:VEVENT
BEGIN:VEVENT
DTSTART;TZID=America/New_York:20260321T090000
DTEND;TZID=America/New_York:20260321T100000
DTSTAMP:20260423T201245
CREATED:20240905T122704Z
LAST-MODIFIED:20251023T150523Z
UID:10020070-1774083600-1774087200@epworth.faith
SUMMARY:ACA Meeting (Baker Room)
DESCRIPTION:
URL:https://epworth.faith/event/aca-meeting-baker-room/2026-03-21/
LOCATION:Epworth United Methodist Church\, 19285 Holland Glade Road\, Rehoboth Beach\, DE\, 19971\, United States
CATEGORIES:Church,Groups
END:VEVENT
BEGIN:VEVENT
DTSTART;TZID=America/New_York:20260321T100000
DTEND;TZID=America/New_York:20260321T120000
DTSTAMP:20260423T201245
CREATED:20260114T141547Z
LAST-MODIFIED:20260217T141731Z
UID:10021015-1774087200-1774094400@epworth.faith
SUMMARY:Easter Egg Hunt (Outside - Sanctuary if Raining)
DESCRIPTION:
URL:https://epworth.faith/event/easter-egg-hunt-outside-sanctuary-if-raining/
LOCATION:Epworth United Methodist Church\, 19285 Holland Glade Road\, Rehoboth Beach\, DE\, 19971\, United States
CATEGORIES:Church,Facility Rentals,Lent 2026,Neighborhood/Community Groups
ATTACH;FMTTYPE=image/jpeg:https://epworth.faith/wp-content/uploads/2026/01/easter-egg.jpg
ORGANIZER;CN="Gwen Osborne":MAILTO:gosborne@epworth.faith
END:VEVENT
BEGIN:VEVENT
DTSTART;TZID=America/New_York:20260321T130000
DTEND;TZID=America/New_York:20260321T170000
DTSTAMP:20260423T201245
CREATED:20260309T164159Z
LAST-MODIFIED:20260309T164159Z
UID:10022138-1774098000-1774112400@epworth.faith
SUMMARY:Skatepark Clean-Up (Back Parking Lot)
DESCRIPTION:
URL:https://epworth.faith/event/skatepark-clean-up-back-parking-lot/
LOCATION:Epworth United Methodist Church\, 19285 Holland Glade Road\, Rehoboth Beach\, DE\, 19971\, United States
CATEGORIES:Church,Groups
END:VEVENT
BEGIN:VEVENT
DTSTART;TZID=America/New_York:20260321T180000
DTEND;TZID=America/New_York:20260321T190000
DTSTAMP:20260423T201245
CREATED:20240905T122918Z
LAST-MODIFIED:20251023T150738Z
UID:10020321-1774116000-1774119600@epworth.faith
SUMMARY:Alanon Meeting (Baker Room)
DESCRIPTION:
URL:https://epworth.faith/event/alanon-meeting-baker-room-2/2026-03-21/
LOCATION:Epworth United Methodist Church\, 19285 Holland Glade Road\, Rehoboth Beach\, DE\, 19971\, United States
CATEGORIES:Church,Groups
END:VEVENT
BEGIN:VEVENT
DTSTART;TZID=America/New_York:20260321T180000
DTEND;TZID=America/New_York:20260321T190000
DTSTAMP:20260423T201245
CREATED:20240905T123154Z
LAST-MODIFIED:20251023T152520Z
UID:10020572-1774116000-1774119600@epworth.faith
SUMMARY:AA Meeting (Branford Room)
DESCRIPTION:
URL:https://epworth.faith/event/aa-meeting-branford-room/2026-03-21/
LOCATION:Epworth United Methodist Church\, 19285 Holland Glade Road\, Rehoboth Beach\, DE\, 19971\, United States
CATEGORIES:Church,Groups
END:VEVENT
BEGIN:VEVENT
DTSTART;TZID=America/New_York:20260322T100000
DTEND;TZID=America/New_York:20260322T110000
DTSTAMP:20260423T201245
CREATED:20260222T184451Z
LAST-MODIFIED:20260222T184452Z
UID:10009142-1774173600-1774177200@epworth.faith
SUMMARY:Blended ASL Worship Service (Sanctuary & Online)
DESCRIPTION:YouTube Livestream\nYouTube ASL Livestream\nFacebook Livestream
URL:https://epworth.faith/event/blended-worship-service-sanctuary-on-line-2-7/
LOCATION:Epworth United Methodist Church\, 19285 Holland Glade Road\, Rehoboth Beach\, DE\, 19971\, United States
CATEGORIES:Lent 2026,Worship
ATTACH;FMTTYPE=image/jpeg:https://epworth.faith/wp-content/uploads/2023/09/260322-Restore-Relationship.jpg
ORGANIZER;CN="Vicki Gordy-Stith":MAILTO:vgordy-stith@epworth.faith
END:VEVENT
BEGIN:VEVENT
DTSTART;TZID=America/New_York:20260322T110000
DTEND;TZID=America/New_York:20260322T124500
DTSTAMP:20260423T201245
CREATED:20250303T202501Z
LAST-MODIFIED:20250303T202548Z
UID:10015611-1774177200-1774183500@epworth.faith
SUMMARY:Flower Ministry for Arrangements (Starnes Room)
DESCRIPTION:
URL:https://epworth.faith/event/flower-ministry-for-arrangements-starnes-room/2026-03-22/
LOCATION:Epworth United Methodist Church\, 19285 Holland Glade Road\, Rehoboth Beach\, DE\, 19971\, United States
CATEGORIES:Church,Groups
ORGANIZER;CN="Val Linder":MAILTO:rovalinder@comcast.net
END:VEVENT
END:VCALENDAR