BEGIN:VCALENDAR
VERSION:2.0
PRODID:-//Epworth UMC - ECPv6.15.20//NONSGML v1.0//EN
CALSCALE:GREGORIAN
METHOD:PUBLISH
X-WR-CALNAME:Epworth UMC
X-ORIGINAL-URL:https://epworth.faith
X-WR-CALDESC:Events for Epworth UMC
REFRESH-INTERVAL;VALUE=DURATION:PT1H
X-Robots-Tag:noindex
X-PUBLISHED-TTL:PT1H
BEGIN:VTIMEZONE
TZID:America/New_York
BEGIN:DAYLIGHT
TZOFFSETFROM:-0500
TZOFFSETTO:-0400
TZNAME:EDT
DTSTART:20240310T070000
END:DAYLIGHT
BEGIN:STANDARD
TZOFFSETFROM:-0400
TZOFFSETTO:-0500
TZNAME:EST
DTSTART:20241103T060000
END:STANDARD
BEGIN:DAYLIGHT
TZOFFSETFROM:-0500
TZOFFSETTO:-0400
TZNAME:EDT
DTSTART:20250309T070000
END:DAYLIGHT
BEGIN:STANDARD
TZOFFSETFROM:-0400
TZOFFSETTO:-0500
TZNAME:EST
DTSTART:20251102T060000
END:STANDARD
BEGIN:DAYLIGHT
TZOFFSETFROM:-0500
TZOFFSETTO:-0400
TZNAME:EDT
DTSTART:20260308T070000
END:DAYLIGHT
BEGIN:STANDARD
TZOFFSETFROM:-0400
TZOFFSETTO:-0500
TZNAME:EST
DTSTART:20261101T060000
END:STANDARD
END:VTIMEZONE
BEGIN:VEVENT
DTSTART;TZID=America/New_York:20251218T100000
DTEND;TZID=America/New_York:20251218T113000
DTSTAMP:20260425T100642
CREATED:20250911T133430Z
LAST-MODIFIED:20251214T151551Z
UID:10017450-1766052000-1766057400@epworth.faith
SUMMARY:Voices of Hope Parkinson's Voice Project Performance (Sanctuary)
DESCRIPTION:
URL:https://epworth.faith/event/parkinsons-voice-project-performance-sanctuary/
LOCATION:Epworth United Methodist Church\, 19285 Holland Glade Road\, Rehoboth Beach\, DE\, 19971\, United States
CATEGORIES:Church,Groups
ORGANIZER;CN="Doug Yetter":MAILTO:dyetter@epworth.faith
END:VEVENT
BEGIN:VEVENT
DTSTART;TZID=America/New_York:20251218T110000
DTEND;TZID=America/New_York:20251218T120000
DTSTAMP:20260425T100642
CREATED:20250513T184931Z
LAST-MODIFIED:20260129T210925Z
UID:10016462-1766055600-1766059200@epworth.faith
SUMMARY:Grief Group (Baker Room)
DESCRIPTION:
URL:https://epworth.faith/event/grief-group-baker-room/2025-12-18/
LOCATION:Epworth United Methodist Church\, 19285 Holland Glade Road\, Rehoboth Beach\, DE\, 19971\, United States
ORGANIZER;CN="Vicki Gordy-Stith":MAILTO:vgordy-stith@epworth.faith
END:VEVENT
BEGIN:VEVENT
DTSTART;TZID=America/New_York:20251218T120000
DTEND;TZID=America/New_York:20251218T130000
DTSTAMP:20260425T100642
CREATED:20240905T122329Z
LAST-MODIFIED:20251023T150055Z
UID:10014419-1766059200-1766062800@epworth.faith
SUMMARY:Alanon Meeting (Branford Room)
DESCRIPTION:
URL:https://epworth.faith/event/alanon-meeting-branford-room-3/2025-12-18/
LOCATION:Epworth United Methodist Church\, 19285 Holland Glade Road\, Rehoboth Beach\, DE\, 19971\, United States
CATEGORIES:Church,Groups
END:VEVENT
BEGIN:VEVENT
DTSTART;TZID=America/New_York:20251218T120000
DTEND;TZID=America/New_York:20251218T133000
DTSTAMP:20260425T100642
CREATED:20251118T203102Z
LAST-MODIFIED:20251118T203103Z
UID:10020901-1766059200-1766064600@epworth.faith
SUMMARY:Blue Christmas Service (Music Room)
DESCRIPTION:
URL:https://epworth.faith/event/blue-christmas-service-music-room/
LOCATION:Epworth United Methodist Church\, 19285 Holland Glade Road\, Rehoboth Beach\, DE\, 19971\, United States
CATEGORIES:Church,Worship
ORGANIZER;CN="Vicki Gordy-Stith":MAILTO:vgordy-stith@epworth.faith
END:VEVENT
BEGIN:VEVENT
DTSTART;TZID=America/New_York:20251218T120000
DTEND;TZID=America/New_York:20251218T140000
DTSTAMP:20260425T100642
CREATED:20250911T203736Z
LAST-MODIFIED:20250911T203736Z
UID:10017471-1766059200-1766066400@epworth.faith
SUMMARY:Preschool Christmas Program Rehearsal (Sanctuary)
DESCRIPTION:
URL:https://epworth.faith/event/preschool-christmas-program-rehearsal-sanctuary-7/
LOCATION:Epworth United Methodist Church\, 19285 Holland Glade Road\, Rehoboth Beach\, DE\, 19971\, United States
CATEGORIES:Church,Preschool
ORGANIZER;CN="Betsy Plowman":MAILTO:bplowman@epworth.faith
END:VEVENT
BEGIN:VEVENT
DTSTART;TZID=America/New_York:20251218T120000
DTEND;TZID=America/New_York:20251218T150000
DTSTAMP:20260425T100642
CREATED:20251204T172507Z
LAST-MODIFIED:20251204T172645Z
UID:10020920-1766059200-1766070000@epworth.faith
SUMMARY:Pot Luck Luncheon After Blue Christmas (Fellowship Hall)
DESCRIPTION:
URL:https://epworth.faith/event/pot-luck-luncheon-after-blue-christmas-fellowship-hall/
LOCATION:Epworth United Methodist Church\, 19285 Holland Glade Road\, Rehoboth Beach\, DE\, 19971\, United States
CATEGORIES:Church,Groups
ORGANIZER;CN="Vicki Gordy-Stith":MAILTO:vgordy-stith@epworth.faith
END:VEVENT
BEGIN:VEVENT
DTSTART;TZID=America/New_York:20251218T193000
DTEND;TZID=America/New_York:20251218T203000
DTSTAMP:20260425T100642
CREATED:20240905T122521Z
LAST-MODIFIED:20251023T150301Z
UID:10014471-1766086200-1766089800@epworth.faith
SUMMARY:AA Meeting (Baker Room)
DESCRIPTION:
URL:https://epworth.faith/event/aa-meeting-baker-room/2025-12-18/
LOCATION:Epworth United Methodist Church\, 19285 Holland Glade Road\, Rehoboth Beach\, DE\, 19971\, United States
CATEGORIES:Church,Groups
END:VEVENT
BEGIN:VEVENT
DTSTART;VALUE=DATE:20251219
DTEND;VALUE=DATE:20251220
DTSTAMP:20260425T100642
CREATED:20251221T130920Z
LAST-MODIFIED:20251221T130920Z
UID:10020948-1766102400-1766188799@epworth.faith
SUMMARY:Day 20 Devotional
DESCRIPTION:Day 20 Devotional
URL:https://epworth.faith/event/day-20-devotional/
LOCATION:DE
END:VEVENT
BEGIN:VEVENT
DTSTART;TZID=America/New_York:20251219T090000
DTEND;TZID=America/New_York:20251219T113000
DTSTAMP:20260425T100642
CREATED:20250911T134319Z
LAST-MODIFIED:20250911T134319Z
UID:10017454-1766134800-1766143800@epworth.faith
SUMMARY:Preschool Christmas Program Performance (Sanctuary)
DESCRIPTION:
URL:https://epworth.faith/event/preschool-christmas-program-performance-sanctuary/
LOCATION:Epworth United Methodist Church\, 19285 Holland Glade Road\, Rehoboth Beach\, DE\, 19971\, United States
CATEGORIES:Church,Preschool
ORGANIZER;CN="Betsy Plowman":MAILTO:bplowman@epworth.faith
END:VEVENT
BEGIN:VEVENT
DTSTART;TZID=America/New_York:20251219T180000
DTEND;TZID=America/New_York:20251219T200000
DTSTAMP:20260425T100642
CREATED:20251027T191354Z
LAST-MODIFIED:20251027T191354Z
UID:10020823-1766167200-1766174400@epworth.faith
SUMMARY:Christmas Party for Boys & Girls Club (Fellowship Hall)
DESCRIPTION:
URL:https://epworth.faith/event/christmas-party-for-boys-girls-club-fellowship-hall/
LOCATION:Epworth United Methodist Church\, 19285 Holland Glade Road\, Rehoboth Beach\, DE\, 19971\, United States
CATEGORIES:Church,Groups
ORGANIZER;CN="Avara Brown":MAILTO:AvBrown@bgclubs.org
END:VEVENT
BEGIN:VEVENT
DTSTART;VALUE=DATE:20251220
DTEND;VALUE=DATE:20251221
DTSTAMP:20260425T100642
CREATED:20251221T131005Z
LAST-MODIFIED:20251221T131005Z
UID:10020949-1766188800-1766275199@epworth.faith
SUMMARY:Day 21 Devotional
DESCRIPTION:Day 21 Devotional
URL:https://epworth.faith/event/day-21-devotional/
LOCATION:DE
END:VEVENT
BEGIN:VEVENT
DTSTART;TZID=America/New_York:20251220T090000
DTEND;TZID=America/New_York:20251220T100000
DTSTAMP:20260425T100642
CREATED:20240905T122704Z
LAST-MODIFIED:20251023T150523Z
UID:10014523-1766221200-1766224800@epworth.faith
SUMMARY:ACA Meeting (Baker Room)
DESCRIPTION:
URL:https://epworth.faith/event/aca-meeting-baker-room/2025-12-20/
LOCATION:Epworth United Methodist Church\, 19285 Holland Glade Road\, Rehoboth Beach\, DE\, 19971\, United States
CATEGORIES:Church,Groups
END:VEVENT
BEGIN:VEVENT
DTSTART;TZID=America/New_York:20251220T150000
DTEND;TZID=America/New_York:20251220T170000
DTSTAMP:20260425T100642
CREATED:20250410T153930Z
LAST-MODIFIED:20250619T145929Z
UID:10016010-1766242800-1766250000@epworth.faith
SUMMARY:Mid-Atlantic Symphony Orchestra (Sanctuary\, Music Room & Branford Room) Concert 3:00pm
DESCRIPTION:
URL:https://epworth.faith/event/mid-atlantic-symphony-orchestra-concert-time-700pm-900pm/
LOCATION:Epworth United Methodist Church\, 19285 Holland Glade Road\, Rehoboth Beach\, DE\, 19971\, United States
CATEGORIES:Church,Concerts,Facility Rentals
ORGANIZER;CN="Dane Krich":MAILTO:dane@midatlanticsymphony.org
END:VEVENT
BEGIN:VEVENT
DTSTART;TZID=America/New_York:20251220T180000
DTEND;TZID=America/New_York:20251220T190000
DTSTAMP:20260425T100642
CREATED:20240905T122918Z
LAST-MODIFIED:20251023T150738Z
UID:10014575-1766253600-1766257200@epworth.faith
SUMMARY:Alanon Meeting (Baker Room)
DESCRIPTION:
URL:https://epworth.faith/event/alanon-meeting-baker-room-2/2025-12-20/
LOCATION:Epworth United Methodist Church\, 19285 Holland Glade Road\, Rehoboth Beach\, DE\, 19971\, United States
CATEGORIES:Church,Groups
END:VEVENT
BEGIN:VEVENT
DTSTART;TZID=America/New_York:20251220T180000
DTEND;TZID=America/New_York:20251220T190000
DTSTAMP:20260425T100642
CREATED:20240905T123154Z
LAST-MODIFIED:20251023T152520Z
UID:10014627-1766253600-1766257200@epworth.faith
SUMMARY:AA Meeting (Branford Room)
DESCRIPTION:
URL:https://epworth.faith/event/aa-meeting-branford-room/2025-12-20/
LOCATION:Epworth United Methodist Church\, 19285 Holland Glade Road\, Rehoboth Beach\, DE\, 19971\, United States
CATEGORIES:Church,Groups
END:VEVENT
BEGIN:VEVENT
DTSTART;VALUE=DATE:20251221
DTEND;VALUE=DATE:20251222
DTSTAMP:20260425T100642
CREATED:20251221T133802Z
LAST-MODIFIED:20251221T133802Z
UID:10020950-1766275200-1766361599@epworth.faith
SUMMARY:Day 22 Devotional
DESCRIPTION:Day 22 Devotional
URL:https://epworth.faith/event/day-22-devotional/
LOCATION:DE
END:VEVENT
BEGIN:VEVENT
DTSTART;TZID=America/New_York:20251221T100000
DTEND;TZID=America/New_York:20251221T110000
DTSTAMP:20260425T100642
CREATED:20230909T152658Z
LAST-MODIFIED:20230909T161232Z
UID:10009129-1766311200-1766314800@epworth.faith
SUMMARY:Blended ASL Worship Service (Sanctuary & Online)
DESCRIPTION:YouTube Livestream\nYouTube ASL Livestream\nFacebook Livestream
URL:https://epworth.faith/event/blended-worship-service-sanctuary-on-line-2/2025-12-21/
LOCATION:Epworth United Methodist Church\, 19285 Holland Glade Road\, Rehoboth Beach\, DE\, 19971\, United States
CATEGORIES:Worship
ORGANIZER;CN="Vicki Gordy-Stith":MAILTO:vgordy-stith@epworth.faith
END:VEVENT
BEGIN:VEVENT
DTSTART;TZID=America/New_York:20251221T110000
DTEND;TZID=America/New_York:20251221T124500
DTSTAMP:20260425T100642
CREATED:20250303T202501Z
LAST-MODIFIED:20250303T202548Z
UID:10015598-1766314800-1766321100@epworth.faith
SUMMARY:Flower Ministry for Arrangements (Starnes Room)
DESCRIPTION:
URL:https://epworth.faith/event/flower-ministry-for-arrangements-starnes-room/2025-12-21/
LOCATION:Epworth United Methodist Church\, 19285 Holland Glade Road\, Rehoboth Beach\, DE\, 19971\, United States
CATEGORIES:Church,Groups
ORGANIZER;CN="Val Linder":MAILTO:rovalinder@comcast.net
END:VEVENT
BEGIN:VEVENT
DTSTART;TZID=America/New_York:20251221T111500
DTEND;TZID=America/New_York:20251221T114500
DTSTAMP:20260425T100642
CREATED:20241120T193843Z
LAST-MODIFIED:20241120T193843Z
UID:10015236-1766315700-1766317500@epworth.faith
SUMMARY:Stephen Ministry Prayer Chapel (Baker Room)
DESCRIPTION:
URL:https://epworth.faith/event/stephen-ministry-prayer-chapel-baker-room/2025-12-21/
LOCATION:Epworth United Methodist Church\, 19285 Holland Glade Road\, Rehoboth Beach\, DE\, 19971\, United States
CATEGORIES:Church,Groups
END:VEVENT
BEGIN:VEVENT
DTSTART;VALUE=DATE:20251222
DTEND;VALUE=DATE:20251223
DTSTAMP:20260425T100642
CREATED:20251223T181556Z
LAST-MODIFIED:20251223T181556Z
UID:10020954-1766361600-1766447999@epworth.faith
SUMMARY:Day 23 Devotional
DESCRIPTION:Day 23 Devotional
URL:https://epworth.faith/event/day-23-devotional/
LOCATION:DE
END:VEVENT
BEGIN:VEVENT
DTSTART;TZID=America/New_York:20251222T130000
DTEND;TZID=America/New_York:20251222T143000
DTSTAMP:20260425T100642
CREATED:20251218T143823Z
LAST-MODIFIED:20251218T143823Z
UID:10020943-1766408400-1766413800@epworth.faith
SUMMARY:Meeting with Boys & Girls Club (Office Conference Room)
DESCRIPTION:
URL:https://epworth.faith/event/meeting-with-boys-girls-club-office-conference-room/
LOCATION:Epworth United Methodist Church\, 19285 Holland Glade Road\, Rehoboth Beach\, DE\, 19971\, United States
CATEGORIES:Church,Groups
END:VEVENT
BEGIN:VEVENT
DTSTART;TZID=America/New_York:20251222T170000
DTEND;TZID=America/New_York:20251222T180000
DTSTAMP:20260425T100642
CREATED:20240905T122003Z
LAST-MODIFIED:20251023T143906Z
UID:10014315-1766422800-1766426400@epworth.faith
SUMMARY:Alanon Newcomers (Baker Room)
DESCRIPTION:
URL:https://epworth.faith/event/alanon-newcomers-baker-room/2025-12-22/
LOCATION:Epworth United Methodist Church\, 19285 Holland Glade Road\, Rehoboth Beach\, DE\, 19971\, United States
CATEGORIES:Church,Groups
END:VEVENT
BEGIN:VEVENT
DTSTART;TZID=America/New_York:20251222T180000
DTEND;TZID=America/New_York:20251222T190000
DTSTAMP:20260425T100642
CREATED:20240905T122138Z
LAST-MODIFIED:20251023T144119Z
UID:10014367-1766426400-1766430000@epworth.faith
SUMMARY:Alanon Meeting (Branford Room)
DESCRIPTION:
URL:https://epworth.faith/event/alanon-meeting-branford-room-2/2025-12-22/
LOCATION:Epworth United Methodist Church\, 19285 Holland Glade Road\, Rehoboth Beach\, DE\, 19971\, United States
CATEGORIES:Church,Groups
END:VEVENT
BEGIN:VEVENT
DTSTART;TZID=America/New_York:20251222T180000
DTEND;TZID=America/New_York:20251222T193000
DTSTAMP:20260425T100642
CREATED:20250925T182614Z
LAST-MODIFIED:20250929T160622Z
UID:10017749-1766426400-1766431800@epworth.faith
SUMMARY:Social Justice Meeting (Starnes Room)
DESCRIPTION:
URL:https://epworth.faith/event/social-justice-meeting-starnes-room/2025-12-22/
LOCATION:Epworth United Methodist Church\, 19285 Holland Glade Road\, Rehoboth Beach\, DE\, 19971\, United States
CATEGORIES:Church,Groups
END:VEVENT
BEGIN:VEVENT
DTSTART;VALUE=DATE:20251223
DTEND;VALUE=DATE:20251224
DTSTAMP:20260425T100642
CREATED:20251223T181518Z
LAST-MODIFIED:20251223T181518Z
UID:10020953-1766448000-1766534399@epworth.faith
SUMMARY:Day 24 Devotional
DESCRIPTION:Day 24 Devotional
URL:https://epworth.faith/event/day-24-devotional/
LOCATION:DE
END:VEVENT
BEGIN:VEVENT
DTSTART;TZID=America/New_York:20251223T120000
DTEND;TZID=America/New_York:20251223T140000
DTSTAMP:20260425T100642
CREATED:20231101T154604Z
LAST-MODIFIED:20231101T154604Z
UID:10010563-1766491200-1766498400@epworth.faith
SUMMARY:Staff Meeting (Conference Room)
DESCRIPTION:
URL:https://epworth.faith/event/staff-meeting-conference-room/2025-12-23/
LOCATION:Epworth United Methodist Church\, 19285 Holland Glade Road\, Rehoboth Beach\, DE\, 19971\, United States
CATEGORIES:Church,Staff
ORGANIZER;CN="Vicki Gordy-Stith":MAILTO:vgordy-stith@epworth.faith
END:VEVENT
BEGIN:VEVENT
DTSTART;TZID=America/New_York:20251223T140000
DTEND;TZID=America/New_York:20251223T170000
DTSTAMP:20260425T100642
CREATED:20250709T184523Z
LAST-MODIFIED:20250709T184523Z
UID:10017000-1766498400-1766509200@epworth.faith
SUMMARY:Stitching Group (Branford Room)
DESCRIPTION:
URL:https://epworth.faith/event/stitching-group-branford-room/2025-12-23/
LOCATION:Epworth United Methodist Church\, 19285 Holland Glade Road\, Rehoboth Beach\, DE\, 19971\, United States
CATEGORIES:Church,Groups
END:VEVENT
BEGIN:VEVENT
DTSTART;TZID=America/New_York:20251223T180000
DTEND;TZID=America/New_York:20251223T190000
DTSTAMP:20260425T100642
CREATED:20240905T121346Z
LAST-MODIFIED:20251023T144445Z
UID:10014159-1766512800-1766516400@epworth.faith
SUMMARY:Alanon Meeting (Branford Room)
DESCRIPTION:
URL:https://epworth.faith/event/alanon-meeting-branford-room/2025-12-23/
LOCATION:Epworth United Methodist Church\, 19285 Holland Glade Road\, Rehoboth Beach\, DE\, 19971\, United States
CATEGORIES:Church,Groups
END:VEVENT
BEGIN:VEVENT
DTSTART;TZID=America/New_York:20251223T190000
DTEND;TZID=America/New_York:20251223T200000
DTSTAMP:20260425T100642
CREATED:20240905T121615Z
LAST-MODIFIED:20251023T144756Z
UID:10014211-1766516400-1766520000@epworth.faith
SUMMARY:Alanon Meeting (Baker Room)
DESCRIPTION:
URL:https://epworth.faith/event/alanon-meeting-baker-room/2025-12-23/
LOCATION:Epworth United Methodist Church\, 19285 Holland Glade Road\, Rehoboth Beach\, DE\, 19971\, United States
CATEGORIES:Church,Groups
END:VEVENT
BEGIN:VEVENT
DTSTART;TZID=America/New_York:20251223T190000
DTEND;TZID=America/New_York:20251223T200000
DTSTAMP:20260425T100642
CREATED:20240905T121808Z
LAST-MODIFIED:20251023T145128Z
UID:10014263-1766516400-1766520000@epworth.faith
SUMMARY:AA Meeting (Music Room)
DESCRIPTION:
URL:https://epworth.faith/event/aa-meeting-music-room/2025-12-23/
LOCATION:Epworth United Methodist Church\, 19285 Holland Glade Road\, Rehoboth Beach\, DE\, 19971\, United States
CATEGORIES:Church,Groups
END:VEVENT
END:VCALENDAR